BEGIN:VCALENDAR
VERSION:2.0
PRODID:-//Salem Home - ECPv6.15.20//NONSGML v1.0//EN
CALSCALE:GREGORIAN
METHOD:PUBLISH
X-ORIGINAL-URL:https://www.salemhome.ca
X-WR-CALDESC:Events for Salem Home
REFRESH-INTERVAL;VALUE=DURATION:PT1H
X-Robots-Tag:noindex
X-PUBLISHED-TTL:PT1H
BEGIN:VTIMEZONE
TZID:America/Winnipeg
BEGIN:DAYLIGHT
TZOFFSETFROM:-0600
TZOFFSETTO:-0500
TZNAME:CDT
DTSTART:20240310T080000
END:DAYLIGHT
BEGIN:STANDARD
TZOFFSETFROM:-0500
TZOFFSETTO:-0600
TZNAME:CST
DTSTART:20241103T070000
END:STANDARD
BEGIN:DAYLIGHT
TZOFFSETFROM:-0600
TZOFFSETTO:-0500
TZNAME:CDT
DTSTART:20250309T080000
END:DAYLIGHT
BEGIN:STANDARD
TZOFFSETFROM:-0500
TZOFFSETTO:-0600
TZNAME:CST
DTSTART:20251102T070000
END:STANDARD
BEGIN:DAYLIGHT
TZOFFSETFROM:-0600
TZOFFSETTO:-0500
TZNAME:CDT
DTSTART:20260308T080000
END:DAYLIGHT
BEGIN:STANDARD
TZOFFSETFROM:-0500
TZOFFSETTO:-0600
TZNAME:CST
DTSTART:20261101T070000
END:STANDARD
END:VTIMEZONE
BEGIN:VEVENT
DTSTART;TZID=America/Winnipeg:20251028T100000
DTEND;TZID=America/Winnipeg:20251028T110000
DTSTAMP:20260425T210054
CREATED:20250821T135935Z
LAST-MODIFIED:20250909T150002Z
UID:56927-1761645600-1761649200@www.salemhome.ca
SUMMARY:Move With Grace
DESCRIPTION:
URL:https://www.salemhome.ca/event/move-with-grace-180/
CATEGORIES:Evergreen
END:VEVENT
BEGIN:VEVENT
DTSTART;TZID=America/Winnipeg:20251028T100000
DTEND;TZID=America/Winnipeg:20251028T110000
DTSTAMP:20260425T210054
CREATED:20250822T141431Z
LAST-MODIFIED:20251028T101400Z
UID:56961-1761645600-1761649200@www.salemhome.ca
SUMMARY:Men's Coffee Shop
DESCRIPTION:
URL:https://www.salemhome.ca/event/mens-coffee-shop-1057/
CATEGORIES:Evergreen
END:VEVENT
BEGIN:VEVENT
DTSTART;TZID=America/Winnipeg:20251028T111500
DTEND;TZID=America/Winnipeg:20251028T121500
DTSTAMP:20260425T210054
CREATED:20251021T094459Z
LAST-MODIFIED:20251028T101400Z
UID:58658-1761650100-1761653700@www.salemhome.ca
SUMMARY:Meet & Greet
DESCRIPTION:
URL:https://www.salemhome.ca/event/meet-greet-2/
CATEGORIES:Evergreen
END:VEVENT
BEGIN:VEVENT
DTSTART;TZID=America/Winnipeg:20251028T150000
DTEND;TZID=America/Winnipeg:20251028T160000
DTSTAMP:20260425T210054
CREATED:20251021T094459Z
LAST-MODIFIED:20251028T101400Z
UID:58659-1761663600-1761667200@www.salemhome.ca
SUMMARY:Bowling
DESCRIPTION:
URL:https://www.salemhome.ca/event/bowling-38/
CATEGORIES:Evergreen
END:VEVENT
BEGIN:VEVENT
DTSTART;TZID=America/Winnipeg:20251028T180000
DTEND;TZID=America/Winnipeg:20251028T190000
DTSTAMP:20260425T210054
CREATED:20250822T141431Z
LAST-MODIFIED:20251028T101400Z
UID:56963-1761674400-1761678000@www.salemhome.ca
SUMMARY:Movie Night
DESCRIPTION:
URL:https://www.salemhome.ca/event/movie-night-146/
CATEGORIES:Evergreen
END:VEVENT
BEGIN:VEVENT
DTSTART;TZID=America/Winnipeg:20251028T183000
DTEND;TZID=America/Winnipeg:20251028T193000
DTSTAMP:20260425T210054
CREATED:20251021T094459Z
LAST-MODIFIED:20251028T101400Z
UID:58660-1761676200-1761679800@www.salemhome.ca
SUMMARY:Hymns with Friends
DESCRIPTION:
URL:https://www.salemhome.ca/event/hymns-with-friends-15/
CATEGORIES:Evergreen
END:VEVENT
BEGIN:VEVENT
DTSTART;VALUE=DATE:20251029
DTEND;VALUE=DATE:20251030
DTSTAMP:20260425T210054
CREATED:20251021T094500Z
LAST-MODIFIED:20251029T101400Z
UID:58661-1761696000-1761782399@www.salemhome.ca
SUMMARY:Pumpking Voting
DESCRIPTION:
URL:https://www.salemhome.ca/event/pumpking-voting/
CATEGORIES:Evergreen
END:VEVENT
BEGIN:VEVENT
DTSTART;TZID=America/Winnipeg:20251029T100000
DTEND;TZID=America/Winnipeg:20251029T110000
DTSTAMP:20260425T210054
CREATED:20250822T141432Z
LAST-MODIFIED:20251029T101401Z
UID:56964-1761732000-1761735600@www.salemhome.ca
SUMMARY:John & Irene Plantz
DESCRIPTION:
URL:https://www.salemhome.ca/event/john-irene-plantz-66/
CATEGORIES:Evergreen
END:VEVENT
BEGIN:VEVENT
DTSTART;TZID=America/Winnipeg:20251029T100000
DTEND;TZID=America/Winnipeg:20251029T110000
DTSTAMP:20260425T210054
CREATED:20250822T141432Z
LAST-MODIFIED:20251029T101401Z
UID:56965-1761732000-1761735600@www.salemhome.ca
SUMMARY:Men's Coffee Shop
DESCRIPTION:
URL:https://www.salemhome.ca/event/mens-coffee-shop-1058/
CATEGORIES:Evergreen
END:VEVENT
BEGIN:VEVENT
DTSTART;TZID=America/Winnipeg:20251029T144500
DTEND;TZID=America/Winnipeg:20251029T154500
DTSTAMP:20260425T210054
CREATED:20250823T141435Z
LAST-MODIFIED:20251029T101402Z
UID:56987-1761749100-1761752700@www.salemhome.ca
SUMMARY:Bingo
DESCRIPTION:
URL:https://www.salemhome.ca/event/bingo-985/
CATEGORIES:Evergreen
END:VEVENT
BEGIN:VEVENT
DTSTART;TZID=America/Winnipeg:20251029T144500
DTEND;TZID=America/Winnipeg:20251029T154500
DTSTAMP:20260425T210054
CREATED:20250823T141435Z
LAST-MODIFIED:20250825T142928Z
UID:56988-1761749100-1761752700@www.salemhome.ca
SUMMARY:Men's Group
DESCRIPTION:Located on Maple North. Residents from all care areas are welcome to attend.
URL:https://www.salemhome.ca/event/mens-group-946/
CATEGORIES:Evergreen
END:VEVENT
BEGIN:VEVENT
DTSTART;TZID=America/Winnipeg:20251029T144500
DTEND;TZID=America/Winnipeg:20251029T154500
DTSTAMP:20260425T210054
CREATED:20250823T141436Z
LAST-MODIFIED:20251029T101401Z
UID:56989-1761749100-1761752700@www.salemhome.ca
SUMMARY:Men's Coffee Shop
DESCRIPTION:
URL:https://www.salemhome.ca/event/mens-coffee-shop-1060/
CATEGORIES:Evergreen
END:VEVENT
BEGIN:VEVENT
DTSTART;VALUE=DATE:20251030
DTEND;VALUE=DATE:20251031
DTSTAMP:20260425T210054
CREATED:20251021T094501Z
LAST-MODIFIED:20251030T101435Z
UID:58665-1761782400-1761868799@www.salemhome.ca
SUMMARY:Pumpkin  Voting
DESCRIPTION:
URL:https://www.salemhome.ca/event/pumpkin-voting-8/
CATEGORIES:Evergreen
END:VEVENT
BEGIN:VEVENT
DTSTART;TZID=America/Winnipeg:20251030T100000
DTEND;TZID=America/Winnipeg:20251030T110000
DTSTAMP:20260425T210054
CREATED:20250823T141436Z
LAST-MODIFIED:20251030T101435Z
UID:56991-1761818400-1761822000@www.salemhome.ca
SUMMARY:Hymn Sing
DESCRIPTION:
URL:https://www.salemhome.ca/event/hymn-sing-636/
CATEGORIES:Evergreen
END:VEVENT
BEGIN:VEVENT
DTSTART;TZID=America/Winnipeg:20251030T103000
DTEND;TZID=America/Winnipeg:20251030T113000
DTSTAMP:20260425T210054
CREATED:20250824T142932Z
LAST-MODIFIED:20251030T101435Z
UID:57010-1761820200-1761823800@www.salemhome.ca
SUMMARY:Sommerfeld Mennonite Church
DESCRIPTION:
URL:https://www.salemhome.ca/event/chapel-767/
CATEGORIES:Evergreen
END:VEVENT
BEGIN:VEVENT
DTSTART;TZID=America/Winnipeg:20251030T110000
DTEND;TZID=America/Winnipeg:20251030T120000
DTSTAMP:20260425T210054
CREATED:20250823T141436Z
LAST-MODIFIED:20251030T101435Z
UID:56990-1761822000-1761825600@www.salemhome.ca
SUMMARY:Spa Day
DESCRIPTION:
URL:https://www.salemhome.ca/event/spa-day-144/
CATEGORIES:Evergreen
END:VEVENT
BEGIN:VEVENT
DTSTART;TZID=America/Winnipeg:20251030T150000
DTEND;TZID=America/Winnipeg:20251030T160000
DTSTAMP:20260425T210054
CREATED:20251021T094501Z
LAST-MODIFIED:20251030T101435Z
UID:58663-1761836400-1761840000@www.salemhome.ca
SUMMARY:Fall Poems
DESCRIPTION:
URL:https://www.salemhome.ca/event/fall-poems/
CATEGORIES:Evergreen
END:VEVENT
BEGIN:VEVENT
DTSTART;VALUE=DATE:20251031
DTEND;VALUE=DATE:20251101
DTSTAMP:20260425T210054
CREATED:20251021T094501Z
LAST-MODIFIED:20251031T102901Z
UID:58664-1761868800-1761955199@www.salemhome.ca
SUMMARY:Pumpkin Winner!
DESCRIPTION:
URL:https://www.salemhome.ca/event/pumpkin-winner-2/
CATEGORIES:Evergreen
END:VEVENT
BEGIN:VEVENT
DTSTART;TZID=America/Winnipeg:20251031T100000
DTEND;TZID=America/Winnipeg:20251031T110000
DTSTAMP:20260425T210054
CREATED:20250824T142933Z
LAST-MODIFIED:20251031T102901Z
UID:57012-1761904800-1761908400@www.salemhome.ca
SUMMARY:Men's Coffee Shop
DESCRIPTION:
URL:https://www.salemhome.ca/event/mens-coffee-shop-1062/
CATEGORIES:Evergreen
END:VEVENT
BEGIN:VEVENT
DTSTART;TZID=America/Winnipeg:20251031T101500
DTEND;TZID=America/Winnipeg:20251031T104500
DTSTAMP:20260425T210054
CREATED:20250824T142933Z
LAST-MODIFIED:20251031T102901Z
UID:57013-1761905700-1761907500@www.salemhome.ca
SUMMARY:Chapel
DESCRIPTION:
URL:https://www.salemhome.ca/event/chapel-768/
CATEGORIES:Evergreen
END:VEVENT
BEGIN:VEVENT
DTSTART;TZID=America/Winnipeg:20251031T110000
DTEND;TZID=America/Winnipeg:20251031T120000
DTSTAMP:20260425T210054
CREATED:20250825T142929Z
LAST-MODIFIED:20251031T102902Z
UID:57029-1761908400-1761912000@www.salemhome.ca
SUMMARY:Music by Dave Nickel
DESCRIPTION:
URL:https://www.salemhome.ca/event/music-by-dave-nickel-147/
CATEGORIES:Evergreen
END:VEVENT
BEGIN:VEVENT
DTSTART;TZID=America/Winnipeg:20251031T140000
DTEND;TZID=America/Winnipeg:20251031T150000
DTSTAMP:20260425T210054
CREATED:20250825T142929Z
LAST-MODIFIED:20251031T102902Z
UID:57030-1761919200-1761922800@www.salemhome.ca
SUMMARY:Music Therapy
DESCRIPTION:
URL:https://www.salemhome.ca/event/music-therapy-279/
CATEGORIES:Evergreen
END:VEVENT
BEGIN:VEVENT
DTSTART;TZID=America/Winnipeg:20251031T150000
DTEND;TZID=America/Winnipeg:20251031T160000
DTSTAMP:20260425T210054
CREATED:20250829T142936Z
LAST-MODIFIED:20251031T102902Z
UID:57381-1761922800-1761926400@www.salemhome.ca
SUMMARY:Spotify Favorites
DESCRIPTION:
URL:https://www.salemhome.ca/event/spotify-favorites-15/
CATEGORIES:Evergreen
END:VEVENT
BEGIN:VEVENT
DTSTART;TZID=America/Winnipeg:20251101T100000
DTEND;TZID=America/Winnipeg:20251101T110000
DTSTAMP:20260425T210054
CREATED:20251021T094502Z
LAST-MODIFIED:20251101T102930Z
UID:58666-1761991200-1761994800@www.salemhome.ca
SUMMARY:Devotions & Praise
DESCRIPTION:
URL:https://www.salemhome.ca/event/devotions-praise-3/
CATEGORIES:Evergreen
END:VEVENT
BEGIN:VEVENT
DTSTART;TZID=America/Winnipeg:20251101T150000
DTEND;TZID=America/Winnipeg:20251101T160000
DTSTAMP:20260425T210054
CREATED:20250830T142933Z
LAST-MODIFIED:20251101T102930Z
UID:57397-1762009200-1762012800@www.salemhome.ca
SUMMARY:Bingo
DESCRIPTION:
URL:https://www.salemhome.ca/event/bingo-989/
CATEGORIES:Evergreen
END:VEVENT
BEGIN:VEVENT
DTSTART;VALUE=DATE:20251102
DTEND;VALUE=DATE:20251103
DTSTAMP:20260425T210054
CREATED:20250830T142934Z
LAST-MODIFIED:20251102T102904Z
UID:57398-1762041600-1762127999@www.salemhome.ca
SUMMARY:Day of Rest
DESCRIPTION:
URL:https://www.salemhome.ca/event/day-of-rest-399/
CATEGORIES:Evergreen
END:VEVENT
BEGIN:VEVENT
DTSTART;TZID=America/Winnipeg:20251102T094500
DTEND;TZID=America/Winnipeg:20251102T104500
DTSTAMP:20260425T210054
CREATED:20251029T101405Z
LAST-MODIFIED:20251102T102903Z
UID:59229-1762076700-1762080300@www.salemhome.ca
SUMMARY:Zion Mennonite Church
DESCRIPTION:
URL:https://www.salemhome.ca/event/zion-mennonite-church-4/
CATEGORIES:Evergreen
END:VEVENT
BEGIN:VEVENT
DTSTART;TZID=America/Winnipeg:20251103T100000
DTEND;TZID=America/Winnipeg:20251103T110000
DTSTAMP:20260425T210054
CREATED:20250830T142934Z
LAST-MODIFIED:20251103T102932Z
UID:57399-1762164000-1762167600@www.salemhome.ca
SUMMARY:Men's Coffee Shop
DESCRIPTION:
URL:https://www.salemhome.ca/event/mens-coffee-shop-1086/
CATEGORIES:Evergreen
END:VEVENT
BEGIN:VEVENT
DTSTART;TZID=America/Winnipeg:20251103T100000
DTEND;TZID=America/Winnipeg:20251103T110000
DTSTAMP:20260425T210054
CREATED:20251029T101406Z
LAST-MODIFIED:20251103T102932Z
UID:59230-1762164000-1762167600@www.salemhome.ca
SUMMARY:Emerado Students
DESCRIPTION:
URL:https://www.salemhome.ca/event/emerado-students-31/
CATEGORIES:Evergreen
END:VEVENT
BEGIN:VEVENT
DTSTART;TZID=America/Winnipeg:20251103T144500
DTEND;TZID=America/Winnipeg:20251103T154500
DTSTAMP:20260425T210054
CREATED:20250830T142934Z
LAST-MODIFIED:20251103T102932Z
UID:57400-1762181100-1762184700@www.salemhome.ca
SUMMARY:Men's Group
DESCRIPTION:Located on Evergreen\, residents from all care areas welcome.
URL:https://www.salemhome.ca/event/mens-group-951/
CATEGORIES:Evergreen
END:VEVENT
END:VCALENDAR