BEGIN:VCALENDAR
VERSION:2.0
PRODID:-//Salem Home - ECPv6.15.20//NONSGML v1.0//EN
CALSCALE:GREGORIAN
METHOD:PUBLISH
X-ORIGINAL-URL:https://www.salemhome.ca
X-WR-CALDESC:Events for Salem Home
REFRESH-INTERVAL;VALUE=DURATION:PT1H
X-Robots-Tag:noindex
X-PUBLISHED-TTL:PT1H
BEGIN:VTIMEZONE
TZID:America/Winnipeg
BEGIN:DAYLIGHT
TZOFFSETFROM:-0600
TZOFFSETTO:-0500
TZNAME:CDT
DTSTART:20240310T080000
END:DAYLIGHT
BEGIN:STANDARD
TZOFFSETFROM:-0500
TZOFFSETTO:-0600
TZNAME:CST
DTSTART:20241103T070000
END:STANDARD
BEGIN:DAYLIGHT
TZOFFSETFROM:-0600
TZOFFSETTO:-0500
TZNAME:CDT
DTSTART:20250309T080000
END:DAYLIGHT
BEGIN:STANDARD
TZOFFSETFROM:-0500
TZOFFSETTO:-0600
TZNAME:CST
DTSTART:20251102T070000
END:STANDARD
BEGIN:DAYLIGHT
TZOFFSETFROM:-0600
TZOFFSETTO:-0500
TZNAME:CDT
DTSTART:20260308T080000
END:DAYLIGHT
BEGIN:STANDARD
TZOFFSETFROM:-0500
TZOFFSETTO:-0600
TZNAME:CST
DTSTART:20261101T070000
END:STANDARD
END:VTIMEZONE
BEGIN:VEVENT
DTSTART;TZID=America/Winnipeg:20251103T100000
DTEND;TZID=America/Winnipeg:20251103T110000
DTSTAMP:20260425T174345
CREATED:20250830T142934Z
LAST-MODIFIED:20251103T102932Z
UID:57399-1762164000-1762167600@www.salemhome.ca
SUMMARY:Men's Coffee Shop
DESCRIPTION:
URL:https://www.salemhome.ca/event/mens-coffee-shop-1086/
CATEGORIES:Evergreen
END:VEVENT
BEGIN:VEVENT
DTSTART;TZID=America/Winnipeg:20251103T100000
DTEND;TZID=America/Winnipeg:20251103T110000
DTSTAMP:20260425T174345
CREATED:20251029T101406Z
LAST-MODIFIED:20251103T102932Z
UID:59230-1762164000-1762167600@www.salemhome.ca
SUMMARY:Emerado Students
DESCRIPTION:
URL:https://www.salemhome.ca/event/emerado-students-31/
CATEGORIES:Evergreen
END:VEVENT
BEGIN:VEVENT
DTSTART;TZID=America/Winnipeg:20251103T144500
DTEND;TZID=America/Winnipeg:20251103T154500
DTSTAMP:20260425T174345
CREATED:20250830T142934Z
LAST-MODIFIED:20251103T102932Z
UID:57400-1762181100-1762184700@www.salemhome.ca
SUMMARY:Men's Group
DESCRIPTION:Located on Evergreen\, residents from all care areas welcome.
URL:https://www.salemhome.ca/event/mens-group-951/
CATEGORIES:Evergreen
END:VEVENT
BEGIN:VEVENT
DTSTART;TZID=America/Winnipeg:20251103T150000
DTEND;TZID=America/Winnipeg:20251103T160000
DTSTAMP:20260425T174345
CREATED:20251029T101406Z
LAST-MODIFIED:20251103T102932Z
UID:59231-1762182000-1762185600@www.salemhome.ca
SUMMARY:Paint by Numbers
DESCRIPTION:
URL:https://www.salemhome.ca/event/paint-by-numbers/
CATEGORIES:Evergreen
END:VEVENT
BEGIN:VEVENT
DTSTART;TZID=America/Winnipeg:20251104T100000
DTEND;TZID=America/Winnipeg:20251104T110000
DTSTAMP:20260425T174345
CREATED:20250831T142932Z
LAST-MODIFIED:20251104T102928Z
UID:57420-1762250400-1762254000@www.salemhome.ca
SUMMARY:Men's Coffee Shop
DESCRIPTION:
URL:https://www.salemhome.ca/event/mens-coffee-shop-1087/
CATEGORIES:Evergreen
END:VEVENT
BEGIN:VEVENT
DTSTART;TZID=America/Winnipeg:20251104T100000
DTEND;TZID=America/Winnipeg:20251104T110000
DTSTAMP:20260425T174345
CREATED:20250831T142932Z
LAST-MODIFIED:20251029T101406Z
UID:57419-1762250400-1762254000@www.salemhome.ca
SUMMARY:Move With Grace
DESCRIPTION:
URL:https://www.salemhome.ca/event/move-with-grace-184/
CATEGORIES:Evergreen
END:VEVENT
BEGIN:VEVENT
DTSTART;TZID=America/Winnipeg:20251104T111500
DTEND;TZID=America/Winnipeg:20251104T121500
DTSTAMP:20260425T174345
CREATED:20251021T094503Z
LAST-MODIFIED:20251104T102929Z
UID:58667-1762254900-1762258500@www.salemhome.ca
SUMMARY:Meet & Greet
DESCRIPTION:
URL:https://www.salemhome.ca/event/meet-greet-3/
CATEGORIES:Evergreen
END:VEVENT
BEGIN:VEVENT
DTSTART;TZID=America/Winnipeg:20251104T150000
DTEND;TZID=America/Winnipeg:20251104T160000
DTSTAMP:20260425T174345
CREATED:20251030T101410Z
LAST-MODIFIED:20251104T102929Z
UID:59337-1762268400-1762272000@www.salemhome.ca
SUMMARY:True Or False
DESCRIPTION:
URL:https://www.salemhome.ca/event/true-or-false-4/
CATEGORIES:Evergreen
END:VEVENT
BEGIN:VEVENT
DTSTART;TZID=America/Winnipeg:20251104T180000
DTEND;TZID=America/Winnipeg:20251104T190000
DTSTAMP:20260425T174345
CREATED:20250901T144428Z
LAST-MODIFIED:20251104T102929Z
UID:57431-1762279200-1762282800@www.salemhome.ca
SUMMARY:Movie Night
DESCRIPTION:
URL:https://www.salemhome.ca/event/movie-night-147/
CATEGORIES:Evergreen
END:VEVENT
BEGIN:VEVENT
DTSTART;TZID=America/Winnipeg:20251105T100000
DTEND;TZID=America/Winnipeg:20251105T110000
DTSTAMP:20260425T174345
CREATED:20250901T144428Z
LAST-MODIFIED:20251105T102930Z
UID:57432-1762336800-1762340400@www.salemhome.ca
SUMMARY:John & Irene Plantz
DESCRIPTION:
URL:https://www.salemhome.ca/event/john-irene-plantz-67/
CATEGORIES:Evergreen
END:VEVENT
BEGIN:VEVENT
DTSTART;TZID=America/Winnipeg:20251105T100000
DTEND;TZID=America/Winnipeg:20251105T110000
DTSTAMP:20260425T174345
CREATED:20250902T144428Z
LAST-MODIFIED:20251105T102930Z
UID:57443-1762336800-1762340400@www.salemhome.ca
SUMMARY:Men's Coffee Shop
DESCRIPTION:
URL:https://www.salemhome.ca/event/mens-coffee-shop-1088/
CATEGORIES:Evergreen
END:VEVENT
BEGIN:VEVENT
DTSTART;TZID=America/Winnipeg:20251105T144500
DTEND;TZID=America/Winnipeg:20251105T154500
DTSTAMP:20260425T174345
CREATED:20250903T144433Z
LAST-MODIFIED:20251105T102930Z
UID:57488-1762353900-1762357500@www.salemhome.ca
SUMMARY:Men's Coffee Shop
DESCRIPTION:
URL:https://www.salemhome.ca/event/mens-coffee-shop-1090/
CATEGORIES:Evergreen
END:VEVENT
BEGIN:VEVENT
DTSTART;TZID=America/Winnipeg:20251105T144500
DTEND;TZID=America/Winnipeg:20251105T154500
DTSTAMP:20260425T174345
CREATED:20250903T144434Z
LAST-MODIFIED:20251105T102930Z
UID:57489-1762353900-1762357500@www.salemhome.ca
SUMMARY:Bingo
DESCRIPTION:
URL:https://www.salemhome.ca/event/bingo-990/
CATEGORIES:Evergreen
END:VEVENT
BEGIN:VEVENT
DTSTART;TZID=America/Winnipeg:20251106T100000
DTEND;TZID=America/Winnipeg:20251106T110000
DTSTAMP:20260425T174345
CREATED:20250903T144434Z
LAST-MODIFIED:20251106T104402Z
UID:57490-1762423200-1762426800@www.salemhome.ca
SUMMARY:Hymn Sing
DESCRIPTION:
URL:https://www.salemhome.ca/event/hymn-sing-641/
CATEGORIES:Evergreen
END:VEVENT
BEGIN:VEVENT
DTSTART;TZID=America/Winnipeg:20251106T103000
DTEND;TZID=America/Winnipeg:20251106T113000
DTSTAMP:20260425T174345
CREATED:20250904T144423Z
LAST-MODIFIED:20251106T104401Z
UID:57515-1762425000-1762428600@www.salemhome.ca
SUMMARY:Winkler MB Church
DESCRIPTION:
URL:https://www.salemhome.ca/event/chapel-769/
CATEGORIES:Evergreen
END:VEVENT
BEGIN:VEVENT
DTSTART;TZID=America/Winnipeg:20251106T110000
DTEND;TZID=America/Winnipeg:20251106T120000
DTSTAMP:20260425T174345
CREATED:20250904T144423Z
LAST-MODIFIED:20251106T104402Z
UID:57516-1762426800-1762430400@www.salemhome.ca
SUMMARY:Spa Day
DESCRIPTION:
URL:https://www.salemhome.ca/event/spa-day-145/
CATEGORIES:Evergreen
END:VEVENT
BEGIN:VEVENT
DTSTART;TZID=America/Winnipeg:20251106T150000
DTEND;TZID=America/Winnipeg:20251106T160000
DTSTAMP:20260425T174345
CREATED:20251030T101411Z
LAST-MODIFIED:20251106T104402Z
UID:59338-1762441200-1762444800@www.salemhome.ca
SUMMARY:Card Games
DESCRIPTION:
URL:https://www.salemhome.ca/event/card-games-8/
CATEGORIES:Evergreen
END:VEVENT
BEGIN:VEVENT
DTSTART;TZID=America/Winnipeg:20251106T160000
DTEND;TZID=America/Winnipeg:20251106T170000
DTSTAMP:20260425T174345
CREATED:20251030T101411Z
LAST-MODIFIED:20251106T104402Z
UID:59339-1762444800-1762448400@www.salemhome.ca
SUMMARY:Joan Van derLinde
DESCRIPTION:
URL:https://www.salemhome.ca/event/joan-van-derlinde/
CATEGORIES:Evergreen
END:VEVENT
BEGIN:VEVENT
DTSTART;TZID=America/Winnipeg:20251107T100000
DTEND;TZID=America/Winnipeg:20251107T110000
DTSTAMP:20260425T174345
CREATED:20250905T145937Z
LAST-MODIFIED:20251107T104429Z
UID:57547-1762509600-1762513200@www.salemhome.ca
SUMMARY:Men's Coffee Shop
DESCRIPTION:
URL:https://www.salemhome.ca/event/mens-coffee-shop-1091/
CATEGORIES:Evergreen
END:VEVENT
BEGIN:VEVENT
DTSTART;TZID=America/Winnipeg:20251107T101500
DTEND;TZID=America/Winnipeg:20251107T104500
DTSTAMP:20260425T174345
CREATED:20250904T144424Z
LAST-MODIFIED:20251107T104429Z
UID:57517-1762510500-1762512300@www.salemhome.ca
SUMMARY:Chapel
DESCRIPTION:
URL:https://www.salemhome.ca/event/chapel-770/
CATEGORIES:Evergreen
END:VEVENT
BEGIN:VEVENT
DTSTART;TZID=America/Winnipeg:20251107T110000
DTEND;TZID=America/Winnipeg:20251107T120000
DTSTAMP:20260425T174345
CREATED:20250904T144424Z
LAST-MODIFIED:20251107T104429Z
UID:57518-1762513200-1762516800@www.salemhome.ca
SUMMARY:Music by Dave Nickel
DESCRIPTION:
URL:https://www.salemhome.ca/event/music-by-dave-nickel-148/
CATEGORIES:Evergreen
END:VEVENT
BEGIN:VEVENT
DTSTART;TZID=America/Winnipeg:20251107T140000
DTEND;TZID=America/Winnipeg:20251107T150000
DTSTAMP:20260425T174345
CREATED:20250905T145938Z
LAST-MODIFIED:20251107T104429Z
UID:57548-1762524000-1762527600@www.salemhome.ca
SUMMARY:Music Therapy
DESCRIPTION:
URL:https://www.salemhome.ca/event/music-therapy-280/
CATEGORIES:Evergreen
END:VEVENT
BEGIN:VEVENT
DTSTART;TZID=America/Winnipeg:20251107T150000
DTEND;TZID=America/Winnipeg:20251107T160000
DTSTAMP:20260425T174345
CREATED:20250905T145939Z
LAST-MODIFIED:20251107T104429Z
UID:57549-1762527600-1762531200@www.salemhome.ca
SUMMARY:Spotify Favorites
DESCRIPTION:
URL:https://www.salemhome.ca/event/spotify-favorites-16/
CATEGORIES:Evergreen
END:VEVENT
BEGIN:VEVENT
DTSTART;TZID=America/Winnipeg:20251108T100000
DTEND;TZID=America/Winnipeg:20251108T110000
DTSTAMP:20260425T174345
CREATED:20251021T094505Z
LAST-MODIFIED:20251108T104400Z
UID:58668-1762596000-1762599600@www.salemhome.ca
SUMMARY:Devotions & Praise
DESCRIPTION:
URL:https://www.salemhome.ca/event/devotions-praise-4/
CATEGORIES:Evergreen
END:VEVENT
BEGIN:VEVENT
DTSTART;TZID=America/Winnipeg:20251108T150000
DTEND;TZID=America/Winnipeg:20251108T160000
DTSTAMP:20260425T174345
CREATED:20250905T145939Z
LAST-MODIFIED:20251108T104400Z
UID:57550-1762614000-1762617600@www.salemhome.ca
SUMMARY:Bingo
DESCRIPTION:
URL:https://www.salemhome.ca/event/bingo-993/
CATEGORIES:Evergreen
END:VEVENT
BEGIN:VEVENT
DTSTART;VALUE=DATE:20251109
DTEND;VALUE=DATE:20251110
DTSTAMP:20260425T174345
CREATED:20250906T145927Z
LAST-MODIFIED:20251109T104403Z
UID:57572-1762646400-1762732799@www.salemhome.ca
SUMMARY:Day of Rest
DESCRIPTION:
URL:https://www.salemhome.ca/event/day-of-rest-402/
CATEGORIES:Evergreen
END:VEVENT
BEGIN:VEVENT
DTSTART;TZID=America/Winnipeg:20251109T103000
DTEND;TZID=America/Winnipeg:20251109T113000
DTSTAMP:20260425T174345
CREATED:20251029T101409Z
LAST-MODIFIED:20251109T104403Z
UID:59232-1762684200-1762687800@www.salemhome.ca
SUMMARY:German Old Colony
DESCRIPTION:
URL:https://www.salemhome.ca/event/german-old-colony-4/
CATEGORIES:Evergreen
END:VEVENT
BEGIN:VEVENT
DTSTART;TZID=America/Winnipeg:20251110T100000
DTEND;TZID=America/Winnipeg:20251110T110000
DTSTAMP:20260425T174345
CREATED:20250906T145927Z
LAST-MODIFIED:20251110T104400Z
UID:57573-1762768800-1762772400@www.salemhome.ca
SUMMARY:Men's Coffee Shop
DESCRIPTION:
URL:https://www.salemhome.ca/event/mens-coffee-shop-1094/
CATEGORIES:Evergreen
END:VEVENT
BEGIN:VEVENT
DTSTART;TZID=America/Winnipeg:20251110T100000
DTEND;TZID=America/Winnipeg:20251110T110000
DTSTAMP:20260425T174345
CREATED:20251030T101412Z
LAST-MODIFIED:20251110T104400Z
UID:59341-1762768800-1762772400@www.salemhome.ca
SUMMARY:Craft Time
DESCRIPTION:
URL:https://www.salemhome.ca/event/craft-time/
CATEGORIES:Evergreen
END:VEVENT
BEGIN:VEVENT
DTSTART;TZID=America/Winnipeg:20251110T144500
DTEND;TZID=America/Winnipeg:20251110T154500
DTSTAMP:20260425T174345
CREATED:20250906T145928Z
LAST-MODIFIED:20251110T104400Z
UID:57574-1762785900-1762789500@www.salemhome.ca
SUMMARY:Men's Group
DESCRIPTION:Located on Evergreen\, residents from all care areas welcome.
URL:https://www.salemhome.ca/event/mens-group-954/
CATEGORIES:Evergreen
END:VEVENT
END:VCALENDAR