BEGIN:VCALENDAR
VERSION:2.0
PRODID:-//Salem Home - ECPv6.15.20//NONSGML v1.0//EN
CALSCALE:GREGORIAN
METHOD:PUBLISH
X-WR-CALNAME:Salem Home
X-ORIGINAL-URL:https://www.salemhome.ca
X-WR-CALDESC:Events for Salem Home
REFRESH-INTERVAL;VALUE=DURATION:PT1H
X-Robots-Tag:noindex
X-PUBLISHED-TTL:PT1H
BEGIN:VTIMEZONE
TZID:America/Winnipeg
BEGIN:DAYLIGHT
TZOFFSETFROM:-0600
TZOFFSETTO:-0500
TZNAME:CDT
DTSTART:20240310T080000
END:DAYLIGHT
BEGIN:STANDARD
TZOFFSETFROM:-0500
TZOFFSETTO:-0600
TZNAME:CST
DTSTART:20241103T070000
END:STANDARD
BEGIN:DAYLIGHT
TZOFFSETFROM:-0600
TZOFFSETTO:-0500
TZNAME:CDT
DTSTART:20250309T080000
END:DAYLIGHT
BEGIN:STANDARD
TZOFFSETFROM:-0500
TZOFFSETTO:-0600
TZNAME:CST
DTSTART:20251102T070000
END:STANDARD
BEGIN:DAYLIGHT
TZOFFSETFROM:-0600
TZOFFSETTO:-0500
TZNAME:CDT
DTSTART:20260308T080000
END:DAYLIGHT
BEGIN:STANDARD
TZOFFSETFROM:-0500
TZOFFSETTO:-0600
TZNAME:CST
DTSTART:20261101T070000
END:STANDARD
END:VTIMEZONE
BEGIN:VEVENT
DTSTART;TZID=America/Winnipeg:20250113T144500
DTEND;TZID=America/Winnipeg:20250113T154500
DTSTAMP:20260425T073315
CREATED:20241019T051526Z
LAST-MODIFIED:20250113T091518Z
UID:45858-1736779500-1736783100@www.salemhome.ca
SUMMARY:Men's Group
DESCRIPTION:Located on Evergreen\, residents from all care areas welcome.
URL:https://www.salemhome.ca/event/mens-group-617/
CATEGORIES:Evergreen
END:VEVENT
BEGIN:VEVENT
DTSTART;TZID=America/Winnipeg:20250113T150000
DTEND;TZID=America/Winnipeg:20250113T160000
DTSTAMP:20260425T073315
CREATED:20250103T084517Z
LAST-MODIFIED:20250113T091518Z
UID:48379-1736780400-1736784000@www.salemhome.ca
SUMMARY:Start A Puzzle
DESCRIPTION:
URL:https://www.salemhome.ca/event/start-a-puzzle/
CATEGORIES:Evergreen
END:VEVENT
BEGIN:VEVENT
DTSTART;TZID=America/Winnipeg:20250114T100000
DTEND;TZID=America/Winnipeg:20250114T110000
DTSTAMP:20260425T073315
CREATED:20241019T051526Z
LAST-MODIFIED:20250114T091530Z
UID:45859-1736848800-1736852400@www.salemhome.ca
SUMMARY:Men's Coffee Shop
DESCRIPTION:
URL:https://www.salemhome.ca/event/mens-coffee-shop-580/
CATEGORIES:Evergreen
END:VEVENT
BEGIN:VEVENT
DTSTART;TZID=America/Winnipeg:20250114T150000
DTEND;TZID=America/Winnipeg:20250114T160000
DTSTAMP:20260425T073315
CREATED:20250103T084517Z
LAST-MODIFIED:20250114T091530Z
UID:48380-1736866800-1736870400@www.salemhome.ca
SUMMARY:Hang Man
DESCRIPTION:
URL:https://www.salemhome.ca/event/hang-man-5/
CATEGORIES:Evergreen
END:VEVENT
BEGIN:VEVENT
DTSTART;TZID=America/Winnipeg:20250114T180000
DTEND;TZID=America/Winnipeg:20250114T190000
DTSTAMP:20260425T073315
CREATED:20241019T051526Z
LAST-MODIFIED:20250114T091530Z
UID:45860-1736877600-1736881200@www.salemhome.ca
SUMMARY:Movie Night
DESCRIPTION:
URL:https://www.salemhome.ca/event/movie-night-104/
CATEGORIES:Evergreen
END:VEVENT
BEGIN:VEVENT
DTSTART;TZID=America/Winnipeg:20250115T100000
DTEND;TZID=America/Winnipeg:20250115T110000
DTSTAMP:20260425T073315
CREATED:20241020T053027Z
LAST-MODIFIED:20250115T091516Z
UID:45895-1736935200-1736938800@www.salemhome.ca
SUMMARY:Men's Coffee Shop
DESCRIPTION:
URL:https://www.salemhome.ca/event/mens-coffee-shop-583/
CATEGORIES:Evergreen
END:VEVENT
BEGIN:VEVENT
DTSTART;TZID=America/Winnipeg:20250115T100000
DTEND;TZID=America/Winnipeg:20250115T110000
DTSTAMP:20260425T073315
CREATED:20250103T084517Z
LAST-MODIFIED:20250115T091516Z
UID:48381-1736935200-1736938800@www.salemhome.ca
SUMMARY:Sing Along
DESCRIPTION:
URL:https://www.salemhome.ca/event/sing-along-131/
CATEGORIES:Evergreen
END:VEVENT
BEGIN:VEVENT
DTSTART;TZID=America/Winnipeg:20250115T144500
DTEND;TZID=America/Winnipeg:20250115T154500
DTSTAMP:20260425T073315
CREATED:20241020T053027Z
LAST-MODIFIED:20250115T091516Z
UID:45896-1736952300-1736955900@www.salemhome.ca
SUMMARY:Men's Group
DESCRIPTION:Located on Maple North. Residents from all care areas are welcome to attend.
URL:https://www.salemhome.ca/event/mens-group-619/
CATEGORIES:Evergreen
END:VEVENT
BEGIN:VEVENT
DTSTART;TZID=America/Winnipeg:20250115T144500
DTEND;TZID=America/Winnipeg:20250115T154500
DTSTAMP:20260425T073315
CREATED:20241021T053026Z
LAST-MODIFIED:20250115T091516Z
UID:45916-1736952300-1736955900@www.salemhome.ca
SUMMARY:Bingo with Winkler Flyers
DESCRIPTION:
URL:https://www.salemhome.ca/event/bingo-628/
CATEGORIES:Evergreen
END:VEVENT
BEGIN:VEVENT
DTSTART;TZID=America/Winnipeg:20250115T180000
DTEND;TZID=America/Winnipeg:20250115T190000
DTSTAMP:20260425T073315
CREATED:20250103T084517Z
LAST-MODIFIED:20250115T091516Z
UID:48383-1736964000-1736967600@www.salemhome.ca
SUMMARY:Sue Fehr
DESCRIPTION:
URL:https://www.salemhome.ca/event/sue-fehr-3/
CATEGORIES:Evergreen
END:VEVENT
BEGIN:VEVENT
DTSTART;TZID=America/Winnipeg:20250116T103000
DTEND;TZID=America/Winnipeg:20250116T113000
DTSTAMP:20260425T073315
CREATED:20250103T084518Z
LAST-MODIFIED:20250116T091515Z
UID:48384-1737023400-1737027000@www.salemhome.ca
SUMMARY:Chapel: Reinland Mennonite
DESCRIPTION:
URL:https://www.salemhome.ca/event/chapel-reinland-mennonite-99/
CATEGORIES:Evergreen
END:VEVENT
BEGIN:VEVENT
DTSTART;TZID=America/Winnipeg:20250116T110000
DTEND;TZID=America/Winnipeg:20250116T120000
DTSTAMP:20260425T073315
CREATED:20241021T053027Z
LAST-MODIFIED:20250116T091515Z
UID:45918-1737025200-1737028800@www.salemhome.ca
SUMMARY:Spa Day
DESCRIPTION:
URL:https://www.salemhome.ca/event/spa-day-103/
CATEGORIES:Evergreen
END:VEVENT
BEGIN:VEVENT
DTSTART;TZID=America/Winnipeg:20250116T150000
DTEND;TZID=America/Winnipeg:20250116T160000
DTSTAMP:20260425T073315
CREATED:20250103T084518Z
LAST-MODIFIED:20250116T091515Z
UID:48385-1737039600-1737043200@www.salemhome.ca
SUMMARY:Games
DESCRIPTION:
URL:https://www.salemhome.ca/event/games-116/
CATEGORIES:Evergreen
END:VEVENT
BEGIN:VEVENT
DTSTART;TZID=America/Winnipeg:20250117T100000
DTEND;TZID=America/Winnipeg:20250117T110000
DTSTAMP:20260425T073315
CREATED:20241022T053031Z
LAST-MODIFIED:20250117T091527Z
UID:45944-1737108000-1737111600@www.salemhome.ca
SUMMARY:Men's Coffee Shop
DESCRIPTION:
URL:https://www.salemhome.ca/event/mens-coffee-shop-587/
CATEGORIES:Evergreen
END:VEVENT
BEGIN:VEVENT
DTSTART;TZID=America/Winnipeg:20250117T101500
DTEND;TZID=America/Winnipeg:20250117T104500
DTSTAMP:20260425T073315
CREATED:20241022T053031Z
LAST-MODIFIED:20250117T091527Z
UID:45942-1737108900-1737110700@www.salemhome.ca
SUMMARY:Chapel
DESCRIPTION:
URL:https://www.salemhome.ca/event/chapel-626/
CATEGORIES:Evergreen
END:VEVENT
BEGIN:VEVENT
DTSTART;TZID=America/Winnipeg:20250117T110000
DTEND;TZID=America/Winnipeg:20250117T120000
DTSTAMP:20260425T073315
CREATED:20241022T053031Z
LAST-MODIFIED:20250117T091527Z
UID:45943-1737111600-1737115200@www.salemhome.ca
SUMMARY:Music by Dave Nickel
DESCRIPTION:
URL:https://www.salemhome.ca/event/music-by-dave-nickel-106/
CATEGORIES:Evergreen
END:VEVENT
BEGIN:VEVENT
DTSTART;TZID=America/Winnipeg:20250117T140000
DTEND;TZID=America/Winnipeg:20250117T150000
DTSTAMP:20260425T073315
CREATED:20241022T053032Z
LAST-MODIFIED:20250117T091527Z
UID:45945-1737122400-1737126000@www.salemhome.ca
SUMMARY:Music Therapy
DESCRIPTION:
URL:https://www.salemhome.ca/event/music-therapy-215/
CATEGORIES:Evergreen
END:VEVENT
BEGIN:VEVENT
DTSTART;TZID=America/Winnipeg:20250118T100000
DTEND;TZID=America/Winnipeg:20250118T110000
DTSTAMP:20260425T073315
CREATED:20241022T053032Z
LAST-MODIFIED:20250118T091515Z
UID:45946-1737194400-1737198000@www.salemhome.ca
SUMMARY:Bingo
DESCRIPTION:
URL:https://www.salemhome.ca/event/bingo-630/
CATEGORIES:Evergreen
END:VEVENT
BEGIN:VEVENT
DTSTART;TZID=America/Winnipeg:20250118T181500
DTEND;TZID=America/Winnipeg:20250118T191500
DTSTAMP:20260425T073315
CREATED:20241023T054527Z
LAST-MODIFIED:20250102T084513Z
UID:45981-1737224100-1737227700@www.salemhome.ca
SUMMARY:The Pilgrims
DESCRIPTION:
URL:https://www.salemhome.ca/event/the-pilgrims-83/
CATEGORIES:Evergreen
END:VEVENT
BEGIN:VEVENT
DTSTART;VALUE=DATE:20250119
DTEND;VALUE=DATE:20250120
DTSTAMP:20260425T073315
CREATED:20241022T053032Z
LAST-MODIFIED:20250119T091513Z
UID:45947-1737244800-1737331199@www.salemhome.ca
SUMMARY:Day of Rest
DESCRIPTION:
URL:https://www.salemhome.ca/event/day-of-rest-227/
CATEGORIES:Evergreen
END:VEVENT
BEGIN:VEVENT
DTSTART;TZID=America/Winnipeg:20250119T094500
DTEND;TZID=America/Winnipeg:20250119T104500
DTSTAMP:20260425T073315
CREATED:20250103T084518Z
LAST-MODIFIED:20250119T091512Z
UID:48386-1737279900-1737283500@www.salemhome.ca
SUMMARY:Chapel: Winkler EMMC
DESCRIPTION:
URL:https://www.salemhome.ca/event/chapel-winkler-emmc-39/
CATEGORIES:Evergreen
END:VEVENT
BEGIN:VEVENT
DTSTART;TZID=America/Winnipeg:20250120T100000
DTEND;TZID=America/Winnipeg:20250120T110000
DTSTAMP:20260425T073315
CREATED:20241023T054527Z
LAST-MODIFIED:20250120T091510Z
UID:45982-1737367200-1737370800@www.salemhome.ca
SUMMARY:Men's Coffee Shop
DESCRIPTION:
URL:https://www.salemhome.ca/event/mens-coffee-shop-592/
CATEGORIES:Evergreen
END:VEVENT
BEGIN:VEVENT
DTSTART;TZID=America/Winnipeg:20250120T100000
DTEND;TZID=America/Winnipeg:20250120T110000
DTSTAMP:20260425T073315
CREATED:20250103T084518Z
LAST-MODIFIED:20250120T091510Z
UID:48387-1737367200-1737370800@www.salemhome.ca
SUMMARY:Resident Family Council
DESCRIPTION:
URL:https://www.salemhome.ca/event/resident-family-council-31/
CATEGORIES:Evergreen
END:VEVENT
BEGIN:VEVENT
DTSTART;TZID=America/Winnipeg:20250120T144500
DTEND;TZID=America/Winnipeg:20250120T154500
DTSTAMP:20260425T073315
CREATED:20241023T054527Z
LAST-MODIFIED:20250120T091510Z
UID:45983-1737384300-1737387900@www.salemhome.ca
SUMMARY:Men's Group
DESCRIPTION:Located on Evergreen\, residents from all care areas welcome.
URL:https://www.salemhome.ca/event/mens-group-625/
CATEGORIES:Evergreen
END:VEVENT
BEGIN:VEVENT
DTSTART;TZID=America/Winnipeg:20250120T150000
DTEND;TZID=America/Winnipeg:20250120T160000
DTSTAMP:20260425T073315
CREATED:20250103T084519Z
LAST-MODIFIED:20250120T091510Z
UID:48388-1737385200-1737388800@www.salemhome.ca
SUMMARY:Crokinole
DESCRIPTION:
URL:https://www.salemhome.ca/event/crokinole-35/
CATEGORIES:Evergreen
END:VEVENT
BEGIN:VEVENT
DTSTART;TZID=America/Winnipeg:20250121T100000
DTEND;TZID=America/Winnipeg:20250121T110000
DTSTAMP:20260425T073315
CREATED:20241023T054528Z
LAST-MODIFIED:20250121T093010Z
UID:45984-1737453600-1737457200@www.salemhome.ca
SUMMARY:Men's Coffee Shop
DESCRIPTION:
URL:https://www.salemhome.ca/event/mens-coffee-shop-593/
CATEGORIES:Evergreen
END:VEVENT
BEGIN:VEVENT
DTSTART;TZID=America/Winnipeg:20250121T150000
DTEND;TZID=America/Winnipeg:20250121T160000
DTSTAMP:20260425T073315
CREATED:20250103T084519Z
LAST-MODIFIED:20250121T093010Z
UID:48389-1737471600-1737475200@www.salemhome.ca
SUMMARY:Baking
DESCRIPTION:
URL:https://www.salemhome.ca/event/baking-126/
CATEGORIES:Evergreen
END:VEVENT
BEGIN:VEVENT
DTSTART;TZID=America/Winnipeg:20250121T180000
DTEND;TZID=America/Winnipeg:20250121T190000
DTSTAMP:20260425T073315
CREATED:20241024T060027Z
LAST-MODIFIED:20250121T093011Z
UID:46022-1737482400-1737486000@www.salemhome.ca
SUMMARY:Movie Night
DESCRIPTION:
URL:https://www.salemhome.ca/event/movie-night-105/
CATEGORIES:Evergreen
END:VEVENT
BEGIN:VEVENT
DTSTART;TZID=America/Winnipeg:20250122T100000
DTEND;TZID=America/Winnipeg:20250122T110000
DTSTAMP:20260425T073315
CREATED:20241024T060027Z
LAST-MODIFIED:20250122T093028Z
UID:46023-1737540000-1737543600@www.salemhome.ca
SUMMARY:Men's Coffee Shop
DESCRIPTION:
URL:https://www.salemhome.ca/event/mens-coffee-shop-596/
CATEGORIES:Evergreen
END:VEVENT
BEGIN:VEVENT
DTSTART;TZID=America/Winnipeg:20250122T100000
DTEND;TZID=America/Winnipeg:20250122T110000
DTSTAMP:20260425T073315
CREATED:20250103T084519Z
LAST-MODIFIED:20250122T093028Z
UID:48390-1737540000-1737543600@www.salemhome.ca
SUMMARY:Sing Along
DESCRIPTION:
URL:https://www.salemhome.ca/event/sing-along-132/
CATEGORIES:Evergreen
END:VEVENT
END:VCALENDAR