BEGIN:VCALENDAR
VERSION:2.0
PRODID:-//Salem Home - ECPv6.15.20//NONSGML v1.0//EN
CALSCALE:GREGORIAN
METHOD:PUBLISH
X-WR-CALNAME:Salem Home
X-ORIGINAL-URL:https://www.salemhome.ca
X-WR-CALDESC:Events for Salem Home
REFRESH-INTERVAL;VALUE=DURATION:PT1H
X-Robots-Tag:noindex
X-PUBLISHED-TTL:PT1H
BEGIN:VTIMEZONE
TZID:America/Winnipeg
BEGIN:DAYLIGHT
TZOFFSETFROM:-0600
TZOFFSETTO:-0500
TZNAME:CDT
DTSTART:20240310T080000
END:DAYLIGHT
BEGIN:STANDARD
TZOFFSETFROM:-0500
TZOFFSETTO:-0600
TZNAME:CST
DTSTART:20241103T070000
END:STANDARD
BEGIN:DAYLIGHT
TZOFFSETFROM:-0600
TZOFFSETTO:-0500
TZNAME:CDT
DTSTART:20250309T080000
END:DAYLIGHT
BEGIN:STANDARD
TZOFFSETFROM:-0500
TZOFFSETTO:-0600
TZNAME:CST
DTSTART:20251102T070000
END:STANDARD
BEGIN:DAYLIGHT
TZOFFSETFROM:-0600
TZOFFSETTO:-0500
TZNAME:CDT
DTSTART:20260308T080000
END:DAYLIGHT
BEGIN:STANDARD
TZOFFSETFROM:-0500
TZOFFSETTO:-0600
TZNAME:CST
DTSTART:20261101T070000
END:STANDARD
END:VTIMEZONE
BEGIN:VEVENT
DTSTART;TZID=America/Winnipeg:20250208T100000
DTEND;TZID=America/Winnipeg:20250208T110000
DTSTAMP:20260425T123802
CREATED:20250128T093018Z
LAST-MODIFIED:20250208T101512Z
UID:49254-1739008800-1739012400@www.salemhome.ca
SUMMARY:Devotions
DESCRIPTION:
URL:https://www.salemhome.ca/event/devotions-117/
CATEGORIES:Evergreen
END:VEVENT
BEGIN:VEVENT
DTSTART;TZID=America/Winnipeg:20250208T103000
DTEND;TZID=America/Winnipeg:20250208T113000
DTSTAMP:20260425T123802
CREATED:20250128T093017Z
LAST-MODIFIED:20250208T101512Z
UID:49253-1739010600-1739014200@www.salemhome.ca
SUMMARY:Did You Know
DESCRIPTION:
URL:https://www.salemhome.ca/event/did-you-know-3/
CATEGORIES:Evergreen
END:VEVENT
BEGIN:VEVENT
DTSTART;TZID=America/Winnipeg:20250208T150000
DTEND;TZID=America/Winnipeg:20250208T160000
DTSTAMP:20260425T123802
CREATED:20241115T070058Z
LAST-MODIFIED:20250208T101512Z
UID:46726-1739026800-1739030400@www.salemhome.ca
SUMMARY:Bingo
DESCRIPTION:
URL:https://www.salemhome.ca/event/bingo-655/
CATEGORIES:Evergreen
END:VEVENT
BEGIN:VEVENT
DTSTART;VALUE=DATE:20250209
DTEND;VALUE=DATE:20250210
DTSTAMP:20260425T123802
CREATED:20241115T070058Z
LAST-MODIFIED:20250209T101514Z
UID:46727-1739059200-1739145599@www.salemhome.ca
SUMMARY:Day of Rest
DESCRIPTION:
URL:https://www.salemhome.ca/event/day-of-rest-241/
CATEGORIES:Evergreen
END:VEVENT
BEGIN:VEVENT
DTSTART;TZID=America/Winnipeg:20250209T094500
DTEND;TZID=America/Winnipeg:20250209T104500
DTSTAMP:20260425T123802
CREATED:20250128T093018Z
LAST-MODIFIED:20250209T101514Z
UID:49255-1739094300-1739097900@www.salemhome.ca
SUMMARY:Chapel: Winkler Bergthaler
DESCRIPTION:
URL:https://www.salemhome.ca/event/chapel-winkler-bergthaler-28/
CATEGORIES:Evergreen
END:VEVENT
BEGIN:VEVENT
DTSTART;TZID=America/Winnipeg:20250210T100000
DTEND;TZID=America/Winnipeg:20250210T110000
DTSTAMP:20260425T123802
CREATED:20241115T070058Z
LAST-MODIFIED:20250210T101512Z
UID:46728-1739181600-1739185200@www.salemhome.ca
SUMMARY:Men's Coffee Shop
DESCRIPTION:
URL:https://www.salemhome.ca/event/mens-coffee-shop-632/
CATEGORIES:Evergreen
END:VEVENT
BEGIN:VEVENT
DTSTART;TZID=America/Winnipeg:20250210T100000
DTEND;TZID=America/Winnipeg:20250210T110000
DTSTAMP:20260425T123802
CREATED:20250128T093018Z
LAST-MODIFIED:20250210T101512Z
UID:49256-1739181600-1739185200@www.salemhome.ca
SUMMARY:Current Events
DESCRIPTION:
URL:https://www.salemhome.ca/event/current-events-4/
CATEGORIES:Evergreen
END:VEVENT
BEGIN:VEVENT
DTSTART;TZID=America/Winnipeg:20250210T144500
DTEND;TZID=America/Winnipeg:20250210T154500
DTSTAMP:20260425T123802
CREATED:20241116T070056Z
LAST-MODIFIED:20250210T101512Z
UID:46757-1739198700-1739202300@www.salemhome.ca
SUMMARY:Men's Group
DESCRIPTION:Located on Evergreen\, residents from all care areas welcome.
URL:https://www.salemhome.ca/event/mens-group-651/
CATEGORIES:Evergreen
END:VEVENT
BEGIN:VEVENT
DTSTART;TZID=America/Winnipeg:20250210T150000
DTEND;TZID=America/Winnipeg:20250210T160000
DTSTAMP:20260425T123802
CREATED:20250128T093018Z
LAST-MODIFIED:20250210T101512Z
UID:49257-1739199600-1739203200@www.salemhome.ca
SUMMARY:Mental Aerobics
DESCRIPTION:
URL:https://www.salemhome.ca/event/mental-aerobics-45/
CATEGORIES:Evergreen
END:VEVENT
BEGIN:VEVENT
DTSTART;TZID=America/Winnipeg:20250211T100000
DTEND;TZID=America/Winnipeg:20250211T110000
DTSTAMP:20260425T123802
CREATED:20241116T070056Z
LAST-MODIFIED:20250211T101509Z
UID:46758-1739268000-1739271600@www.salemhome.ca
SUMMARY:Men's Coffee Shop
DESCRIPTION:
URL:https://www.salemhome.ca/event/mens-coffee-shop-635/
CATEGORIES:Evergreen
END:VEVENT
BEGIN:VEVENT
DTSTART;TZID=America/Winnipeg:20250211T150000
DTEND;TZID=America/Winnipeg:20250211T160000
DTSTAMP:20260425T123802
CREATED:20250128T093018Z
LAST-MODIFIED:20250211T101510Z
UID:49258-1739286000-1739289600@www.salemhome.ca
SUMMARY:Sequence
DESCRIPTION:
URL:https://www.salemhome.ca/event/sequence-6/
CATEGORIES:Evergreen
END:VEVENT
BEGIN:VEVENT
DTSTART;TZID=America/Winnipeg:20250211T180000
DTEND;TZID=America/Winnipeg:20250211T190000
DTSTAMP:20260425T123802
CREATED:20241116T070056Z
LAST-MODIFIED:20250211T101510Z
UID:46759-1739296800-1739300400@www.salemhome.ca
SUMMARY:The Sanderson's
DESCRIPTION:
URL:https://www.salemhome.ca/event/movie-night-108/
CATEGORIES:Evergreen
END:VEVENT
BEGIN:VEVENT
DTSTART;TZID=America/Winnipeg:20250212T000000
DTEND;TZID=America/Winnipeg:20250212T010000
DTSTAMP:20260425T123802
CREATED:20250128T093019Z
LAST-MODIFIED:20250211T101510Z
UID:49260-1739318400-1739322000@www.salemhome.ca
SUMMARY:Sing Along
DESCRIPTION:
URL:https://www.salemhome.ca/event/sing-along-143/
CATEGORIES:Evergreen
END:VEVENT
BEGIN:VEVENT
DTSTART;TZID=America/Winnipeg:20250212T100000
DTEND;TZID=America/Winnipeg:20250212T110000
DTSTAMP:20260425T123802
CREATED:20241116T070056Z
LAST-MODIFIED:20250212T101512Z
UID:46760-1739354400-1739358000@www.salemhome.ca
SUMMARY:Men's Coffee Shop
DESCRIPTION:
URL:https://www.salemhome.ca/event/mens-coffee-shop-636/
CATEGORIES:Evergreen
END:VEVENT
BEGIN:VEVENT
DTSTART;TZID=America/Winnipeg:20250212T144500
DTEND;TZID=America/Winnipeg:20250212T154500
DTSTAMP:20260425T123802
CREATED:20241117T071528Z
LAST-MODIFIED:20250127T093032Z
UID:46786-1739371500-1739375100@www.salemhome.ca
SUMMARY:Men's Group
DESCRIPTION:Located on Maple North. Residents from all care areas are welcome to attend.
URL:https://www.salemhome.ca/event/mens-group-654/
CATEGORIES:Evergreen
END:VEVENT
BEGIN:VEVENT
DTSTART;TZID=America/Winnipeg:20250212T144500
DTEND;TZID=America/Winnipeg:20250212T154500
DTSTAMP:20260425T123802
CREATED:20241117T071528Z
LAST-MODIFIED:20250212T101512Z
UID:46787-1739371500-1739375100@www.salemhome.ca
SUMMARY:Bingo
DESCRIPTION:
URL:https://www.salemhome.ca/event/bingo-657/
CATEGORIES:Evergreen
END:VEVENT
BEGIN:VEVENT
DTSTART;TZID=America/Winnipeg:20250213T103000
DTEND;TZID=America/Winnipeg:20250213T113000
DTSTAMP:20260425T123802
CREATED:20250128T093019Z
LAST-MODIFIED:20250213T101515Z
UID:49261-1739442600-1739446200@www.salemhome.ca
SUMMARY:Chapel: Old Colony
DESCRIPTION:
URL:https://www.salemhome.ca/event/chapel-old-colony-30/
CATEGORIES:Evergreen
END:VEVENT
BEGIN:VEVENT
DTSTART;TZID=America/Winnipeg:20250213T110000
DTEND;TZID=America/Winnipeg:20250213T120000
DTSTAMP:20260425T123802
CREATED:20241117T071528Z
LAST-MODIFIED:20250213T101515Z
UID:46788-1739444400-1739448000@www.salemhome.ca
SUMMARY:Spa Day
DESCRIPTION:
URL:https://www.salemhome.ca/event/spa-day-107/
CATEGORIES:Evergreen
END:VEVENT
BEGIN:VEVENT
DTSTART;TZID=America/Winnipeg:20250213T150000
DTEND;TZID=America/Winnipeg:20250213T160000
DTSTAMP:20260425T123802
CREATED:20250128T093019Z
LAST-MODIFIED:20250213T101515Z
UID:49262-1739458800-1739462400@www.salemhome.ca
SUMMARY:Move It To Music
DESCRIPTION:
URL:https://www.salemhome.ca/event/move-it-to-music-5/
CATEGORIES:Evergreen
END:VEVENT
BEGIN:VEVENT
DTSTART;TZID=America/Winnipeg:20250214T100000
DTEND;TZID=America/Winnipeg:20250214T110000
DTSTAMP:20260425T123802
CREATED:20241118T071525Z
LAST-MODIFIED:20250214T101509Z
UID:46808-1739527200-1739530800@www.salemhome.ca
SUMMARY:Men's Coffee Shop
DESCRIPTION:
URL:https://www.salemhome.ca/event/mens-coffee-shop-639/
CATEGORIES:Evergreen
END:VEVENT
BEGIN:VEVENT
DTSTART;TZID=America/Winnipeg:20250214T101500
DTEND;TZID=America/Winnipeg:20250214T104500
DTSTAMP:20260425T123802
CREATED:20241118T071525Z
LAST-MODIFIED:20250214T101509Z
UID:46809-1739528100-1739529900@www.salemhome.ca
SUMMARY:Chapel
DESCRIPTION:
URL:https://www.salemhome.ca/event/chapel-640/
CATEGORIES:Evergreen
END:VEVENT
BEGIN:VEVENT
DTSTART;TZID=America/Winnipeg:20250214T110000
DTEND;TZID=America/Winnipeg:20250214T120000
DTSTAMP:20260425T123802
CREATED:20241119T071527Z
LAST-MODIFIED:20250214T101509Z
UID:46834-1739530800-1739534400@www.salemhome.ca
SUMMARY:Music by Dave Nickel
DESCRIPTION:
URL:https://www.salemhome.ca/event/music-by-dave-nickel-110/
CATEGORIES:Evergreen
END:VEVENT
BEGIN:VEVENT
DTSTART;TZID=America/Winnipeg:20250214T140000
DTEND;TZID=America/Winnipeg:20250214T150000
DTSTAMP:20260425T123802
CREATED:20241119T071527Z
LAST-MODIFIED:20250214T101509Z
UID:46835-1739541600-1739545200@www.salemhome.ca
SUMMARY:Music Therapy
DESCRIPTION:
URL:https://www.salemhome.ca/event/music-therapy-222/
CATEGORIES:Evergreen
END:VEVENT
BEGIN:VEVENT
DTSTART;TZID=America/Winnipeg:20250215T100000
DTEND;TZID=America/Winnipeg:20250215T110000
DTSTAMP:20260425T123802
CREATED:20241119T071527Z
LAST-MODIFIED:20250127T093033Z
UID:46836-1739613600-1739617200@www.salemhome.ca
SUMMARY:Bingo
DESCRIPTION:
URL:https://www.salemhome.ca/event/bingo-659/
CATEGORIES:Evergreen
END:VEVENT
BEGIN:VEVENT
DTSTART;TZID=America/Winnipeg:20250215T100000
DTEND;TZID=America/Winnipeg:20250215T110000
DTSTAMP:20260425T123802
CREATED:20250128T093019Z
LAST-MODIFIED:20250215T101553Z
UID:49263-1739613600-1739617200@www.salemhome.ca
SUMMARY:Snowflake Craft
DESCRIPTION:
URL:https://www.salemhome.ca/event/snowflake-craft/
CATEGORIES:Evergreen
END:VEVENT
BEGIN:VEVENT
DTSTART;TZID=America/Winnipeg:20250215T150000
DTEND;TZID=America/Winnipeg:20250215T160000
DTSTAMP:20260425T123802
CREATED:20250128T093019Z
LAST-MODIFIED:20250215T101553Z
UID:49264-1739631600-1739635200@www.salemhome.ca
SUMMARY:Bingo
DESCRIPTION:
URL:https://www.salemhome.ca/event/bingo-735/
CATEGORIES:Evergreen
END:VEVENT
BEGIN:VEVENT
DTSTART;TZID=America/Winnipeg:20250215T181500
DTEND;TZID=America/Winnipeg:20250215T191500
DTSTAMP:20260425T123802
CREATED:20241119T071528Z
LAST-MODIFIED:20250127T093033Z
UID:46838-1739643300-1739646900@www.salemhome.ca
SUMMARY:The Pilgrims
DESCRIPTION:
URL:https://www.salemhome.ca/event/the-pilgrims-87/
CATEGORIES:Evergreen
END:VEVENT
BEGIN:VEVENT
DTSTART;VALUE=DATE:20250216
DTEND;VALUE=DATE:20250217
DTSTAMP:20260425T123802
CREATED:20241119T071527Z
LAST-MODIFIED:20250216T103013Z
UID:46837-1739664000-1739750399@www.salemhome.ca
SUMMARY:Day of Rest
DESCRIPTION:
URL:https://www.salemhome.ca/event/day-of-rest-244/
CATEGORIES:Evergreen
END:VEVENT
BEGIN:VEVENT
DTSTART;TZID=America/Winnipeg:20250216T094500
DTEND;TZID=America/Winnipeg:20250216T104500
DTSTAMP:20260425T123802
CREATED:20250128T093020Z
LAST-MODIFIED:20250216T103013Z
UID:49265-1739699100-1739702700@www.salemhome.ca
SUMMARY:Chapel: Winkler Bergthaler
DESCRIPTION:
URL:https://www.salemhome.ca/event/chapel-winkler-bergthaler-29/
CATEGORIES:Evergreen
END:VEVENT
BEGIN:VEVENT
DTSTART;TZID=America/Winnipeg:20250217T100000
DTEND;TZID=America/Winnipeg:20250217T110000
DTSTAMP:20260425T123802
CREATED:20241120T071525Z
LAST-MODIFIED:20250127T093033Z
UID:46865-1739786400-1739790000@www.salemhome.ca
SUMMARY:Men's Coffee Shop
DESCRIPTION:
URL:https://www.salemhome.ca/event/mens-coffee-shop-645/
CATEGORIES:Evergreen
END:VEVENT
END:VCALENDAR