BEGIN:VCALENDAR
VERSION:2.0
PRODID:-//Salem Home - ECPv6.15.20//NONSGML v1.0//EN
CALSCALE:GREGORIAN
METHOD:PUBLISH
X-WR-CALNAME:Salem Home
X-ORIGINAL-URL:https://www.salemhome.ca
X-WR-CALDESC:Events for Salem Home
REFRESH-INTERVAL;VALUE=DURATION:PT1H
X-Robots-Tag:noindex
X-PUBLISHED-TTL:PT1H
BEGIN:VTIMEZONE
TZID:America/Winnipeg
BEGIN:DAYLIGHT
TZOFFSETFROM:-0600
TZOFFSETTO:-0500
TZNAME:CDT
DTSTART:20240310T080000
END:DAYLIGHT
BEGIN:STANDARD
TZOFFSETFROM:-0500
TZOFFSETTO:-0600
TZNAME:CST
DTSTART:20241103T070000
END:STANDARD
BEGIN:DAYLIGHT
TZOFFSETFROM:-0600
TZOFFSETTO:-0500
TZNAME:CDT
DTSTART:20250309T080000
END:DAYLIGHT
BEGIN:STANDARD
TZOFFSETFROM:-0500
TZOFFSETTO:-0600
TZNAME:CST
DTSTART:20251102T070000
END:STANDARD
BEGIN:DAYLIGHT
TZOFFSETFROM:-0600
TZOFFSETTO:-0500
TZNAME:CDT
DTSTART:20260308T080000
END:DAYLIGHT
BEGIN:STANDARD
TZOFFSETFROM:-0500
TZOFFSETTO:-0600
TZNAME:CST
DTSTART:20261101T070000
END:STANDARD
END:VTIMEZONE
BEGIN:VEVENT
DTSTART;TZID=America/Winnipeg:20250326T100000
DTEND;TZID=America/Winnipeg:20250326T110000
DTSTAMP:20260425T104620
CREATED:20250226T104521Z
LAST-MODIFIED:20250325T170727Z
UID:50317-1742983200-1742986800@www.salemhome.ca
SUMMARY:John & Irene Plantz
DESCRIPTION:
URL:https://www.salemhome.ca/event/john-irene-plantz-36/
CATEGORIES:Evergreen
END:VEVENT
BEGIN:VEVENT
DTSTART;TZID=America/Winnipeg:20250326T144500
DTEND;TZID=America/Winnipeg:20250326T154500
DTSTAMP:20260425T104620
CREATED:20241221T074525Z
LAST-MODIFIED:20250326T172225Z
UID:48029-1743000300-1743003900@www.salemhome.ca
SUMMARY:Bingo
DESCRIPTION:
URL:https://www.salemhome.ca/event/bingo-693/
CATEGORIES:Evergreen
END:VEVENT
BEGIN:VEVENT
DTSTART;TZID=America/Winnipeg:20250326T144500
DTEND;TZID=America/Winnipeg:20250326T154500
DTSTAMP:20260425T104620
CREATED:20241222T074526Z
LAST-MODIFIED:20250127T093039Z
UID:48057-1743000300-1743003900@www.salemhome.ca
SUMMARY:Men's Group
DESCRIPTION:Located on Maple North. Residents from all care areas are welcome to attend.
URL:https://www.salemhome.ca/event/mens-group-701/
CATEGORIES:Evergreen
END:VEVENT
BEGIN:VEVENT
DTSTART;TZID=America/Winnipeg:20250327T103000
DTEND;TZID=America/Winnipeg:20250327T113000
DTSTAMP:20260425T104620
CREATED:20250226T104521Z
LAST-MODIFIED:20250326T172225Z
UID:50318-1743071400-1743075000@www.salemhome.ca
SUMMARY:Chapel: Sommerfeld Mennonite
DESCRIPTION:
URL:https://www.salemhome.ca/event/chapel-sommerfeld-mennonite-51/
CATEGORIES:Evergreen
END:VEVENT
BEGIN:VEVENT
DTSTART;TZID=America/Winnipeg:20250327T110000
DTEND;TZID=America/Winnipeg:20250327T120000
DTSTAMP:20260425T104620
CREATED:20241223T074534Z
LAST-MODIFIED:20250326T172225Z
UID:48079-1743073200-1743076800@www.salemhome.ca
SUMMARY:Spa Day
DESCRIPTION:
URL:https://www.salemhome.ca/event/spa-day-113/
CATEGORIES:Evergreen
END:VEVENT
BEGIN:VEVENT
DTSTART;TZID=America/Winnipeg:20250327T150000
DTEND;TZID=America/Winnipeg:20250327T160000
DTSTAMP:20260425T104620
CREATED:20250226T104521Z
LAST-MODIFIED:20250327T172223Z
UID:50319-1743087600-1743091200@www.salemhome.ca
SUMMARY:Move It To Music
DESCRIPTION:
URL:https://www.salemhome.ca/event/move-it-to-music-7/
CATEGORIES:Evergreen
END:VEVENT
BEGIN:VEVENT
DTSTART;TZID=America/Winnipeg:20250328T100000
DTEND;TZID=America/Winnipeg:20250328T110000
DTSTAMP:20260425T104620
CREATED:20241223T074534Z
LAST-MODIFIED:20250327T172224Z
UID:48080-1743156000-1743159600@www.salemhome.ca
SUMMARY:Men's Coffee Shop
DESCRIPTION:
URL:https://www.salemhome.ca/event/mens-coffee-shop-709/
CATEGORIES:Evergreen
END:VEVENT
BEGIN:VEVENT
DTSTART;TZID=America/Winnipeg:20250328T101500
DTEND;TZID=America/Winnipeg:20250328T104500
DTSTAMP:20260425T104620
CREATED:20241223T074534Z
LAST-MODIFIED:20250327T172224Z
UID:48081-1743156900-1743158700@www.salemhome.ca
SUMMARY:Chapel
DESCRIPTION:
URL:https://www.salemhome.ca/event/chapel-661/
CATEGORIES:Evergreen
END:VEVENT
BEGIN:VEVENT
DTSTART;TZID=America/Winnipeg:20250328T110000
DTEND;TZID=America/Winnipeg:20250328T120000
DTSTAMP:20260425T104620
CREATED:20241224T080031Z
LAST-MODIFIED:20250327T172224Z
UID:48098-1743159600-1743163200@www.salemhome.ca
SUMMARY:Music by Dave Nickel
DESCRIPTION:
URL:https://www.salemhome.ca/event/music-by-dave-nickel-116/
CATEGORIES:Evergreen
END:VEVENT
BEGIN:VEVENT
DTSTART;TZID=America/Winnipeg:20250328T140000
DTEND;TZID=America/Winnipeg:20250328T150000
DTSTAMP:20260425T104620
CREATED:20241224T080031Z
LAST-MODIFIED:20250328T172250Z
UID:48101-1743170400-1743174000@www.salemhome.ca
SUMMARY:Music Therapy
DESCRIPTION:
URL:https://www.salemhome.ca/event/music-therapy-230/
CATEGORIES:Evergreen
END:VEVENT
BEGIN:VEVENT
DTSTART;TZID=America/Winnipeg:20250329T100000
DTEND;TZID=America/Winnipeg:20250329T110000
DTSTAMP:20260425T104620
CREATED:20241224T080031Z
LAST-MODIFIED:20250127T093039Z
UID:48102-1743242400-1743246000@www.salemhome.ca
SUMMARY:Bingo
DESCRIPTION:
URL:https://www.salemhome.ca/event/bingo-695/
CATEGORIES:Evergreen
END:VEVENT
BEGIN:VEVENT
DTSTART;TZID=America/Winnipeg:20250329T100000
DTEND;TZID=America/Winnipeg:20250329T110000
DTSTAMP:20260425T104620
CREATED:20250226T104522Z
LAST-MODIFIED:20250328T172250Z
UID:50320-1743242400-1743246000@www.salemhome.ca
SUMMARY:Blue Suede Shoes
DESCRIPTION:
URL:https://www.salemhome.ca/event/blue-suede-shoes/
CATEGORIES:Evergreen
END:VEVENT
BEGIN:VEVENT
DTSTART;TZID=America/Winnipeg:20250329T150000
DTEND;TZID=America/Winnipeg:20250329T160000
DTSTAMP:20260425T104620
CREATED:20250128T093028Z
LAST-MODIFIED:20250329T172230Z
UID:49282-1743260400-1743264000@www.salemhome.ca
SUMMARY:Bingo
DESCRIPTION:
URL:https://www.salemhome.ca/event/bingo-738/
CATEGORIES:Evergreen
END:VEVENT
BEGIN:VEVENT
DTSTART;VALUE=DATE:20250330
DTEND;VALUE=DATE:20250331
DTSTAMP:20260425T104620
CREATED:20241224T080031Z
LAST-MODIFIED:20250330T172224Z
UID:48103-1743292800-1743379199@www.salemhome.ca
SUMMARY:Day of Rest
DESCRIPTION:
URL:https://www.salemhome.ca/event/day-of-rest-267/
CATEGORIES:Evergreen
END:VEVENT
BEGIN:VEVENT
DTSTART;TZID=America/Winnipeg:20250330T094500
DTEND;TZID=America/Winnipeg:20250330T104500
DTSTAMP:20260425T104620
CREATED:20250226T104522Z
LAST-MODIFIED:20250329T172230Z
UID:50321-1743327900-1743331500@www.salemhome.ca
SUMMARY:Chapel: Covenant Mennonite
DESCRIPTION:
URL:https://www.salemhome.ca/event/chapel-covenant-mennonite-18/
CATEGORIES:Evergreen
END:VEVENT
BEGIN:VEVENT
DTSTART;TZID=America/Winnipeg:20250331T100000
DTEND;TZID=America/Winnipeg:20250331T110000
DTSTAMP:20260425T104620
CREATED:20241225T081526Z
LAST-MODIFIED:20250330T172225Z
UID:48133-1743415200-1743418800@www.salemhome.ca
SUMMARY:Men's Coffee Shop
DESCRIPTION:
URL:https://www.salemhome.ca/event/mens-coffee-shop-713/
CATEGORIES:Evergreen
END:VEVENT
BEGIN:VEVENT
DTSTART;TZID=America/Winnipeg:20250331T144500
DTEND;TZID=America/Winnipeg:20250331T154500
DTSTAMP:20260425T104620
CREATED:20241225T081526Z
LAST-MODIFIED:20250331T172225Z
UID:48134-1743432300-1743435900@www.salemhome.ca
SUMMARY:Men's Group
DESCRIPTION:Located on Evergreen\, residents from all care areas welcome.
URL:https://www.salemhome.ca/event/mens-group-706/
CATEGORIES:Evergreen
END:VEVENT
BEGIN:VEVENT
DTSTART;TZID=America/Winnipeg:20250401T100000
DTEND;TZID=America/Winnipeg:20250401T110000
DTSTAMP:20260425T104620
CREATED:20241225T081526Z
LAST-MODIFIED:20250331T172225Z
UID:48135-1743501600-1743505200@www.salemhome.ca
SUMMARY:Men's Coffee Shop
DESCRIPTION:
URL:https://www.salemhome.ca/event/mens-coffee-shop-714/
CATEGORIES:Evergreen
END:VEVENT
BEGIN:VEVENT
DTSTART;TZID=America/Winnipeg:20250401T180000
DTEND;TZID=America/Winnipeg:20250401T190000
DTSTAMP:20260425T104620
CREATED:20241225T081526Z
LAST-MODIFIED:20250401T172226Z
UID:48136-1743530400-1743534000@www.salemhome.ca
SUMMARY:Movie Night
DESCRIPTION:
URL:https://www.salemhome.ca/event/movie-night-115/
CATEGORIES:Evergreen
END:VEVENT
BEGIN:VEVENT
DTSTART;TZID=America/Winnipeg:20250402T100000
DTEND;TZID=America/Winnipeg:20250402T110000
DTSTAMP:20260425T104620
CREATED:20241228T083026Z
LAST-MODIFIED:20250401T172227Z
UID:48198-1743588000-1743591600@www.salemhome.ca
SUMMARY:Men's Coffee Shop
DESCRIPTION:
URL:https://www.salemhome.ca/event/mens-coffee-shop-718/
CATEGORIES:Evergreen
END:VEVENT
BEGIN:VEVENT
DTSTART;TZID=America/Winnipeg:20250402T144500
DTEND;TZID=America/Winnipeg:20250402T154500
DTSTAMP:20260425T104620
CREATED:20241228T083027Z
LAST-MODIFIED:20250127T093040Z
UID:48199-1743605100-1743608700@www.salemhome.ca
SUMMARY:Men's Group
DESCRIPTION:Located on Maple North. Residents from all care areas are welcome to attend.
URL:https://www.salemhome.ca/event/mens-group-708/
CATEGORIES:Evergreen
END:VEVENT
BEGIN:VEVENT
DTSTART;TZID=America/Winnipeg:20250402T144500
DTEND;TZID=America/Winnipeg:20250402T154500
DTSTAMP:20260425T104620
CREATED:20241228T083027Z
LAST-MODIFIED:20250402T172225Z
UID:48200-1743605100-1743608700@www.salemhome.ca
SUMMARY:Bingo
DESCRIPTION:
URL:https://www.salemhome.ca/event/bingo-697/
CATEGORIES:Evergreen
END:VEVENT
BEGIN:VEVENT
DTSTART;TZID=America/Winnipeg:20250402T144500
DTEND;TZID=America/Winnipeg:20250402T154500
DTSTAMP:20260425T104620
CREATED:20250128T093028Z
LAST-MODIFIED:20250402T172225Z
UID:49283-1743605100-1743608700@www.salemhome.ca
SUMMARY:Men's Group
DESCRIPTION:Located on Maple North. Residents from all care areas are welcome to attend.
URL:https://www.salemhome.ca/event/mens-group-750/
CATEGORIES:Evergreen
END:VEVENT
BEGIN:VEVENT
DTSTART;TZID=America/Winnipeg:20250403T103000
DTEND;TZID=America/Winnipeg:20250403T113000
DTSTAMP:20260425T104620
CREATED:20250326T172227Z
LAST-MODIFIED:20250402T172226Z
UID:51428-1743676200-1743679800@www.salemhome.ca
SUMMARY:Chapel: Country Harvest
DESCRIPTION:
URL:https://www.salemhome.ca/event/chapel-country-harvest-4/
CATEGORIES:Evergreen
END:VEVENT
BEGIN:VEVENT
DTSTART;TZID=America/Winnipeg:20250403T110000
DTEND;TZID=America/Winnipeg:20250403T120000
DTSTAMP:20260425T104620
CREATED:20241228T083027Z
LAST-MODIFIED:20250402T172226Z
UID:48201-1743678000-1743681600@www.salemhome.ca
SUMMARY:Spa Day
DESCRIPTION:
URL:https://www.salemhome.ca/event/spa-day-114/
CATEGORIES:Evergreen
END:VEVENT
BEGIN:VEVENT
DTSTART;TZID=America/Winnipeg:20250403T150000
DTEND;TZID=America/Winnipeg:20250403T160000
DTSTAMP:20260425T104620
CREATED:20250326T172227Z
LAST-MODIFIED:20250403T172249Z
UID:51429-1743692400-1743696000@www.salemhome.ca
SUMMARY:Ring Toss
DESCRIPTION:
URL:https://www.salemhome.ca/event/ring-toss-4/
CATEGORIES:Evergreen
END:VEVENT
BEGIN:VEVENT
DTSTART;TZID=America/Winnipeg:20250403T183000
DTEND;TZID=America/Winnipeg:20250403T193000
DTSTAMP:20260425T104620
CREATED:20250326T172227Z
LAST-MODIFIED:20250403T172249Z
UID:51430-1743705000-1743708600@www.salemhome.ca
SUMMARY:Easter Service
DESCRIPTION:
URL:https://www.salemhome.ca/event/easter-service-3/
CATEGORIES:Evergreen
END:VEVENT
BEGIN:VEVENT
DTSTART;TZID=America/Winnipeg:20250404T100000
DTEND;TZID=America/Winnipeg:20250404T110000
DTSTAMP:20260425T104620
CREATED:20241229T083028Z
LAST-MODIFIED:20250403T172249Z
UID:48223-1743760800-1743764400@www.salemhome.ca
SUMMARY:Men's Coffee Shop
DESCRIPTION:
URL:https://www.salemhome.ca/event/mens-coffee-shop-721/
CATEGORIES:Evergreen
END:VEVENT
BEGIN:VEVENT
DTSTART;TZID=America/Winnipeg:20250404T101500
DTEND;TZID=America/Winnipeg:20250404T104500
DTSTAMP:20260425T104620
CREATED:20241229T083029Z
LAST-MODIFIED:20250403T172249Z
UID:48224-1743761700-1743763500@www.salemhome.ca
SUMMARY:Chapel
DESCRIPTION:
URL:https://www.salemhome.ca/event/chapel-665/
CATEGORIES:Evergreen
END:VEVENT
BEGIN:VEVENT
DTSTART;TZID=America/Winnipeg:20250404T110000
DTEND;TZID=America/Winnipeg:20250404T120000
DTSTAMP:20260425T104620
CREATED:20241230T083027Z
LAST-MODIFIED:20250403T172249Z
UID:48249-1743764400-1743768000@www.salemhome.ca
SUMMARY:Music by Dave Nickel
DESCRIPTION:
URL:https://www.salemhome.ca/event/music-by-dave-nickel-117/
CATEGORIES:Evergreen
END:VEVENT
END:VCALENDAR