BEGIN:VCALENDAR
VERSION:2.0
PRODID:-//Salem Home - ECPv6.15.20//NONSGML v1.0//EN
CALSCALE:GREGORIAN
METHOD:PUBLISH
X-WR-CALNAME:Salem Home
X-ORIGINAL-URL:https://www.salemhome.ca
X-WR-CALDESC:Events for Salem Home
REFRESH-INTERVAL;VALUE=DURATION:PT1H
X-Robots-Tag:noindex
X-PUBLISHED-TTL:PT1H
BEGIN:VTIMEZONE
TZID:America/Winnipeg
BEGIN:DAYLIGHT
TZOFFSETFROM:-0600
TZOFFSETTO:-0500
TZNAME:CDT
DTSTART:20240310T080000
END:DAYLIGHT
BEGIN:STANDARD
TZOFFSETFROM:-0500
TZOFFSETTO:-0600
TZNAME:CST
DTSTART:20241103T070000
END:STANDARD
BEGIN:DAYLIGHT
TZOFFSETFROM:-0600
TZOFFSETTO:-0500
TZNAME:CDT
DTSTART:20250309T080000
END:DAYLIGHT
BEGIN:STANDARD
TZOFFSETFROM:-0500
TZOFFSETTO:-0600
TZNAME:CST
DTSTART:20251102T070000
END:STANDARD
BEGIN:DAYLIGHT
TZOFFSETFROM:-0600
TZOFFSETTO:-0500
TZNAME:CDT
DTSTART:20260308T080000
END:DAYLIGHT
BEGIN:STANDARD
TZOFFSETFROM:-0500
TZOFFSETTO:-0600
TZNAME:CST
DTSTART:20261101T070000
END:STANDARD
END:VTIMEZONE
BEGIN:VEVENT
DTSTART;TZID=America/Winnipeg:20250412T100000
DTEND;TZID=America/Winnipeg:20250412T110000
DTSTAMP:20260425T062659
CREATED:20250115T091532Z
LAST-MODIFIED:20250127T093041Z
UID:48832-1744452000-1744455600@www.salemhome.ca
SUMMARY:Bingo
DESCRIPTION:
URL:https://www.salemhome.ca/event/bingo-719/
CATEGORIES:Evergreen
END:VEVENT
BEGIN:VEVENT
DTSTART;TZID=America/Winnipeg:20250412T100000
DTEND;TZID=America/Winnipeg:20250412T110000
DTSTAMP:20260425T062659
CREATED:20250326T172230Z
LAST-MODIFIED:20250411T182225Z
UID:51443-1744452000-1744455600@www.salemhome.ca
SUMMARY:Curling
DESCRIPTION:
URL:https://www.salemhome.ca/event/curling-19/
CATEGORIES:Evergreen
END:VEVENT
BEGIN:VEVENT
DTSTART;TZID=America/Winnipeg:20250412T150000
DTEND;TZID=America/Winnipeg:20250412T160000
DTSTAMP:20260425T062659
CREATED:20250128T093030Z
LAST-MODIFIED:20250412T182224Z
UID:49284-1744470000-1744473600@www.salemhome.ca
SUMMARY:Bingo
DESCRIPTION:
URL:https://www.salemhome.ca/event/bingo-739/
CATEGORIES:Evergreen
END:VEVENT
BEGIN:VEVENT
DTSTART;VALUE=DATE:20250413
DTEND;VALUE=DATE:20250414
DTSTAMP:20260425T062659
CREATED:20250115T091532Z
LAST-MODIFIED:20250413T182249Z
UID:48833-1744502400-1744588799@www.salemhome.ca
SUMMARY:Day of Rest
DESCRIPTION:
URL:https://www.salemhome.ca/event/day-of-rest-275/
CATEGORIES:Evergreen
END:VEVENT
BEGIN:VEVENT
DTSTART;TZID=America/Winnipeg:20250413T094500
DTEND;TZID=America/Winnipeg:20250413T104500
DTSTAMP:20260425T062659
CREATED:20250326T172230Z
LAST-MODIFIED:20250412T182225Z
UID:51444-1744537500-1744541100@www.salemhome.ca
SUMMARY:Chapel: Zion Mennonite
DESCRIPTION:
URL:https://www.salemhome.ca/event/chapel-zion-mennonite-47/
CATEGORIES:Evergreen
END:VEVENT
BEGIN:VEVENT
DTSTART;TZID=America/Winnipeg:20250414T100000
DTEND;TZID=America/Winnipeg:20250414T110000
DTSTAMP:20260425T062659
CREATED:20250116T091529Z
LAST-MODIFIED:20250413T182249Z
UID:48859-1744624800-1744628400@www.salemhome.ca
SUMMARY:Men's Coffee Shop
DESCRIPTION:
URL:https://www.salemhome.ca/event/mens-coffee-shop-734/
CATEGORIES:Evergreen
END:VEVENT
BEGIN:VEVENT
DTSTART;TZID=America/Winnipeg:20250414T100000
DTEND;TZID=America/Winnipeg:20250414T110000
DTSTAMP:20260425T062659
CREATED:20250326T172231Z
LAST-MODIFIED:20250413T182249Z
UID:51445-1744624800-1744628400@www.salemhome.ca
SUMMARY:Voices of Easter
DESCRIPTION:
URL:https://www.salemhome.ca/event/voices-of-easter-14/
CATEGORIES:Evergreen
END:VEVENT
BEGIN:VEVENT
DTSTART;TZID=America/Winnipeg:20250414T144500
DTEND;TZID=America/Winnipeg:20250414T154500
DTSTAMP:20260425T062659
CREATED:20250116T091530Z
LAST-MODIFIED:20250414T182249Z
UID:48860-1744641900-1744645500@www.salemhome.ca
SUMMARY:Men's Group
DESCRIPTION:Located on Evergreen\, residents from all care areas welcome.
URL:https://www.salemhome.ca/event/mens-group-720/
CATEGORIES:Evergreen
END:VEVENT
BEGIN:VEVENT
DTSTART;TZID=America/Winnipeg:20250414T150000
DTEND;TZID=America/Winnipeg:20250414T160000
DTSTAMP:20260425T062659
CREATED:20250326T172231Z
LAST-MODIFIED:20250414T182249Z
UID:51446-1744642800-1744646400@www.salemhome.ca
SUMMARY:Easter Buns
DESCRIPTION:
URL:https://www.salemhome.ca/event/easter-buns-4/
CATEGORIES:Evergreen
END:VEVENT
BEGIN:VEVENT
DTSTART;TZID=America/Winnipeg:20250415T100000
DTEND;TZID=America/Winnipeg:20250415T110000
DTSTAMP:20260425T062659
CREATED:20250116T091530Z
LAST-MODIFIED:20250414T182249Z
UID:48861-1744711200-1744714800@www.salemhome.ca
SUMMARY:Men's Coffee Shop
DESCRIPTION:
URL:https://www.salemhome.ca/event/mens-coffee-shop-735/
CATEGORIES:Evergreen
END:VEVENT
BEGIN:VEVENT
DTSTART;TZID=America/Winnipeg:20250415T100000
DTEND;TZID=America/Winnipeg:20250415T110000
DTSTAMP:20260425T062659
CREATED:20250326T172231Z
LAST-MODIFIED:20250414T182249Z
UID:51447-1744711200-1744714800@www.salemhome.ca
SUMMARY:Move With Grace
DESCRIPTION:
URL:https://www.salemhome.ca/event/move-with-grace-37/
CATEGORIES:Evergreen
END:VEVENT
BEGIN:VEVENT
DTSTART;TZID=America/Winnipeg:20250415T150000
DTEND;TZID=America/Winnipeg:20250415T160000
DTSTAMP:20260425T062659
CREATED:20250326T172231Z
LAST-MODIFIED:20250415T182250Z
UID:51448-1744729200-1744732800@www.salemhome.ca
SUMMARY:Easter Craft
DESCRIPTION:
URL:https://www.salemhome.ca/event/easter-craft-6/
CATEGORIES:Evergreen
END:VEVENT
BEGIN:VEVENT
DTSTART;TZID=America/Winnipeg:20250415T180000
DTEND;TZID=America/Winnipeg:20250415T190000
DTSTAMP:20260425T062659
CREATED:20250116T091530Z
LAST-MODIFIED:20250415T182250Z
UID:48862-1744740000-1744743600@www.salemhome.ca
SUMMARY:Yolanda Wolfe
DESCRIPTION:
URL:https://www.salemhome.ca/event/movie-night-117/
CATEGORIES:Evergreen
END:VEVENT
BEGIN:VEVENT
DTSTART;TZID=America/Winnipeg:20250416T100000
DTEND;TZID=America/Winnipeg:20250416T110000
DTSTAMP:20260425T062659
CREATED:20250116T091530Z
LAST-MODIFIED:20250415T182250Z
UID:48863-1744797600-1744801200@www.salemhome.ca
SUMMARY:Men's Coffee Shop
DESCRIPTION:
URL:https://www.salemhome.ca/event/mens-coffee-shop-736/
CATEGORIES:Evergreen
END:VEVENT
BEGIN:VEVENT
DTSTART;TZID=America/Winnipeg:20250416T100000
DTEND;TZID=America/Winnipeg:20250416T110000
DTSTAMP:20260425T062659
CREATED:20250326T172231Z
LAST-MODIFIED:20250415T182250Z
UID:51450-1744797600-1744801200@www.salemhome.ca
SUMMARY:John & Irene Plantz
DESCRIPTION:
URL:https://www.salemhome.ca/event/john-irene-plantz-38/
CATEGORIES:Evergreen
END:VEVENT
BEGIN:VEVENT
DTSTART;TZID=America/Winnipeg:20250416T144500
DTEND;TZID=America/Winnipeg:20250416T154500
DTSTAMP:20260425T062659
CREATED:20250117T091526Z
LAST-MODIFIED:20250127T093041Z
UID:48894-1744814700-1744818300@www.salemhome.ca
SUMMARY:Men's Group
DESCRIPTION:Located on Maple North. Residents from all care areas are welcome to attend.
URL:https://www.salemhome.ca/event/mens-group-723/
CATEGORIES:Evergreen
END:VEVENT
BEGIN:VEVENT
DTSTART;TZID=America/Winnipeg:20250416T144500
DTEND;TZID=America/Winnipeg:20250416T154500
DTSTAMP:20260425T062659
CREATED:20250117T091527Z
LAST-MODIFIED:20250416T182227Z
UID:48895-1744814700-1744818300@www.salemhome.ca
SUMMARY:Bingo
DESCRIPTION:
URL:https://www.salemhome.ca/event/bingo-721/
CATEGORIES:Evergreen
END:VEVENT
BEGIN:VEVENT
DTSTART;TZID=America/Winnipeg:20250416T144500
DTEND;TZID=America/Winnipeg:20250416T154500
DTSTAMP:20260425T062659
CREATED:20250128T093031Z
LAST-MODIFIED:20250416T182227Z
UID:49285-1744814700-1744818300@www.salemhome.ca
SUMMARY:Men's Group
DESCRIPTION:Located on Maple North. Residents from all care areas are welcome to attend.
URL:https://www.salemhome.ca/event/mens-group-751/
CATEGORIES:Evergreen
END:VEVENT
BEGIN:VEVENT
DTSTART;TZID=America/Winnipeg:20250416T180000
DTEND;TZID=America/Winnipeg:20250416T190000
DTSTAMP:20260425T062659
CREATED:20250117T091527Z
LAST-MODIFIED:20250416T182227Z
UID:48896-1744826400-1744830000@www.salemhome.ca
SUMMARY:Henry & Marge Wall
DESCRIPTION:
URL:https://www.salemhome.ca/event/henry-marge-wall-8/
CATEGORIES:Evergreen
END:VEVENT
BEGIN:VEVENT
DTSTART;TZID=America/Winnipeg:20250417T103000
DTEND;TZID=America/Winnipeg:20250417T113000
DTSTAMP:20260425T062659
CREATED:20250326T172232Z
LAST-MODIFIED:20250416T182228Z
UID:51451-1744885800-1744889400@www.salemhome.ca
SUMMARY:Chapel: Reinland Mennonite
DESCRIPTION:
URL:https://www.salemhome.ca/event/chapel-reinland-mennonite-113/
CATEGORIES:Evergreen
END:VEVENT
BEGIN:VEVENT
DTSTART;TZID=America/Winnipeg:20250417T110000
DTEND;TZID=America/Winnipeg:20250417T120000
DTSTAMP:20260425T062659
CREATED:20250118T091530Z
LAST-MODIFIED:20250416T182228Z
UID:48931-1744887600-1744891200@www.salemhome.ca
SUMMARY:Spa Day
DESCRIPTION:
URL:https://www.salemhome.ca/event/spa-day-116/
CATEGORIES:Evergreen
END:VEVENT
BEGIN:VEVENT
DTSTART;TZID=America/Winnipeg:20250417T150000
DTEND;TZID=America/Winnipeg:20250417T160000
DTSTAMP:20260425T062659
CREATED:20250326T172232Z
LAST-MODIFIED:20250417T182228Z
UID:51452-1744902000-1744905600@www.salemhome.ca
SUMMARY:Octaband Fun
DESCRIPTION:
URL:https://www.salemhome.ca/event/octaband-fun-2/
CATEGORIES:Evergreen
END:VEVENT
BEGIN:VEVENT
DTSTART;TZID=America/Winnipeg:20250418T100000
DTEND;TZID=America/Winnipeg:20250418T110000
DTSTAMP:20260425T062659
CREATED:20250118T091530Z
LAST-MODIFIED:20250417T182228Z
UID:48934-1744970400-1744974000@www.salemhome.ca
SUMMARY:Men's Coffee Shop
DESCRIPTION:
URL:https://www.salemhome.ca/event/mens-coffee-shop-740/
CATEGORIES:Evergreen
END:VEVENT
BEGIN:VEVENT
DTSTART;TZID=America/Winnipeg:20250418T101500
DTEND;TZID=America/Winnipeg:20250418T104500
DTSTAMP:20260425T062659
CREATED:20250118T091530Z
LAST-MODIFIED:20250417T182228Z
UID:48932-1744971300-1744973100@www.salemhome.ca
SUMMARY:Chapel
DESCRIPTION:
URL:https://www.salemhome.ca/event/chapel-674/
CATEGORIES:Evergreen
END:VEVENT
BEGIN:VEVENT
DTSTART;TZID=America/Winnipeg:20250418T110000
DTEND;TZID=America/Winnipeg:20250418T120000
DTSTAMP:20260425T062659
CREATED:20250118T091530Z
LAST-MODIFIED:20250417T182228Z
UID:48933-1744974000-1744977600@www.salemhome.ca
SUMMARY:Music by Dave Nickel
DESCRIPTION:
URL:https://www.salemhome.ca/event/music-by-dave-nickel-119/
CATEGORIES:Evergreen
END:VEVENT
BEGIN:VEVENT
DTSTART;TZID=America/Winnipeg:20250418T140000
DTEND;TZID=America/Winnipeg:20250418T150000
DTSTAMP:20260425T062659
CREATED:20250119T091528Z
LAST-MODIFIED:20250418T182225Z
UID:48965-1744984800-1744988400@www.salemhome.ca
SUMMARY:Music Therapy
DESCRIPTION:
URL:https://www.salemhome.ca/event/music-therapy-234/
CATEGORIES:Evergreen
END:VEVENT
BEGIN:VEVENT
DTSTART;TZID=America/Winnipeg:20250419T100000
DTEND;TZID=America/Winnipeg:20250419T110000
DTSTAMP:20260425T062659
CREATED:20250120T091526Z
LAST-MODIFIED:20250324T170752Z
UID:48994-1745056800-1745060400@www.salemhome.ca
SUMMARY:Bingo
DESCRIPTION:
URL:https://www.salemhome.ca/event/bingo-724/
CATEGORIES:Evergreen
END:VEVENT
BEGIN:VEVENT
DTSTART;TZID=America/Winnipeg:20250419T100000
DTEND;TZID=America/Winnipeg:20250419T110000
DTSTAMP:20260425T062659
CREATED:20250326T172232Z
LAST-MODIFIED:20250418T182225Z
UID:51453-1745056800-1745060400@www.salemhome.ca
SUMMARY:Sing Along
DESCRIPTION:
URL:https://www.salemhome.ca/event/sing-along-158/
CATEGORIES:Evergreen
END:VEVENT
BEGIN:VEVENT
DTSTART;TZID=America/Winnipeg:20250419T150000
DTEND;TZID=America/Winnipeg:20250419T160000
DTSTAMP:20260425T062659
CREATED:20250326T172233Z
LAST-MODIFIED:20250419T182226Z
UID:51454-1745074800-1745078400@www.salemhome.ca
SUMMARY:Bingo
DESCRIPTION:
URL:https://www.salemhome.ca/event/bingo-809/
CATEGORIES:Evergreen
END:VEVENT
BEGIN:VEVENT
DTSTART;TZID=America/Winnipeg:20250419T181500
DTEND;TZID=America/Winnipeg:20250419T191500
DTSTAMP:20260425T062659
CREATED:20250121T093026Z
LAST-MODIFIED:20250324T170752Z
UID:49011-1745086500-1745090100@www.salemhome.ca
SUMMARY:The Pilgrims
DESCRIPTION:
URL:https://www.salemhome.ca/event/the-pilgrims-96/
CATEGORIES:Evergreen
END:VEVENT
END:VCALENDAR