BEGIN:VCALENDAR
VERSION:2.0
PRODID:-//Salem Home - ECPv6.15.20//NONSGML v1.0//EN
CALSCALE:GREGORIAN
METHOD:PUBLISH
X-WR-CALNAME:Salem Home
X-ORIGINAL-URL:https://www.salemhome.ca
X-WR-CALDESC:Events for Salem Home
REFRESH-INTERVAL;VALUE=DURATION:PT1H
X-Robots-Tag:noindex
X-PUBLISHED-TTL:PT1H
BEGIN:VTIMEZONE
TZID:America/Winnipeg
BEGIN:DAYLIGHT
TZOFFSETFROM:-0600
TZOFFSETTO:-0500
TZNAME:CDT
DTSTART:20240310T080000
END:DAYLIGHT
BEGIN:STANDARD
TZOFFSETFROM:-0500
TZOFFSETTO:-0600
TZNAME:CST
DTSTART:20241103T070000
END:STANDARD
BEGIN:DAYLIGHT
TZOFFSETFROM:-0600
TZOFFSETTO:-0500
TZNAME:CDT
DTSTART:20250309T080000
END:DAYLIGHT
BEGIN:STANDARD
TZOFFSETFROM:-0500
TZOFFSETTO:-0600
TZNAME:CST
DTSTART:20251102T070000
END:STANDARD
BEGIN:DAYLIGHT
TZOFFSETFROM:-0600
TZOFFSETTO:-0500
TZNAME:CDT
DTSTART:20260308T080000
END:DAYLIGHT
BEGIN:STANDARD
TZOFFSETFROM:-0500
TZOFFSETTO:-0600
TZNAME:CST
DTSTART:20261101T070000
END:STANDARD
END:VTIMEZONE
BEGIN:VEVENT
DTSTART;TZID=America/Winnipeg:20250421T144500
DTEND;TZID=America/Winnipeg:20250421T154500
DTSTAMP:20260425T085048
CREATED:20250121T093027Z
LAST-MODIFIED:20250324T170752Z
UID:49014-1745246700-1745250300@www.salemhome.ca
SUMMARY:Men's Group
DESCRIPTION:Located on Evergreen\, residents from all care areas welcome.
URL:https://www.salemhome.ca/event/mens-group-729/
CATEGORIES:Evergreen
END:VEVENT
BEGIN:VEVENT
DTSTART;TZID=America/Winnipeg:20250422T100000
DTEND;TZID=America/Winnipeg:20250422T110000
DTSTAMP:20260425T085048
CREATED:20250121T093027Z
LAST-MODIFIED:20250421T183727Z
UID:49015-1745316000-1745319600@www.salemhome.ca
SUMMARY:Men's Coffee Shop
DESCRIPTION:
URL:https://www.salemhome.ca/event/mens-coffee-shop-747/
CATEGORIES:Evergreen
END:VEVENT
BEGIN:VEVENT
DTSTART;TZID=America/Winnipeg:20250422T100000
DTEND;TZID=America/Winnipeg:20250422T110000
DTSTAMP:20260425T085048
CREATED:20250326T172233Z
LAST-MODIFIED:20250421T183727Z
UID:51456-1745316000-1745319600@www.salemhome.ca
SUMMARY:Move With Grace
DESCRIPTION:
URL:https://www.salemhome.ca/event/move-with-grace-38/
CATEGORIES:Evergreen
END:VEVENT
BEGIN:VEVENT
DTSTART;TZID=America/Winnipeg:20250422T150000
DTEND;TZID=America/Winnipeg:20250422T160000
DTSTAMP:20260425T085048
CREATED:20250326T172233Z
LAST-MODIFIED:20250422T183726Z
UID:51457-1745334000-1745337600@www.salemhome.ca
SUMMARY:Games
DESCRIPTION:
URL:https://www.salemhome.ca/event/games-133/
CATEGORIES:Evergreen
END:VEVENT
BEGIN:VEVENT
DTSTART;TZID=America/Winnipeg:20250422T183000
DTEND;TZID=America/Winnipeg:20250422T193000
DTSTAMP:20260425T085048
CREATED:20250122T093027Z
LAST-MODIFIED:20250422T183726Z
UID:49052-1745346600-1745350200@www.salemhome.ca
SUMMARY:Hymns With Friends
DESCRIPTION:
URL:https://www.salemhome.ca/event/movie-night-118/
CATEGORIES:Evergreen
END:VEVENT
BEGIN:VEVENT
DTSTART;TZID=America/Winnipeg:20250423T100000
DTEND;TZID=America/Winnipeg:20250423T110000
DTSTAMP:20260425T085048
CREATED:20250122T093027Z
LAST-MODIFIED:20250422T183726Z
UID:49053-1745402400-1745406000@www.salemhome.ca
SUMMARY:Men's Coffee Shop
DESCRIPTION:
URL:https://www.salemhome.ca/event/mens-coffee-shop-752/
CATEGORIES:Evergreen
END:VEVENT
BEGIN:VEVENT
DTSTART;TZID=America/Winnipeg:20250423T100000
DTEND;TZID=America/Winnipeg:20250423T110000
DTSTAMP:20260425T085048
CREATED:20250326T172234Z
LAST-MODIFIED:20250422T183726Z
UID:51459-1745402400-1745406000@www.salemhome.ca
SUMMARY:John & Irene Plantz
DESCRIPTION:
URL:https://www.salemhome.ca/event/john-irene-plantz-39/
CATEGORIES:Evergreen
END:VEVENT
BEGIN:VEVENT
DTSTART;TZID=America/Winnipeg:20250423T144500
DTEND;TZID=America/Winnipeg:20250423T154500
DTSTAMP:20260425T085048
CREATED:20250122T093027Z
LAST-MODIFIED:20250127T093043Z
UID:49054-1745419500-1745423100@www.salemhome.ca
SUMMARY:Men's Group
DESCRIPTION:Located on Maple North. Residents from all care areas are welcome to attend.
URL:https://www.salemhome.ca/event/mens-group-733/
CATEGORIES:Evergreen
END:VEVENT
BEGIN:VEVENT
DTSTART;TZID=America/Winnipeg:20250423T144500
DTEND;TZID=America/Winnipeg:20250423T154500
DTSTAMP:20260425T085048
CREATED:20250123T093027Z
LAST-MODIFIED:20250423T183745Z
UID:49081-1745419500-1745423100@www.salemhome.ca
SUMMARY:Bingo
DESCRIPTION:
URL:https://www.salemhome.ca/event/bingo-728/
CATEGORIES:Evergreen
END:VEVENT
BEGIN:VEVENT
DTSTART;TZID=America/Winnipeg:20250424T103000
DTEND;TZID=America/Winnipeg:20250424T113000
DTSTAMP:20260425T085048
CREATED:20250326T172234Z
LAST-MODIFIED:20250423T183747Z
UID:51460-1745490600-1745494200@www.salemhome.ca
SUMMARY:Chapel: Bethel Bergthaler
DESCRIPTION:
URL:https://www.salemhome.ca/event/chapel-bethel-bergthaler-11/
CATEGORIES:Evergreen
END:VEVENT
BEGIN:VEVENT
DTSTART;TZID=America/Winnipeg:20250424T110000
DTEND;TZID=America/Winnipeg:20250424T120000
DTSTAMP:20260425T085048
CREATED:20250123T093028Z
LAST-MODIFIED:20250423T183747Z
UID:49082-1745492400-1745496000@www.salemhome.ca
SUMMARY:Spa Day
DESCRIPTION:
URL:https://www.salemhome.ca/event/spa-day-117/
CATEGORIES:Evergreen
END:VEVENT
BEGIN:VEVENT
DTSTART;TZID=America/Winnipeg:20250424T150000
DTEND;TZID=America/Winnipeg:20250424T160000
DTSTAMP:20260425T085048
CREATED:20250326T172234Z
LAST-MODIFIED:20250424T183756Z
UID:51461-1745506800-1745510400@www.salemhome.ca
SUMMARY:Move It To Music
DESCRIPTION:
URL:https://www.salemhome.ca/event/move-it-to-music-8/
CATEGORIES:Evergreen
END:VEVENT
BEGIN:VEVENT
DTSTART;TZID=America/Winnipeg:20250425T100000
DTEND;TZID=America/Winnipeg:20250425T110000
DTSTAMP:20260425T085048
CREATED:20250123T093028Z
LAST-MODIFIED:20250424T183756Z
UID:49084-1745575200-1745578800@www.salemhome.ca
SUMMARY:Men's Coffee Shop
DESCRIPTION:
URL:https://www.salemhome.ca/event/mens-coffee-shop-755/
CATEGORIES:Evergreen
END:VEVENT
BEGIN:VEVENT
DTSTART;TZID=America/Winnipeg:20250425T101500
DTEND;TZID=America/Winnipeg:20250425T104500
DTSTAMP:20260425T085048
CREATED:20250123T093028Z
LAST-MODIFIED:20250424T183756Z
UID:49083-1745576100-1745577900@www.salemhome.ca
SUMMARY:Chapel
DESCRIPTION:
URL:https://www.salemhome.ca/event/chapel-678/
CATEGORIES:Evergreen
END:VEVENT
BEGIN:VEVENT
DTSTART;TZID=America/Winnipeg:20250425T110000
DTEND;TZID=America/Winnipeg:20250425T120000
DTSTAMP:20260425T085048
CREATED:20250124T093028Z
LAST-MODIFIED:20250424T183756Z
UID:49121-1745578800-1745582400@www.salemhome.ca
SUMMARY:Music by Dave Nickel
DESCRIPTION:
URL:https://www.salemhome.ca/event/music-by-dave-nickel-120/
CATEGORIES:Evergreen
END:VEVENT
BEGIN:VEVENT
DTSTART;TZID=America/Winnipeg:20250425T140000
DTEND;TZID=America/Winnipeg:20250425T150000
DTSTAMP:20260425T085048
CREATED:20250124T093028Z
LAST-MODIFIED:20250425T183726Z
UID:49122-1745589600-1745593200@www.salemhome.ca
SUMMARY:Music Therapy
DESCRIPTION:
URL:https://www.salemhome.ca/event/music-therapy-236/
CATEGORIES:Evergreen
END:VEVENT
BEGIN:VEVENT
DTSTART;TZID=America/Winnipeg:20250426T100000
DTEND;TZID=America/Winnipeg:20250426T110000
DTSTAMP:20260425T085048
CREATED:20250124T093028Z
LAST-MODIFIED:20250127T093043Z
UID:49123-1745661600-1745665200@www.salemhome.ca
SUMMARY:Bingo
DESCRIPTION:
URL:https://www.salemhome.ca/event/bingo-730/
CATEGORIES:Evergreen
END:VEVENT
BEGIN:VEVENT
DTSTART;TZID=America/Winnipeg:20250426T100000
DTEND;TZID=America/Winnipeg:20250426T110000
DTSTAMP:20260425T085048
CREATED:20250326T172234Z
LAST-MODIFIED:20250425T183726Z
UID:51462-1745661600-1745665200@www.salemhome.ca
SUMMARY:Spring Discussion
DESCRIPTION:
URL:https://www.salemhome.ca/event/spring-discussion/
CATEGORIES:Evergreen
END:VEVENT
BEGIN:VEVENT
DTSTART;TZID=America/Winnipeg:20250426T150000
DTEND;TZID=America/Winnipeg:20250426T160000
DTSTAMP:20260425T085048
CREATED:20250131T094530Z
LAST-MODIFIED:20250426T183745Z
UID:49592-1745679600-1745683200@www.salemhome.ca
SUMMARY:Bingo
DESCRIPTION:
URL:https://www.salemhome.ca/event/bingo-745/
CATEGORIES:Evergreen
END:VEVENT
BEGIN:VEVENT
DTSTART;VALUE=DATE:20250427
DTEND;VALUE=DATE:20250428
DTSTAMP:20260425T085048
CREATED:20250125T093029Z
LAST-MODIFIED:20250427T185650Z
UID:49162-1745712000-1745798399@www.salemhome.ca
SUMMARY:Day of Rest
DESCRIPTION:
URL:https://www.salemhome.ca/event/day-of-rest-285/
CATEGORIES:Evergreen
END:VEVENT
BEGIN:VEVENT
DTSTART;TZID=America/Winnipeg:20250427T094500
DTEND;TZID=America/Winnipeg:20250427T104500
DTSTAMP:20260425T085048
CREATED:20250326T172235Z
LAST-MODIFIED:20250426T183745Z
UID:51463-1745747100-1745750700@www.salemhome.ca
SUMMARY:Chapel: Grace Mennonite
DESCRIPTION:
URL:https://www.salemhome.ca/event/chapel-grace-mennonite-16/
CATEGORIES:Evergreen
END:VEVENT
BEGIN:VEVENT
DTSTART;TZID=America/Winnipeg:20250428T093000
DTEND;TZID=America/Winnipeg:20250428T110000
DTSTAMP:20260425T085048
CREATED:20250326T172235Z
LAST-MODIFIED:20250427T185650Z
UID:51465-1745832600-1745838000@www.salemhome.ca
SUMMARY:Feder Election Voting
DESCRIPTION:
URL:https://www.salemhome.ca/event/feder-election-voting/
CATEGORIES:Evergreen
END:VEVENT
BEGIN:VEVENT
DTSTART;TZID=America/Winnipeg:20250428T100000
DTEND;TZID=America/Winnipeg:20250428T110000
DTSTAMP:20260425T085048
CREATED:20250125T093029Z
LAST-MODIFIED:20250427T185650Z
UID:49163-1745834400-1745838000@www.salemhome.ca
SUMMARY:Men's Coffee Shop
DESCRIPTION:
URL:https://www.salemhome.ca/event/mens-coffee-shop-762/
CATEGORIES:Evergreen
END:VEVENT
BEGIN:VEVENT
DTSTART;TZID=America/Winnipeg:20250428T100000
DTEND;TZID=America/Winnipeg:20250428T110000
DTSTAMP:20260425T085048
CREATED:20250326T172235Z
LAST-MODIFIED:20250427T185650Z
UID:51464-1745834400-1745838000@www.salemhome.ca
SUMMARY:Blue Suede Shoes
DESCRIPTION:
URL:https://www.salemhome.ca/event/blue-suede-shoes-2/
CATEGORIES:Evergreen
END:VEVENT
BEGIN:VEVENT
DTSTART;TZID=America/Winnipeg:20250428T144500
DTEND;TZID=America/Winnipeg:20250428T154500
DTSTAMP:20260425T085048
CREATED:20250125T093030Z
LAST-MODIFIED:20250428T190754Z
UID:49164-1745851500-1745855100@www.salemhome.ca
SUMMARY:Men's Group
DESCRIPTION:Located on Evergreen\, residents from all care areas welcome.
URL:https://www.salemhome.ca/event/mens-group-740/
CATEGORIES:Evergreen
END:VEVENT
BEGIN:VEVENT
DTSTART;TZID=America/Winnipeg:20250428T150000
DTEND;TZID=America/Winnipeg:20250428T160000
DTSTAMP:20260425T085048
CREATED:20250326T172235Z
LAST-MODIFIED:20250428T190753Z
UID:51466-1745852400-1745856000@www.salemhome.ca
SUMMARY:Snakes & Ladders
DESCRIPTION:
URL:https://www.salemhome.ca/event/snakes-ladders-41/
CATEGORIES:Evergreen
END:VEVENT
BEGIN:VEVENT
DTSTART;TZID=America/Winnipeg:20250429T100000
DTEND;TZID=America/Winnipeg:20250429T110000
DTSTAMP:20260425T085048
CREATED:20250125T093030Z
LAST-MODIFIED:20250428T190754Z
UID:49165-1745920800-1745924400@www.salemhome.ca
SUMMARY:Men's Coffee Shop
DESCRIPTION:
URL:https://www.salemhome.ca/event/mens-coffee-shop-763/
CATEGORIES:Evergreen
END:VEVENT
BEGIN:VEVENT
DTSTART;TZID=America/Winnipeg:20250429T100000
DTEND;TZID=America/Winnipeg:20250429T110000
DTSTAMP:20260425T085048
CREATED:20250326T172235Z
LAST-MODIFIED:20250428T190754Z
UID:51467-1745920800-1745924400@www.salemhome.ca
SUMMARY:Move With Grace
DESCRIPTION:
URL:https://www.salemhome.ca/event/move-with-grace-39/
CATEGORIES:Evergreen
END:VEVENT
BEGIN:VEVENT
DTSTART;TZID=America/Winnipeg:20250429T150000
DTEND;TZID=America/Winnipeg:20250429T160000
DTSTAMP:20260425T085048
CREATED:20250326T172235Z
LAST-MODIFIED:20250429T192238Z
UID:51468-1745938800-1745942400@www.salemhome.ca
SUMMARY:Pet Match
DESCRIPTION:
URL:https://www.salemhome.ca/event/pet-match/
CATEGORIES:Evergreen
END:VEVENT
BEGIN:VEVENT
DTSTART;TZID=America/Winnipeg:20250429T180000
DTEND;TZID=America/Winnipeg:20250429T190000
DTSTAMP:20260425T085048
CREATED:20250126T093035Z
LAST-MODIFIED:20250429T192238Z
UID:49201-1745949600-1745953200@www.salemhome.ca
SUMMARY:Movie Night
DESCRIPTION:
URL:https://www.salemhome.ca/event/movie-night-119/
CATEGORIES:Evergreen
END:VEVENT
END:VCALENDAR