BEGIN:VCALENDAR
VERSION:2.0
PRODID:-//Salem Home - ECPv6.15.20//NONSGML v1.0//EN
CALSCALE:GREGORIAN
METHOD:PUBLISH
X-WR-CALNAME:Salem Home
X-ORIGINAL-URL:https://www.salemhome.ca
X-WR-CALDESC:Events for Salem Home
REFRESH-INTERVAL;VALUE=DURATION:PT1H
X-Robots-Tag:noindex
X-PUBLISHED-TTL:PT1H
BEGIN:VTIMEZONE
TZID:America/Winnipeg
BEGIN:DAYLIGHT
TZOFFSETFROM:-0600
TZOFFSETTO:-0500
TZNAME:CDT
DTSTART:20240310T080000
END:DAYLIGHT
BEGIN:STANDARD
TZOFFSETFROM:-0500
TZOFFSETTO:-0600
TZNAME:CST
DTSTART:20241103T070000
END:STANDARD
BEGIN:DAYLIGHT
TZOFFSETFROM:-0600
TZOFFSETTO:-0500
TZNAME:CDT
DTSTART:20250309T080000
END:DAYLIGHT
BEGIN:STANDARD
TZOFFSETFROM:-0500
TZOFFSETTO:-0600
TZNAME:CST
DTSTART:20251102T070000
END:STANDARD
BEGIN:DAYLIGHT
TZOFFSETFROM:-0600
TZOFFSETTO:-0500
TZNAME:CDT
DTSTART:20260308T080000
END:DAYLIGHT
BEGIN:STANDARD
TZOFFSETFROM:-0500
TZOFFSETTO:-0600
TZNAME:CST
DTSTART:20261101T070000
END:STANDARD
END:VTIMEZONE
BEGIN:VEVENT
DTSTART;TZID=America/Winnipeg:20250820T100000
DTEND;TZID=America/Winnipeg:20250820T110000
DTSTAMP:20260421T153040
CREATED:20250611T211137Z
LAST-MODIFIED:20250820T135934Z
UID:54288-1755684000-1755687600@www.salemhome.ca
SUMMARY:Men's Coffee Shop
DESCRIPTION:
URL:https://www.salemhome.ca/event/mens-coffee-shop-942/
CATEGORIES:Evergreen
END:VEVENT
BEGIN:VEVENT
DTSTART;TZID=America/Winnipeg:20250820T144500
DTEND;TZID=America/Winnipeg:20250820T154500
DTSTAMP:20260421T153040
CREATED:20250611T211138Z
LAST-MODIFIED:20250728T125522Z
UID:54290-1755701100-1755704700@www.salemhome.ca
SUMMARY:Men's Group
DESCRIPTION:Located on Maple North. Residents from all care areas are welcome to attend.
URL:https://www.salemhome.ca/event/mens-group-879/
CATEGORIES:Evergreen
END:VEVENT
BEGIN:VEVENT
DTSTART;TZID=America/Winnipeg:20250820T144500
DTEND;TZID=America/Winnipeg:20250820T154500
DTSTAMP:20260421T153040
CREATED:20250611T211138Z
LAST-MODIFIED:20250820T135934Z
UID:54289-1755701100-1755704700@www.salemhome.ca
SUMMARY:Bingo
DESCRIPTION:
URL:https://www.salemhome.ca/event/bingo-899/
CATEGORIES:Evergreen
END:VEVENT
BEGIN:VEVENT
DTSTART;TZID=America/Winnipeg:20250820T144500
DTEND;TZID=America/Winnipeg:20250820T154500
DTSTAMP:20260421T153040
CREATED:20250720T115528Z
LAST-MODIFIED:20250820T135934Z
UID:55744-1755701100-1755704700@www.salemhome.ca
SUMMARY:Men's Coffee Shop
DESCRIPTION:
URL:https://www.salemhome.ca/event/mens-coffee-shop-990/
CATEGORIES:Evergreen
END:VEVENT
BEGIN:VEVENT
DTSTART;TZID=America/Winnipeg:20250820T180000
DTEND;TZID=America/Winnipeg:20250820T190000
DTSTAMP:20260421T153040
CREATED:20250611T211138Z
LAST-MODIFIED:20250728T125523Z
UID:54291-1755712800-1755716400@www.salemhome.ca
SUMMARY:Henry & Marge Wall
DESCRIPTION:
URL:https://www.salemhome.ca/event/henry-marge-wall-10/
CATEGORIES:Evergreen
END:VEVENT
BEGIN:VEVENT
DTSTART;TZID=America/Winnipeg:20250821T100000
DTEND;TZID=America/Winnipeg:20250821T110000
DTSTAMP:20260421T153040
CREATED:20250720T115530Z
LAST-MODIFIED:20250821T135900Z
UID:55745-1755770400-1755774000@www.salemhome.ca
SUMMARY:Hymn Sing
DESCRIPTION:
URL:https://www.salemhome.ca/event/hymn-sing-615/
CATEGORIES:Evergreen
END:VEVENT
BEGIN:VEVENT
DTSTART;TZID=America/Winnipeg:20250821T103000
DTEND;TZID=America/Winnipeg:20250821T113000
DTSTAMP:20260421T153040
CREATED:20250729T125526Z
LAST-MODIFIED:20250821T135900Z
UID:56221-1755772200-1755775800@www.salemhome.ca
SUMMARY:Chapel
DESCRIPTION:
URL:https://www.salemhome.ca/event/chapel-750/
CATEGORIES:Evergreen
END:VEVENT
BEGIN:VEVENT
DTSTART;TZID=America/Winnipeg:20250821T110000
DTEND;TZID=America/Winnipeg:20250821T120000
DTSTAMP:20260421T153040
CREATED:20250611T211139Z
LAST-MODIFIED:20250821T135900Z
UID:54292-1755774000-1755777600@www.salemhome.ca
SUMMARY:Spa Day
DESCRIPTION:
URL:https://www.salemhome.ca/event/spa-day-134/
CATEGORIES:Evergreen
END:VEVENT
BEGIN:VEVENT
DTSTART;TZID=America/Winnipeg:20250821T150000
DTEND;TZID=America/Winnipeg:20250821T160000
DTSTAMP:20260421T153040
CREATED:20250729T125527Z
LAST-MODIFIED:20250821T135900Z
UID:56222-1755788400-1755792000@www.salemhome.ca
SUMMARY:Keep It Up!
DESCRIPTION:
URL:https://www.salemhome.ca/event/keep-it-up-5/
CATEGORIES:Evergreen
END:VEVENT
BEGIN:VEVENT
DTSTART;TZID=America/Winnipeg:20250822T100000
DTEND;TZID=America/Winnipeg:20250822T110000
DTSTAMP:20260421T153040
CREATED:20250611T211139Z
LAST-MODIFIED:20250822T141400Z
UID:54294-1755856800-1755860400@www.salemhome.ca
SUMMARY:Men's Coffee Shop
DESCRIPTION:
URL:https://www.salemhome.ca/event/mens-coffee-shop-943/
CATEGORIES:Evergreen
END:VEVENT
BEGIN:VEVENT
DTSTART;TZID=America/Winnipeg:20250822T101500
DTEND;TZID=America/Winnipeg:20250822T104500
DTSTAMP:20260421T153040
CREATED:20250611T211139Z
LAST-MODIFIED:20250822T141400Z
UID:54293-1755857700-1755859500@www.salemhome.ca
SUMMARY:Chapel
DESCRIPTION:
URL:https://www.salemhome.ca/event/chapel-735/
CATEGORIES:Evergreen
END:VEVENT
BEGIN:VEVENT
DTSTART;TZID=America/Winnipeg:20250822T110000
DTEND;TZID=America/Winnipeg:20250822T120000
DTSTAMP:20260421T153040
CREATED:20250611T211139Z
LAST-MODIFIED:20250822T141400Z
UID:54295-1755860400-1755864000@www.salemhome.ca
SUMMARY:Music by Dave Nickel
DESCRIPTION:
URL:https://www.salemhome.ca/event/music-by-dave-nickel-137/
CATEGORIES:Evergreen
END:VEVENT
BEGIN:VEVENT
DTSTART;TZID=America/Winnipeg:20250822T140000
DTEND;TZID=America/Winnipeg:20250822T150000
DTSTAMP:20260421T153040
CREATED:20250611T211139Z
LAST-MODIFIED:20250822T141400Z
UID:54296-1755871200-1755874800@www.salemhome.ca
SUMMARY:Music Therapy
DESCRIPTION:
URL:https://www.salemhome.ca/event/music-therapy-264/
CATEGORIES:Evergreen
END:VEVENT
BEGIN:VEVENT
DTSTART;TZID=America/Winnipeg:20250822T150000
DTEND;TZID=America/Winnipeg:20250822T160000
DTSTAMP:20260421T153040
CREATED:20250720T115530Z
LAST-MODIFIED:20250822T141400Z
UID:55746-1755874800-1755878400@www.salemhome.ca
SUMMARY:Spotify Favorites
DESCRIPTION:
URL:https://www.salemhome.ca/event/spotify-favorites-5/
CATEGORIES:Evergreen
END:VEVENT
BEGIN:VEVENT
DTSTART;TZID=America/Winnipeg:20250823T100000
DTEND;TZID=America/Winnipeg:20250823T110000
DTSTAMP:20260421T153040
CREATED:20250729T125527Z
LAST-MODIFIED:20250823T141401Z
UID:56224-1755943200-1755946800@www.salemhome.ca
SUMMARY:Devotions
DESCRIPTION:
URL:https://www.salemhome.ca/event/devotions-132/
CATEGORIES:Evergreen
END:VEVENT
BEGIN:VEVENT
DTSTART;TZID=America/Winnipeg:20250823T103000
DTEND;TZID=America/Winnipeg:20250823T113000
DTSTAMP:20260421T153040
CREATED:20250729T125527Z
LAST-MODIFIED:20250823T141401Z
UID:56223-1755945000-1755948600@www.salemhome.ca
SUMMARY:Patio visits
DESCRIPTION:
URL:https://www.salemhome.ca/event/patio-visits-5/
CATEGORIES:Evergreen
END:VEVENT
BEGIN:VEVENT
DTSTART;TZID=America/Winnipeg:20250823T150000
DTEND;TZID=America/Winnipeg:20250823T160000
DTSTAMP:20260421T153040
CREATED:20250611T211140Z
LAST-MODIFIED:20250823T141402Z
UID:54297-1755961200-1755964800@www.salemhome.ca
SUMMARY:Bingo
DESCRIPTION:
URL:https://www.salemhome.ca/event/bingo-900/
CATEGORIES:Evergreen
END:VEVENT
BEGIN:VEVENT
DTSTART;VALUE=DATE:20250824
DTEND;VALUE=DATE:20250825
DTSTAMP:20260421T153040
CREATED:20250611T211140Z
LAST-MODIFIED:20250824T142934Z
UID:54298-1755993600-1756079999@www.salemhome.ca
SUMMARY:Day of Rest
DESCRIPTION:
URL:https://www.salemhome.ca/event/day-of-rest-355/
CATEGORIES:Evergreen
END:VEVENT
BEGIN:VEVENT
DTSTART;TZID=America/Winnipeg:20250824T094500
DTEND;TZID=America/Winnipeg:20250824T104500
DTSTAMP:20260421T153040
CREATED:20250729T125528Z
LAST-MODIFIED:20250824T142934Z
UID:56225-1756028700-1756032300@www.salemhome.ca
SUMMARY:Winkler Mennonite Church
DESCRIPTION:
URL:https://www.salemhome.ca/event/winkler-mennonite-church/
CATEGORIES:Evergreen
END:VEVENT
BEGIN:VEVENT
DTSTART;TZID=America/Winnipeg:20250825T100000
DTEND;TZID=America/Winnipeg:20250825T110000
DTSTAMP:20260421T153040
CREATED:20250611T211140Z
LAST-MODIFIED:20250825T142901Z
UID:54299-1756116000-1756119600@www.salemhome.ca
SUMMARY:Men's Coffee Shop
DESCRIPTION:
URL:https://www.salemhome.ca/event/mens-coffee-shop-944/
CATEGORIES:Evergreen
END:VEVENT
BEGIN:VEVENT
DTSTART;TZID=America/Winnipeg:20250825T100000
DTEND;TZID=America/Winnipeg:20250825T110000
DTSTAMP:20260421T153040
CREATED:20250729T125528Z
LAST-MODIFIED:20250825T142901Z
UID:56226-1756116000-1756119600@www.salemhome.ca
SUMMARY:Devotions & Spelling B
DESCRIPTION:
URL:https://www.salemhome.ca/event/devotions-spelling-b/
CATEGORIES:Evergreen
END:VEVENT
BEGIN:VEVENT
DTSTART;TZID=America/Winnipeg:20250825T144500
DTEND;TZID=America/Winnipeg:20250825T154500
DTSTAMP:20260421T153040
CREATED:20250611T211140Z
LAST-MODIFIED:20250825T142901Z
UID:54300-1756133100-1756136700@www.salemhome.ca
SUMMARY:Men's Group
DESCRIPTION:Located on Evergreen\, residents from all care areas welcome.
URL:https://www.salemhome.ca/event/mens-group-880/
CATEGORIES:Evergreen
END:VEVENT
BEGIN:VEVENT
DTSTART;TZID=America/Winnipeg:20250826T100000
DTEND;TZID=America/Winnipeg:20250826T110000
DTSTAMP:20260421T153040
CREATED:20250611T211141Z
LAST-MODIFIED:20250826T142903Z
UID:54301-1756202400-1756206000@www.salemhome.ca
SUMMARY:Move With Grace
DESCRIPTION:
URL:https://www.salemhome.ca/event/move-with-grace-104/
CATEGORIES:Evergreen
END:VEVENT
BEGIN:VEVENT
DTSTART;TZID=America/Winnipeg:20250826T100000
DTEND;TZID=America/Winnipeg:20250826T110000
DTSTAMP:20260421T153040
CREATED:20250611T211141Z
LAST-MODIFIED:20250826T142903Z
UID:54302-1756202400-1756206000@www.salemhome.ca
SUMMARY:Men's Coffee Shop
DESCRIPTION:
URL:https://www.salemhome.ca/event/mens-coffee-shop-945/
CATEGORIES:Evergreen
END:VEVENT
BEGIN:VEVENT
DTSTART;TZID=America/Winnipeg:20250826T150000
DTEND;TZID=America/Winnipeg:20250826T160000
DTSTAMP:20260421T153040
CREATED:20250729T125528Z
LAST-MODIFIED:20250826T142903Z
UID:56227-1756220400-1756224000@www.salemhome.ca
SUMMARY:Back to School
DESCRIPTION:
URL:https://www.salemhome.ca/event/back-to-school-4/
CATEGORIES:Evergreen
END:VEVENT
BEGIN:VEVENT
DTSTART;TZID=America/Winnipeg:20250826T180000
DTEND;TZID=America/Winnipeg:20250826T190000
DTSTAMP:20260421T153040
CREATED:20250611T211141Z
LAST-MODIFIED:20250826T142903Z
UID:54303-1756231200-1756234800@www.salemhome.ca
SUMMARY:Movie Night
DESCRIPTION:
URL:https://www.salemhome.ca/event/movie-night-137/
CATEGORIES:Evergreen
END:VEVENT
BEGIN:VEVENT
DTSTART;TZID=America/Winnipeg:20250827T100000
DTEND;TZID=America/Winnipeg:20250827T110000
DTSTAMP:20260421T153040
CREATED:20250611T211141Z
LAST-MODIFIED:20250827T142905Z
UID:54304-1756288800-1756292400@www.salemhome.ca
SUMMARY:Men's Coffee Shop
DESCRIPTION:
URL:https://www.salemhome.ca/event/mens-coffee-shop-946/
CATEGORIES:Evergreen
END:VEVENT
BEGIN:VEVENT
DTSTART;TZID=America/Winnipeg:20250827T100000
DTEND;TZID=America/Winnipeg:20250827T110000
DTSTAMP:20260421T153040
CREATED:20250611T211142Z
LAST-MODIFIED:20250827T142905Z
UID:54305-1756288800-1756292400@www.salemhome.ca
SUMMARY:John & Irene Plantz
DESCRIPTION:
URL:https://www.salemhome.ca/event/john-irene-plantz-57/
CATEGORIES:Evergreen
END:VEVENT
BEGIN:VEVENT
DTSTART;TZID=America/Winnipeg:20250827T144500
DTEND;TZID=America/Winnipeg:20250827T154500
DTSTAMP:20260421T153040
CREATED:20250611T211142Z
LAST-MODIFIED:20250827T142905Z
UID:54306-1756305900-1756309500@www.salemhome.ca
SUMMARY:Bingo
DESCRIPTION:
URL:https://www.salemhome.ca/event/bingo-901/
CATEGORIES:Evergreen
END:VEVENT
BEGIN:VEVENT
DTSTART;TZID=America/Winnipeg:20250827T144500
DTEND;TZID=America/Winnipeg:20250827T154500
DTSTAMP:20260421T153040
CREATED:20250720T115531Z
LAST-MODIFIED:20250827T142905Z
UID:55747-1756305900-1756309500@www.salemhome.ca
SUMMARY:Men's Coffee Shop
DESCRIPTION:
URL:https://www.salemhome.ca/event/mens-coffee-shop-991/
CATEGORIES:Evergreen
END:VEVENT
END:VCALENDAR