BEGIN:VCALENDAR
VERSION:2.0
PRODID:-//Salem Home - ECPv6.15.20//NONSGML v1.0//EN
CALSCALE:GREGORIAN
METHOD:PUBLISH
X-ORIGINAL-URL:https://www.salemhome.ca
X-WR-CALDESC:Events for Salem Home
REFRESH-INTERVAL;VALUE=DURATION:PT1H
X-Robots-Tag:noindex
X-PUBLISHED-TTL:PT1H
BEGIN:VTIMEZONE
TZID:America/Winnipeg
BEGIN:DAYLIGHT
TZOFFSETFROM:-0600
TZOFFSETTO:-0500
TZNAME:CDT
DTSTART:20240310T080000
END:DAYLIGHT
BEGIN:STANDARD
TZOFFSETFROM:-0500
TZOFFSETTO:-0600
TZNAME:CST
DTSTART:20241103T070000
END:STANDARD
BEGIN:DAYLIGHT
TZOFFSETFROM:-0600
TZOFFSETTO:-0500
TZNAME:CDT
DTSTART:20250309T080000
END:DAYLIGHT
BEGIN:STANDARD
TZOFFSETFROM:-0500
TZOFFSETTO:-0600
TZNAME:CST
DTSTART:20251102T070000
END:STANDARD
BEGIN:DAYLIGHT
TZOFFSETFROM:-0600
TZOFFSETTO:-0500
TZNAME:CDT
DTSTART:20260308T080000
END:DAYLIGHT
BEGIN:STANDARD
TZOFFSETFROM:-0500
TZOFFSETTO:-0600
TZNAME:CST
DTSTART:20261101T070000
END:STANDARD
END:VTIMEZONE
BEGIN:VEVENT
DTSTART;TZID=America/Winnipeg:20250613T100000
DTEND;TZID=America/Winnipeg:20250613T110000
DTSTAMP:20260423T215045
CREATED:20250317T163751Z
LAST-MODIFIED:20250612T212515Z
UID:50912-1749808800-1749812400@www.salemhome.ca
SUMMARY:Men's Coffee Shop
DESCRIPTION:
URL:https://www.salemhome.ca/event/mens-coffee-shop-846/
CATEGORIES:Evergreen
END:VEVENT
BEGIN:VEVENT
DTSTART;TZID=America/Winnipeg:20250613T101500
DTEND;TZID=America/Winnipeg:20250613T104500
DTSTAMP:20260423T215045
CREATED:20250317T163752Z
LAST-MODIFIED:20250612T212515Z
UID:50913-1749809700-1749811500@www.salemhome.ca
SUMMARY:Chapel
DESCRIPTION:
URL:https://www.salemhome.ca/event/chapel-709/
CATEGORIES:Evergreen
END:VEVENT
BEGIN:VEVENT
DTSTART;TZID=America/Winnipeg:20250613T110000
DTEND;TZID=America/Winnipeg:20250613T120000
DTSTAMP:20260423T215045
CREATED:20250317T163752Z
LAST-MODIFIED:20250612T212515Z
UID:50914-1749812400-1749816000@www.salemhome.ca
SUMMARY:Music by Dave Nickel
DESCRIPTION:
URL:https://www.salemhome.ca/event/music-by-dave-nickel-127/
CATEGORIES:Evergreen
END:VEVENT
BEGIN:VEVENT
DTSTART;TZID=America/Winnipeg:20250613T140000
DTEND;TZID=America/Winnipeg:20250613T150000
DTSTAMP:20260423T215045
CREATED:20250317T163753Z
LAST-MODIFIED:20250612T212516Z
UID:50915-1749823200-1749826800@www.salemhome.ca
SUMMARY:Music Therapy
DESCRIPTION:
URL:https://www.salemhome.ca/event/music-therapy-248/
CATEGORIES:Evergreen
END:VEVENT
BEGIN:VEVENT
DTSTART;TZID=America/Winnipeg:20250614T100000
DTEND;TZID=America/Winnipeg:20250614T110000
DTSTAMP:20260423T215045
CREATED:20250317T163753Z
LAST-MODIFIED:20250324T170802Z
UID:50916-1749895200-1749898800@www.salemhome.ca
SUMMARY:Bingo
DESCRIPTION:
URL:https://www.salemhome.ca/event/bingo-785/
CATEGORIES:Evergreen
END:VEVENT
BEGIN:VEVENT
DTSTART;TZID=America/Winnipeg:20250614T150000
DTEND;TZID=America/Winnipeg:20250614T160000
DTSTAMP:20260423T215045
CREATED:20250401T172248Z
LAST-MODIFIED:20250613T212546Z
UID:51884-1749913200-1749916800@www.salemhome.ca
SUMMARY:Bingo
DESCRIPTION:
URL:https://www.salemhome.ca/event/bingo-823/
CATEGORIES:Evergreen
END:VEVENT
BEGIN:VEVENT
DTSTART;VALUE=DATE:20250615
DTEND;VALUE=DATE:20250616
DTSTAMP:20260423T215045
CREATED:20250317T163753Z
LAST-MODIFIED:20250615T212513Z
UID:50917-1749945600-1750031999@www.salemhome.ca
SUMMARY:Day of Rest
DESCRIPTION:
URL:https://www.salemhome.ca/event/day-of-rest-314/
CATEGORIES:Evergreen
END:VEVENT
BEGIN:VEVENT
DTSTART;TZID=America/Winnipeg:20250616T100000
DTEND;TZID=America/Winnipeg:20250616T110000
DTSTAMP:20260423T215045
CREATED:20250317T163753Z
LAST-MODIFIED:20250615T212513Z
UID:50918-1750068000-1750071600@www.salemhome.ca
SUMMARY:Men's Coffee Shop
DESCRIPTION:
URL:https://www.salemhome.ca/event/mens-coffee-shop-847/
CATEGORIES:Evergreen
END:VEVENT
BEGIN:VEVENT
DTSTART;TZID=America/Winnipeg:20250616T144500
DTEND;TZID=America/Winnipeg:20250616T154500
DTSTAMP:20260423T215045
CREATED:20250317T163754Z
LAST-MODIFIED:20250615T212513Z
UID:50919-1750085100-1750088700@www.salemhome.ca
SUMMARY:Men's Group
DESCRIPTION:Located on Evergreen\, residents from all care areas welcome.
URL:https://www.salemhome.ca/event/mens-group-810/
CATEGORIES:Evergreen
END:VEVENT
BEGIN:VEVENT
DTSTART;TZID=America/Winnipeg:20250617T100000
DTEND;TZID=America/Winnipeg:20250617T110000
DTSTAMP:20260423T215045
CREATED:20250317T163754Z
LAST-MODIFIED:20250615T212513Z
UID:50920-1750154400-1750158000@www.salemhome.ca
SUMMARY:Men's Coffee Shop
DESCRIPTION:
URL:https://www.salemhome.ca/event/mens-coffee-shop-848/
CATEGORIES:Evergreen
END:VEVENT
BEGIN:VEVENT
DTSTART;TZID=America/Winnipeg:20250617T100000
DTEND;TZID=America/Winnipeg:20250617T110000
DTSTAMP:20260423T215045
CREATED:20250402T172244Z
LAST-MODIFIED:20250615T212514Z
UID:51959-1750154400-1750158000@www.salemhome.ca
SUMMARY:Move With Grace
DESCRIPTION:
URL:https://www.salemhome.ca/event/move-with-grace-54/
CATEGORIES:Evergreen
END:VEVENT
BEGIN:VEVENT
DTSTART;TZID=America/Winnipeg:20250617T180000
DTEND;TZID=America/Winnipeg:20250617T190000
DTSTAMP:20260423T215045
CREATED:20250317T163754Z
LAST-MODIFIED:20250615T212514Z
UID:50921-1750183200-1750186800@www.salemhome.ca
SUMMARY:Movie Night
DESCRIPTION:
URL:https://www.salemhome.ca/event/movie-night-126/
CATEGORIES:Evergreen
END:VEVENT
BEGIN:VEVENT
DTSTART;TZID=America/Winnipeg:20250618T100000
DTEND;TZID=America/Winnipeg:20250618T110000
DTSTAMP:20260423T215045
CREATED:20250318T170220Z
LAST-MODIFIED:20250615T212514Z
UID:50954-1750240800-1750244400@www.salemhome.ca
SUMMARY:Men's Coffee Shop
DESCRIPTION:
URL:https://www.salemhome.ca/event/mens-coffee-shop-849/
CATEGORIES:Evergreen
END:VEVENT
BEGIN:VEVENT
DTSTART;TZID=America/Winnipeg:20250618T100000
DTEND;TZID=America/Winnipeg:20250618T110000
DTSTAMP:20260423T215045
CREATED:20250403T172248Z
LAST-MODIFIED:20250615T212514Z
UID:52032-1750240800-1750244400@www.salemhome.ca
SUMMARY:John & Irene Plantz
DESCRIPTION:
URL:https://www.salemhome.ca/event/john-irene-plantz-47/
CATEGORIES:Evergreen
END:VEVENT
BEGIN:VEVENT
DTSTART;TZID=America/Winnipeg:20250618T144500
DTEND;TZID=America/Winnipeg:20250618T154500
DTSTAMP:20260423T215045
CREATED:20250318T170220Z
LAST-MODIFIED:20250615T212514Z
UID:50955-1750257900-1750261500@www.salemhome.ca
SUMMARY:Bingo
DESCRIPTION:
URL:https://www.salemhome.ca/event/bingo-786/
CATEGORIES:Evergreen
END:VEVENT
BEGIN:VEVENT
DTSTART;TZID=America/Winnipeg:20250618T180000
DTEND;TZID=America/Winnipeg:20250618T190000
DTSTAMP:20260423T215045
CREATED:20250318T170221Z
LAST-MODIFIED:20250615T212514Z
UID:50956-1750269600-1750273200@www.salemhome.ca
SUMMARY:Henry & Marge Wall
DESCRIPTION:
URL:https://www.salemhome.ca/event/henry-marge-wall-9/
CATEGORIES:Evergreen
END:VEVENT
BEGIN:VEVENT
DTSTART;TZID=America/Winnipeg:20250619T110000
DTEND;TZID=America/Winnipeg:20250619T120000
DTSTAMP:20260423T215045
CREATED:20250318T170221Z
LAST-MODIFIED:20250615T212514Z
UID:50957-1750330800-1750334400@www.salemhome.ca
SUMMARY:Spa Day
DESCRIPTION:
URL:https://www.salemhome.ca/event/spa-day-125/
CATEGORIES:Evergreen
END:VEVENT
BEGIN:VEVENT
DTSTART;TZID=America/Winnipeg:20250620T100000
DTEND;TZID=America/Winnipeg:20250620T110000
DTSTAMP:20260423T215045
CREATED:20250319T170744Z
LAST-MODIFIED:20250615T212514Z
UID:51020-1750413600-1750417200@www.salemhome.ca
SUMMARY:Men's Coffee Shop
DESCRIPTION:
URL:https://www.salemhome.ca/event/mens-coffee-shop-857/
CATEGORIES:Evergreen
END:VEVENT
BEGIN:VEVENT
DTSTART;TZID=America/Winnipeg:20250620T101500
DTEND;TZID=America/Winnipeg:20250620T104500
DTSTAMP:20260423T215045
CREATED:20250319T170743Z
LAST-MODIFIED:20250615T212514Z
UID:51019-1750414500-1750416300@www.salemhome.ca
SUMMARY:Chapel
DESCRIPTION:
URL:https://www.salemhome.ca/event/chapel-712/
CATEGORIES:Evergreen
END:VEVENT
BEGIN:VEVENT
DTSTART;TZID=America/Winnipeg:20250620T110000
DTEND;TZID=America/Winnipeg:20250620T120000
DTSTAMP:20260423T215045
CREATED:20250319T170744Z
LAST-MODIFIED:20250615T212514Z
UID:51021-1750417200-1750420800@www.salemhome.ca
SUMMARY:Music by Dave Nickel
DESCRIPTION:
URL:https://www.salemhome.ca/event/music-by-dave-nickel-128/
CATEGORIES:Evergreen
END:VEVENT
BEGIN:VEVENT
DTSTART;TZID=America/Winnipeg:20250620T140000
DTEND;TZID=America/Winnipeg:20250620T150000
DTSTAMP:20260423T215045
CREATED:20250319T170744Z
LAST-MODIFIED:20250615T212515Z
UID:51022-1750428000-1750431600@www.salemhome.ca
SUMMARY:Music Therapy
DESCRIPTION:
URL:https://www.salemhome.ca/event/music-therapy-249/
CATEGORIES:Evergreen
END:VEVENT
BEGIN:VEVENT
DTSTART;TZID=America/Winnipeg:20250621T150000
DTEND;TZID=America/Winnipeg:20250621T160000
DTSTAMP:20260423T215045
CREATED:20250320T170744Z
LAST-MODIFIED:20250615T212515Z
UID:51057-1750518000-1750521600@www.salemhome.ca
SUMMARY:Bingo
DESCRIPTION:
URL:https://www.salemhome.ca/event/bingo-789/
CATEGORIES:Evergreen
END:VEVENT
BEGIN:VEVENT
DTSTART;TZID=America/Winnipeg:20250621T181500
DTEND;TZID=America/Winnipeg:20250621T191500
DTSTAMP:20260423T215045
CREATED:20250320T170745Z
LAST-MODIFIED:20250615T212515Z
UID:51059-1750529700-1750533300@www.salemhome.ca
SUMMARY:The Pilgrims
DESCRIPTION:
URL:https://www.salemhome.ca/event/the-pilgrims-104/
CATEGORIES:Evergreen
END:VEVENT
BEGIN:VEVENT
DTSTART;VALUE=DATE:20250622
DTEND;VALUE=DATE:20250623
DTSTAMP:20260423T215045
CREATED:20250320T170744Z
LAST-MODIFIED:20250615T212515Z
UID:51058-1750550400-1750636799@www.salemhome.ca
SUMMARY:Day of Rest
DESCRIPTION:
URL:https://www.salemhome.ca/event/day-of-rest-316/
CATEGORIES:Evergreen
END:VEVENT
BEGIN:VEVENT
DTSTART;TZID=America/Winnipeg:20250623T100000
DTEND;TZID=America/Winnipeg:20250623T110000
DTSTAMP:20260423T215045
CREATED:20250320T170745Z
LAST-MODIFIED:20250615T212515Z
UID:51060-1750672800-1750676400@www.salemhome.ca
SUMMARY:Men's Coffee Shop
DESCRIPTION:
URL:https://www.salemhome.ca/event/mens-coffee-shop-859/
CATEGORIES:Evergreen
END:VEVENT
BEGIN:VEVENT
DTSTART;TZID=America/Winnipeg:20250623T144500
DTEND;TZID=America/Winnipeg:20250623T154500
DTSTAMP:20260423T215045
CREATED:20250320T170745Z
LAST-MODIFIED:20250615T212515Z
UID:51061-1750689900-1750693500@www.salemhome.ca
SUMMARY:Men's Group
DESCRIPTION:Located on Evergreen\, residents from all care areas welcome.
URL:https://www.salemhome.ca/event/mens-group-817/
CATEGORIES:Evergreen
END:VEVENT
BEGIN:VEVENT
DTSTART;TZID=America/Winnipeg:20250624T100000
DTEND;TZID=America/Winnipeg:20250624T110000
DTSTAMP:20260423T215045
CREATED:20250321T170753Z
LAST-MODIFIED:20250615T212515Z
UID:51093-1750759200-1750762800@www.salemhome.ca
SUMMARY:Men's Coffee Shop
DESCRIPTION:
URL:https://www.salemhome.ca/event/mens-coffee-shop-861/
CATEGORIES:Evergreen
END:VEVENT
BEGIN:VEVENT
DTSTART;TZID=America/Winnipeg:20250624T100000
DTEND;TZID=America/Winnipeg:20250624T110000
DTSTAMP:20260423T215045
CREATED:20250406T175252Z
LAST-MODIFIED:20250615T212515Z
UID:52074-1750759200-1750762800@www.salemhome.ca
SUMMARY:Move With Grace
DESCRIPTION:
URL:https://www.salemhome.ca/event/move-with-grace-56/
CATEGORIES:Evergreen
END:VEVENT
BEGIN:VEVENT
DTSTART;TZID=America/Winnipeg:20250624T180000
DTEND;TZID=America/Winnipeg:20250624T190000
DTSTAMP:20260423T215045
CREATED:20250321T170753Z
LAST-MODIFIED:20250615T212515Z
UID:51094-1750788000-1750791600@www.salemhome.ca
SUMMARY:Movie Night
DESCRIPTION:
URL:https://www.salemhome.ca/event/movie-night-127/
CATEGORIES:Evergreen
END:VEVENT
BEGIN:VEVENT
DTSTART;TZID=America/Winnipeg:20250625T100000
DTEND;TZID=America/Winnipeg:20250625T110000
DTSTAMP:20260423T215045
CREATED:20250321T170753Z
LAST-MODIFIED:20250615T212516Z
UID:51095-1750845600-1750849200@www.salemhome.ca
SUMMARY:Men's Coffee Shop
DESCRIPTION:
URL:https://www.salemhome.ca/event/mens-coffee-shop-862/
CATEGORIES:Evergreen
END:VEVENT
END:VCALENDAR