BEGIN:VCALENDAR
VERSION:2.0
PRODID:-//Salem Home - ECPv6.15.20//NONSGML v1.0//EN
CALSCALE:GREGORIAN
METHOD:PUBLISH
X-ORIGINAL-URL:https://www.salemhome.ca
X-WR-CALDESC:Events for Salem Home
REFRESH-INTERVAL;VALUE=DURATION:PT1H
X-Robots-Tag:noindex
X-PUBLISHED-TTL:PT1H
BEGIN:VTIMEZONE
TZID:America/Winnipeg
BEGIN:DAYLIGHT
TZOFFSETFROM:-0600
TZOFFSETTO:-0500
TZNAME:CDT
DTSTART:20240310T080000
END:DAYLIGHT
BEGIN:STANDARD
TZOFFSETFROM:-0500
TZOFFSETTO:-0600
TZNAME:CST
DTSTART:20241103T070000
END:STANDARD
BEGIN:DAYLIGHT
TZOFFSETFROM:-0600
TZOFFSETTO:-0500
TZNAME:CDT
DTSTART:20250309T080000
END:DAYLIGHT
BEGIN:STANDARD
TZOFFSETFROM:-0500
TZOFFSETTO:-0600
TZNAME:CST
DTSTART:20251102T070000
END:STANDARD
BEGIN:DAYLIGHT
TZOFFSETFROM:-0600
TZOFFSETTO:-0500
TZNAME:CDT
DTSTART:20260308T080000
END:DAYLIGHT
BEGIN:STANDARD
TZOFFSETFROM:-0500
TZOFFSETTO:-0600
TZNAME:CST
DTSTART:20261101T070000
END:STANDARD
END:VTIMEZONE
BEGIN:VEVENT
DTSTART;TZID=America/Winnipeg:20251013T100000
DTEND;TZID=America/Winnipeg:20251013T110000
DTSTAMP:20260425T193449
CREATED:20250809T131425Z
LAST-MODIFIED:20250909T145952Z
UID:56555-1760349600-1760353200@www.salemhome.ca
SUMMARY:Men's Coffee Shop
DESCRIPTION:
URL:https://www.salemhome.ca/event/mens-coffee-shop-1030/
CATEGORIES:Evergreen
END:VEVENT
BEGIN:VEVENT
DTSTART;TZID=America/Winnipeg:20251013T144500
DTEND;TZID=America/Winnipeg:20251013T154500
DTSTAMP:20260425T193449
CREATED:20250809T131425Z
LAST-MODIFIED:20250909T145952Z
UID:56556-1760366700-1760370300@www.salemhome.ca
SUMMARY:Men's Group
DESCRIPTION:Located on Evergreen\, residents from all care areas welcome.
URL:https://www.salemhome.ca/event/mens-group-930/
CATEGORIES:Evergreen
END:VEVENT
BEGIN:VEVENT
DTSTART;TZID=America/Winnipeg:20251014T100000
DTEND;TZID=America/Winnipeg:20251014T110000
DTSTAMP:20260425T193449
CREATED:20250809T131425Z
LAST-MODIFIED:20250909T145953Z
UID:56557-1760436000-1760439600@www.salemhome.ca
SUMMARY:Move With Grace
DESCRIPTION:
URL:https://www.salemhome.ca/event/move-with-grace-172/
CATEGORIES:Evergreen
END:VEVENT
BEGIN:VEVENT
DTSTART;TZID=America/Winnipeg:20251014T100000
DTEND;TZID=America/Winnipeg:20251014T110000
DTSTAMP:20260425T193449
CREATED:20250810T132929Z
LAST-MODIFIED:20250909T145954Z
UID:56571-1760436000-1760439600@www.salemhome.ca
SUMMARY:Men's Coffee Shop
DESCRIPTION:
URL:https://www.salemhome.ca/event/mens-coffee-shop-1031/
CATEGORIES:Evergreen
END:VEVENT
BEGIN:VEVENT
DTSTART;TZID=America/Winnipeg:20251014T180000
DTEND;TZID=America/Winnipeg:20251014T190000
DTSTAMP:20260425T193449
CREATED:20250810T132930Z
LAST-MODIFIED:20250909T145955Z
UID:56573-1760464800-1760468400@www.salemhome.ca
SUMMARY:Movie Night
DESCRIPTION:
URL:https://www.salemhome.ca/event/movie-night-144/
CATEGORIES:Evergreen
END:VEVENT
BEGIN:VEVENT
DTSTART;TZID=America/Winnipeg:20251015T100000
DTEND;TZID=America/Winnipeg:20251015T110000
DTSTAMP:20260425T193449
CREATED:20250811T134427Z
LAST-MODIFIED:20250909T145955Z
UID:56583-1760522400-1760526000@www.salemhome.ca
SUMMARY:John & Irene Plantz
DESCRIPTION:
URL:https://www.salemhome.ca/event/john-irene-plantz-64/
CATEGORIES:Evergreen
END:VEVENT
BEGIN:VEVENT
DTSTART;TZID=America/Winnipeg:20251015T100000
DTEND;TZID=America/Winnipeg:20251015T110000
DTSTAMP:20260425T193449
CREATED:20250811T134427Z
LAST-MODIFIED:20250909T145955Z
UID:56584-1760522400-1760526000@www.salemhome.ca
SUMMARY:Men's Coffee Shop
DESCRIPTION:
URL:https://www.salemhome.ca/event/mens-coffee-shop-1032/
CATEGORIES:Evergreen
END:VEVENT
BEGIN:VEVENT
DTSTART;TZID=America/Winnipeg:20251015T144500
DTEND;TZID=America/Winnipeg:20251015T154500
DTSTAMP:20260425T193449
CREATED:20250812T134441Z
LAST-MODIFIED:20250825T142923Z
UID:56607-1760539500-1760543100@www.salemhome.ca
SUMMARY:Men's Group
DESCRIPTION:Located on Maple North. Residents from all care areas are welcome to attend.
URL:https://www.salemhome.ca/event/mens-group-932/
CATEGORIES:Evergreen
END:VEVENT
BEGIN:VEVENT
DTSTART;TZID=America/Winnipeg:20251015T144500
DTEND;TZID=America/Winnipeg:20251015T154500
DTSTAMP:20260425T193449
CREATED:20250812T134442Z
LAST-MODIFIED:20250909T145955Z
UID:56608-1760539500-1760543100@www.salemhome.ca
SUMMARY:Bingo
DESCRIPTION:
URL:https://www.salemhome.ca/event/bingo-970/
CATEGORIES:Evergreen
END:VEVENT
BEGIN:VEVENT
DTSTART;TZID=America/Winnipeg:20251015T144500
DTEND;TZID=America/Winnipeg:20251015T154500
DTSTAMP:20260425T193449
CREATED:20250812T134442Z
LAST-MODIFIED:20250909T145955Z
UID:56609-1760539500-1760543100@www.salemhome.ca
SUMMARY:Men's Coffee Shop
DESCRIPTION:
URL:https://www.salemhome.ca/event/mens-coffee-shop-1035/
CATEGORIES:Evergreen
END:VEVENT
BEGIN:VEVENT
DTSTART;TZID=America/Winnipeg:20251015T180000
DTEND;TZID=America/Winnipeg:20251015T190000
DTSTAMP:20260425T193449
CREATED:20250812T134443Z
LAST-MODIFIED:20250909T145956Z
UID:56610-1760551200-1760554800@www.salemhome.ca
SUMMARY:Henry & Marge Wall
DESCRIPTION:
URL:https://www.salemhome.ca/event/henry-marge-wall-11/
CATEGORIES:Evergreen
END:VEVENT
BEGIN:VEVENT
DTSTART;TZID=America/Winnipeg:20251016T100000
DTEND;TZID=America/Winnipeg:20251016T110000
DTSTAMP:20260425T193449
CREATED:20250813T135952Z
LAST-MODIFIED:20250909T145956Z
UID:56642-1760608800-1760612400@www.salemhome.ca
SUMMARY:Hymn Sing
DESCRIPTION:
URL:https://www.salemhome.ca/event/hymn-sing-629/
CATEGORIES:Evergreen
END:VEVENT
BEGIN:VEVENT
DTSTART;TZID=America/Winnipeg:20251016T103000
DTEND;TZID=America/Winnipeg:20251016T113000
DTSTAMP:20260425T193449
CREATED:20250813T135952Z
LAST-MODIFIED:20250909T145956Z
UID:56643-1760610600-1760614200@www.salemhome.ca
SUMMARY:Chapel
DESCRIPTION:
URL:https://www.salemhome.ca/event/chapel-760/
CATEGORIES:Evergreen
END:VEVENT
BEGIN:VEVENT
DTSTART;TZID=America/Winnipeg:20251016T110000
DTEND;TZID=America/Winnipeg:20251016T120000
DTSTAMP:20260425T193449
CREATED:20250813T135954Z
LAST-MODIFIED:20250909T145956Z
UID:56644-1760612400-1760616000@www.salemhome.ca
SUMMARY:Spa Day
DESCRIPTION:
URL:https://www.salemhome.ca/event/spa-day-142/
CATEGORIES:Evergreen
END:VEVENT
BEGIN:VEVENT
DTSTART;TZID=America/Winnipeg:20251017T100000
DTEND;TZID=America/Winnipeg:20251017T110000
DTSTAMP:20260425T193449
CREATED:20250814T135931Z
LAST-MODIFIED:20250909T145956Z
UID:56685-1760695200-1760698800@www.salemhome.ca
SUMMARY:Men's Coffee Shop
DESCRIPTION:
URL:https://www.salemhome.ca/event/mens-coffee-shop-1040/
CATEGORIES:Evergreen
END:VEVENT
BEGIN:VEVENT
DTSTART;TZID=America/Winnipeg:20251017T101500
DTEND;TZID=America/Winnipeg:20251017T104500
DTSTAMP:20260425T193449
CREATED:20250813T135955Z
LAST-MODIFIED:20250909T145956Z
UID:56645-1760696100-1760697900@www.salemhome.ca
SUMMARY:Chapel
DESCRIPTION:
URL:https://www.salemhome.ca/event/chapel-761/
CATEGORIES:Evergreen
END:VEVENT
BEGIN:VEVENT
DTSTART;TZID=America/Winnipeg:20251017T110000
DTEND;TZID=America/Winnipeg:20251017T120000
DTSTAMP:20260425T193449
CREATED:20250814T135931Z
LAST-MODIFIED:20250909T145957Z
UID:56686-1760698800-1760702400@www.salemhome.ca
SUMMARY:Music by Dave Nickel
DESCRIPTION:
URL:https://www.salemhome.ca/event/music-by-dave-nickel-145/
CATEGORIES:Evergreen
END:VEVENT
BEGIN:VEVENT
DTSTART;TZID=America/Winnipeg:20251017T140000
DTEND;TZID=America/Winnipeg:20251017T150000
DTSTAMP:20260425T193449
CREATED:20250814T135931Z
LAST-MODIFIED:20250909T145957Z
UID:56688-1760709600-1760713200@www.salemhome.ca
SUMMARY:Music Therapy
DESCRIPTION:
URL:https://www.salemhome.ca/event/music-therapy-276/
CATEGORIES:Evergreen
END:VEVENT
BEGIN:VEVENT
DTSTART;TZID=America/Winnipeg:20251017T150000
DTEND;TZID=America/Winnipeg:20251017T160000
DTSTAMP:20260425T193449
CREATED:20250814T135931Z
LAST-MODIFIED:20250909T145958Z
UID:56687-1760713200-1760716800@www.salemhome.ca
SUMMARY:Spotify Favorites
DESCRIPTION:
URL:https://www.salemhome.ca/event/spotify-favorites-13/
CATEGORIES:Evergreen
END:VEVENT
BEGIN:VEVENT
DTSTART;TZID=America/Winnipeg:20251018T150000
DTEND;TZID=America/Winnipeg:20251018T160000
DTSTAMP:20260425T193449
CREATED:20250815T135923Z
LAST-MODIFIED:20250909T145958Z
UID:56726-1760799600-1760803200@www.salemhome.ca
SUMMARY:Bingo
DESCRIPTION:
URL:https://www.salemhome.ca/event/bingo-974/
CATEGORIES:Evergreen
END:VEVENT
BEGIN:VEVENT
DTSTART;TZID=America/Winnipeg:20251018T181500
DTEND;TZID=America/Winnipeg:20251018T191500
DTSTAMP:20260425T193449
CREATED:20250815T135924Z
LAST-MODIFIED:20250909T145958Z
UID:56727-1760811300-1760814900@www.salemhome.ca
SUMMARY:The Pilgrims
DESCRIPTION:
URL:https://www.salemhome.ca/event/the-pilgrims-122/
CATEGORIES:Evergreen
END:VEVENT
BEGIN:VEVENT
DTSTART;VALUE=DATE:20251019
DTEND;VALUE=DATE:20251020
DTSTAMP:20260425T193449
CREATED:20250815T135924Z
LAST-MODIFIED:20250909T145958Z
UID:56728-1760832000-1760918399@www.salemhome.ca
SUMMARY:Day of Rest
DESCRIPTION:
URL:https://www.salemhome.ca/event/day-of-rest-391/
CATEGORIES:Evergreen
END:VEVENT
BEGIN:VEVENT
DTSTART;TZID=America/Winnipeg:20251020T100000
DTEND;TZID=America/Winnipeg:20251020T110000
DTSTAMP:20260425T193449
CREATED:20250816T135931Z
LAST-MODIFIED:20250909T145958Z
UID:56780-1760954400-1760958000@www.salemhome.ca
SUMMARY:Men's Coffee Shop
DESCRIPTION:
URL:https://www.salemhome.ca/event/mens-coffee-shop-1044/
CATEGORIES:Evergreen
END:VEVENT
BEGIN:VEVENT
DTSTART;TZID=America/Winnipeg:20251020T144500
DTEND;TZID=America/Winnipeg:20251020T154500
DTSTAMP:20260425T193449
CREATED:20250816T135931Z
LAST-MODIFIED:20250909T145958Z
UID:56781-1760971500-1760975100@www.salemhome.ca
SUMMARY:Men's Group
DESCRIPTION:Located on Evergreen\, residents from all care areas welcome.
URL:https://www.salemhome.ca/event/mens-group-939/
CATEGORIES:Evergreen
END:VEVENT
BEGIN:VEVENT
DTSTART;TZID=America/Winnipeg:20251021T100000
DTEND;TZID=America/Winnipeg:20251021T110000
DTSTAMP:20260425T193449
CREATED:20250816T135931Z
LAST-MODIFIED:20251021T094455Z
UID:56782-1761040800-1761044400@www.salemhome.ca
SUMMARY:Men's Coffee Shop
DESCRIPTION:
URL:https://www.salemhome.ca/event/mens-coffee-shop-1045/
CATEGORIES:Evergreen
END:VEVENT
BEGIN:VEVENT
DTSTART;TZID=America/Winnipeg:20251021T100000
DTEND;TZID=America/Winnipeg:20251021T110000
DTSTAMP:20260425T193449
CREATED:20250816T135932Z
LAST-MODIFIED:20250909T145958Z
UID:56783-1761040800-1761044400@www.salemhome.ca
SUMMARY:Move With Grace
DESCRIPTION:
URL:https://www.salemhome.ca/event/move-with-grace-176/
CATEGORIES:Evergreen
END:VEVENT
BEGIN:VEVENT
DTSTART;TZID=America/Winnipeg:20251021T111500
DTEND;TZID=America/Winnipeg:20251021T121500
DTSTAMP:20260425T193449
CREATED:20251021T094456Z
LAST-MODIFIED:20251021T094456Z
UID:58647-1761045300-1761048900@www.salemhome.ca
SUMMARY:Meet & Greet
DESCRIPTION:
URL:https://www.salemhome.ca/event/meet-greet/
CATEGORIES:Evergreen
END:VEVENT
BEGIN:VEVENT
DTSTART;TZID=America/Winnipeg:20251021T150000
DTEND;TZID=America/Winnipeg:20251021T160000
DTSTAMP:20260425T193449
CREATED:20251021T094456Z
LAST-MODIFIED:20251021T094456Z
UID:58648-1761058800-1761062400@www.salemhome.ca
SUMMARY:Yahtzee
DESCRIPTION:
URL:https://www.salemhome.ca/event/yahtzee-2/
CATEGORIES:Evergreen
END:VEVENT
BEGIN:VEVENT
DTSTART;TZID=America/Winnipeg:20251021T180000
DTEND;TZID=America/Winnipeg:20251021T190000
DTSTAMP:20260425T193449
CREATED:20250816T135932Z
LAST-MODIFIED:20250909T145959Z
UID:56784-1761069600-1761073200@www.salemhome.ca
SUMMARY:Movie Night
DESCRIPTION:
URL:https://www.salemhome.ca/event/movie-night-145/
CATEGORIES:Evergreen
END:VEVENT
BEGIN:VEVENT
DTSTART;TZID=America/Winnipeg:20251021T180000
DTEND;TZID=America/Winnipeg:20251021T190000
DTSTAMP:20260425T193449
CREATED:20251021T094456Z
LAST-MODIFIED:20251021T094456Z
UID:58649-1761069600-1761073200@www.salemhome.ca
SUMMARY:Yolanda Wolfe
DESCRIPTION:
URL:https://www.salemhome.ca/event/yolanda-wolfe-9/
CATEGORIES:Evergreen
END:VEVENT
END:VCALENDAR