BEGIN:VCALENDAR
VERSION:2.0
PRODID:-//Salem Home - ECPv6.15.20//NONSGML v1.0//EN
CALSCALE:GREGORIAN
METHOD:PUBLISH
X-WR-CALNAME:Salem Home
X-ORIGINAL-URL:https://www.salemhome.ca
X-WR-CALDESC:Events for Salem Home
REFRESH-INTERVAL;VALUE=DURATION:PT1H
X-Robots-Tag:noindex
X-PUBLISHED-TTL:PT1H
BEGIN:VTIMEZONE
TZID:America/Winnipeg
BEGIN:DAYLIGHT
TZOFFSETFROM:-0600
TZOFFSETTO:-0500
TZNAME:CDT
DTSTART:20240310T080000
END:DAYLIGHT
BEGIN:STANDARD
TZOFFSETFROM:-0500
TZOFFSETTO:-0600
TZNAME:CST
DTSTART:20241103T070000
END:STANDARD
BEGIN:DAYLIGHT
TZOFFSETFROM:-0600
TZOFFSETTO:-0500
TZNAME:CDT
DTSTART:20250309T080000
END:DAYLIGHT
BEGIN:STANDARD
TZOFFSETFROM:-0500
TZOFFSETTO:-0600
TZNAME:CST
DTSTART:20251102T070000
END:STANDARD
BEGIN:DAYLIGHT
TZOFFSETFROM:-0600
TZOFFSETTO:-0500
TZNAME:CDT
DTSTART:20260308T080000
END:DAYLIGHT
BEGIN:STANDARD
TZOFFSETFROM:-0500
TZOFFSETTO:-0600
TZNAME:CST
DTSTART:20261101T070000
END:STANDARD
END:VTIMEZONE
BEGIN:VEVENT
DTSTART;TZID=America/Winnipeg:20250620T110000
DTEND;TZID=America/Winnipeg:20250620T120000
DTSTAMP:20260424T095302
CREATED:20250319T170744Z
LAST-MODIFIED:20250615T212514Z
UID:51021-1750417200-1750420800@www.salemhome.ca
SUMMARY:Music by Dave Nickel
DESCRIPTION:
URL:https://www.salemhome.ca/event/music-by-dave-nickel-128/
CATEGORIES:Evergreen
END:VEVENT
BEGIN:VEVENT
DTSTART;TZID=America/Winnipeg:20250620T140000
DTEND;TZID=America/Winnipeg:20250620T150000
DTSTAMP:20260424T095302
CREATED:20250319T170744Z
LAST-MODIFIED:20250615T212515Z
UID:51022-1750428000-1750431600@www.salemhome.ca
SUMMARY:Music Therapy
DESCRIPTION:
URL:https://www.salemhome.ca/event/music-therapy-249/
CATEGORIES:Evergreen
END:VEVENT
BEGIN:VEVENT
DTSTART;TZID=America/Winnipeg:20250621T150000
DTEND;TZID=America/Winnipeg:20250621T160000
DTSTAMP:20260424T095302
CREATED:20250320T170744Z
LAST-MODIFIED:20250615T212515Z
UID:51057-1750518000-1750521600@www.salemhome.ca
SUMMARY:Bingo
DESCRIPTION:
URL:https://www.salemhome.ca/event/bingo-789/
CATEGORIES:Evergreen
END:VEVENT
BEGIN:VEVENT
DTSTART;TZID=America/Winnipeg:20250621T181500
DTEND;TZID=America/Winnipeg:20250621T191500
DTSTAMP:20260424T095302
CREATED:20250320T170745Z
LAST-MODIFIED:20250615T212515Z
UID:51059-1750529700-1750533300@www.salemhome.ca
SUMMARY:The Pilgrims
DESCRIPTION:
URL:https://www.salemhome.ca/event/the-pilgrims-104/
CATEGORIES:Evergreen
END:VEVENT
BEGIN:VEVENT
DTSTART;VALUE=DATE:20250622
DTEND;VALUE=DATE:20250623
DTSTAMP:20260424T095302
CREATED:20250320T170744Z
LAST-MODIFIED:20250615T212515Z
UID:51058-1750550400-1750636799@www.salemhome.ca
SUMMARY:Day of Rest
DESCRIPTION:
URL:https://www.salemhome.ca/event/day-of-rest-316/
CATEGORIES:Evergreen
END:VEVENT
BEGIN:VEVENT
DTSTART;TZID=America/Winnipeg:20250623T100000
DTEND;TZID=America/Winnipeg:20250623T110000
DTSTAMP:20260424T095302
CREATED:20250320T170745Z
LAST-MODIFIED:20250615T212515Z
UID:51060-1750672800-1750676400@www.salemhome.ca
SUMMARY:Men's Coffee Shop
DESCRIPTION:
URL:https://www.salemhome.ca/event/mens-coffee-shop-859/
CATEGORIES:Evergreen
END:VEVENT
BEGIN:VEVENT
DTSTART;TZID=America/Winnipeg:20250623T144500
DTEND;TZID=America/Winnipeg:20250623T154500
DTSTAMP:20260424T095302
CREATED:20250320T170745Z
LAST-MODIFIED:20250615T212515Z
UID:51061-1750689900-1750693500@www.salemhome.ca
SUMMARY:Men's Group
DESCRIPTION:Located on Evergreen\, residents from all care areas welcome.
URL:https://www.salemhome.ca/event/mens-group-817/
CATEGORIES:Evergreen
END:VEVENT
BEGIN:VEVENT
DTSTART;TZID=America/Winnipeg:20250624T100000
DTEND;TZID=America/Winnipeg:20250624T110000
DTSTAMP:20260424T095302
CREATED:20250321T170753Z
LAST-MODIFIED:20250615T212515Z
UID:51093-1750759200-1750762800@www.salemhome.ca
SUMMARY:Men's Coffee Shop
DESCRIPTION:
URL:https://www.salemhome.ca/event/mens-coffee-shop-861/
CATEGORIES:Evergreen
END:VEVENT
BEGIN:VEVENT
DTSTART;TZID=America/Winnipeg:20250624T100000
DTEND;TZID=America/Winnipeg:20250624T110000
DTSTAMP:20260424T095302
CREATED:20250406T175252Z
LAST-MODIFIED:20250615T212515Z
UID:52074-1750759200-1750762800@www.salemhome.ca
SUMMARY:Move With Grace
DESCRIPTION:
URL:https://www.salemhome.ca/event/move-with-grace-56/
CATEGORIES:Evergreen
END:VEVENT
BEGIN:VEVENT
DTSTART;TZID=America/Winnipeg:20250624T180000
DTEND;TZID=America/Winnipeg:20250624T190000
DTSTAMP:20260424T095302
CREATED:20250321T170753Z
LAST-MODIFIED:20250615T212515Z
UID:51094-1750788000-1750791600@www.salemhome.ca
SUMMARY:Movie Night
DESCRIPTION:
URL:https://www.salemhome.ca/event/movie-night-127/
CATEGORIES:Evergreen
END:VEVENT
BEGIN:VEVENT
DTSTART;TZID=America/Winnipeg:20250625T100000
DTEND;TZID=America/Winnipeg:20250625T110000
DTSTAMP:20260424T095302
CREATED:20250321T170753Z
LAST-MODIFIED:20250615T212516Z
UID:51095-1750845600-1750849200@www.salemhome.ca
SUMMARY:Men's Coffee Shop
DESCRIPTION:
URL:https://www.salemhome.ca/event/mens-coffee-shop-862/
CATEGORIES:Evergreen
END:VEVENT
BEGIN:VEVENT
DTSTART;TZID=America/Winnipeg:20250625T100000
DTEND;TZID=America/Winnipeg:20250625T110000
DTSTAMP:20260424T095302
CREATED:20250407T175253Z
LAST-MODIFIED:20250615T212515Z
UID:52090-1750845600-1750849200@www.salemhome.ca
SUMMARY:John & Irene Plantz
DESCRIPTION:
URL:https://www.salemhome.ca/event/john-irene-plantz-48/
CATEGORIES:Evergreen
END:VEVENT
BEGIN:VEVENT
DTSTART;TZID=America/Winnipeg:20250625T144500
DTEND;TZID=America/Winnipeg:20250625T154500
DTSTAMP:20260424T095302
CREATED:20250321T170754Z
LAST-MODIFIED:20250615T212516Z
UID:51096-1750862700-1750866300@www.salemhome.ca
SUMMARY:Bingo
DESCRIPTION:
URL:https://www.salemhome.ca/event/bingo-791/
CATEGORIES:Evergreen
END:VEVENT
BEGIN:VEVENT
DTSTART;TZID=America/Winnipeg:20250625T144500
DTEND;TZID=America/Winnipeg:20250625T154500
DTSTAMP:20260424T095302
CREATED:20250322T170754Z
LAST-MODIFIED:20250615T212516Z
UID:51121-1750862700-1750866300@www.salemhome.ca
SUMMARY:Men's Group
DESCRIPTION:Located on Maple North. Residents from all care areas are welcome to attend.
URL:https://www.salemhome.ca/event/mens-group-821/
CATEGORIES:Evergreen
END:VEVENT
BEGIN:VEVENT
DTSTART;TZID=America/Winnipeg:20250626T110000
DTEND;TZID=America/Winnipeg:20250626T120000
DTSTAMP:20260424T095302
CREATED:20250322T170755Z
LAST-MODIFIED:20250615T212516Z
UID:51123-1750935600-1750939200@www.salemhome.ca
SUMMARY:Spa Day
DESCRIPTION:
URL:https://www.salemhome.ca/event/spa-day-126/
CATEGORIES:Evergreen
END:VEVENT
BEGIN:VEVENT
DTSTART;TZID=America/Winnipeg:20250627T100000
DTEND;TZID=America/Winnipeg:20250627T110000
DTSTAMP:20260424T095302
CREATED:20250324T170744Z
LAST-MODIFIED:20250615T212516Z
UID:51159-1751018400-1751022000@www.salemhome.ca
SUMMARY:Men's Coffee Shop
DESCRIPTION:
URL:https://www.salemhome.ca/event/mens-coffee-shop-866/
CATEGORIES:Evergreen
END:VEVENT
BEGIN:VEVENT
DTSTART;TZID=America/Winnipeg:20250627T101500
DTEND;TZID=America/Winnipeg:20250627T104500
DTSTAMP:20260424T095302
CREATED:20250322T170755Z
LAST-MODIFIED:20250615T212516Z
UID:51124-1751019300-1751021100@www.salemhome.ca
SUMMARY:Chapel
DESCRIPTION:
URL:https://www.salemhome.ca/event/chapel-716/
CATEGORIES:Evergreen
END:VEVENT
BEGIN:VEVENT
DTSTART;TZID=America/Winnipeg:20250627T110000
DTEND;TZID=America/Winnipeg:20250627T120000
DTSTAMP:20260424T095302
CREATED:20250323T170828Z
LAST-MODIFIED:20250615T212516Z
UID:51145-1751022000-1751025600@www.salemhome.ca
SUMMARY:Music by Dave Nickel
DESCRIPTION:
URL:https://www.salemhome.ca/event/music-by-dave-nickel-129/
CATEGORIES:Evergreen
END:VEVENT
BEGIN:VEVENT
DTSTART;TZID=America/Winnipeg:20250627T140000
DTEND;TZID=America/Winnipeg:20250627T150000
DTSTAMP:20260424T095302
CREATED:20250324T170744Z
LAST-MODIFIED:20250615T212516Z
UID:51160-1751032800-1751036400@www.salemhome.ca
SUMMARY:Music Therapy
DESCRIPTION:
URL:https://www.salemhome.ca/event/music-therapy-250/
CATEGORIES:Evergreen
END:VEVENT
BEGIN:VEVENT
DTSTART;TZID=America/Winnipeg:20250628T100000
DTEND;TZID=America/Winnipeg:20250628T110000
DTSTAMP:20260424T095302
CREATED:20250324T170747Z
LAST-MODIFIED:20250324T170805Z
UID:51161-1751104800-1751108400@www.salemhome.ca
SUMMARY:Bingo
DESCRIPTION:
URL:https://www.salemhome.ca/event/bingo-792/
CATEGORIES:Evergreen
END:VEVENT
BEGIN:VEVENT
DTSTART;TZID=America/Winnipeg:20250628T150000
DTEND;TZID=America/Winnipeg:20250628T160000
DTSTAMP:20260424T095302
CREATED:20250410T182246Z
LAST-MODIFIED:20250615T212516Z
UID:52165-1751122800-1751126400@www.salemhome.ca
SUMMARY:Bingo
DESCRIPTION:
URL:https://www.salemhome.ca/event/bingo-828/
CATEGORIES:Evergreen
END:VEVENT
BEGIN:VEVENT
DTSTART;VALUE=DATE:20250629
DTEND;VALUE=DATE:20250630
DTSTAMP:20260424T095302
CREATED:20250410T182246Z
LAST-MODIFIED:20250615T212516Z
UID:52166-1751155200-1751241599@www.salemhome.ca
SUMMARY:Day of Rest
DESCRIPTION:
URL:https://www.salemhome.ca/event/day-of-rest-323/
CATEGORIES:Evergreen
END:VEVENT
BEGIN:VEVENT
DTSTART;TZID=America/Winnipeg:20250630T100000
DTEND;TZID=America/Winnipeg:20250630T110000
DTSTAMP:20260424T095302
CREATED:20250410T182246Z
LAST-MODIFIED:20250615T212517Z
UID:52167-1751277600-1751281200@www.salemhome.ca
SUMMARY:Men's Coffee Shop
DESCRIPTION:
URL:https://www.salemhome.ca/event/mens-coffee-shop-875/
CATEGORIES:Evergreen
END:VEVENT
BEGIN:VEVENT
DTSTART;TZID=America/Winnipeg:20250630T144500
DTEND;TZID=America/Winnipeg:20250630T154500
DTSTAMP:20260424T095302
CREATED:20250411T182243Z
LAST-MODIFIED:20250615T212517Z
UID:52188-1751294700-1751298300@www.salemhome.ca
SUMMARY:Men's Group
DESCRIPTION:Located on Evergreen\, residents from all care areas welcome.
URL:https://www.salemhome.ca/event/mens-group-826/
CATEGORIES:Evergreen
END:VEVENT
BEGIN:VEVENT
DTSTART;TZID=America/Winnipeg:20250701T100000
DTEND;TZID=America/Winnipeg:20250701T110000
DTSTAMP:20260424T095302
CREATED:20250411T182243Z
LAST-MODIFIED:20250615T212517Z
UID:52189-1751364000-1751367600@www.salemhome.ca
SUMMARY:Men's Coffee Shop
DESCRIPTION:
URL:https://www.salemhome.ca/event/mens-coffee-shop-876/
CATEGORIES:Evergreen
END:VEVENT
BEGIN:VEVENT
DTSTART;TZID=America/Winnipeg:20250701T100000
DTEND;TZID=America/Winnipeg:20250701T110000
DTSTAMP:20260424T095302
CREATED:20250411T182243Z
LAST-MODIFIED:20250615T212517Z
UID:52190-1751364000-1751367600@www.salemhome.ca
SUMMARY:Move With Grace
DESCRIPTION:
URL:https://www.salemhome.ca/event/move-with-grace-60/
CATEGORIES:Evergreen
END:VEVENT
BEGIN:VEVENT
DTSTART;TZID=America/Winnipeg:20250701T180000
DTEND;TZID=America/Winnipeg:20250701T190000
DTSTAMP:20260424T095302
CREATED:20250411T182244Z
LAST-MODIFIED:20250615T212517Z
UID:52191-1751392800-1751396400@www.salemhome.ca
SUMMARY:Movie Night
DESCRIPTION:
URL:https://www.salemhome.ca/event/movie-night-128/
CATEGORIES:Evergreen
END:VEVENT
BEGIN:VEVENT
DTSTART;TZID=America/Winnipeg:20250702T100000
DTEND;TZID=America/Winnipeg:20250702T110000
DTSTAMP:20260424T095302
CREATED:20250411T182244Z
LAST-MODIFIED:20250615T212517Z
UID:52192-1751450400-1751454000@www.salemhome.ca
SUMMARY:John & Irene Plantz
DESCRIPTION:
URL:https://www.salemhome.ca/event/john-irene-plantz-49/
CATEGORIES:Evergreen
END:VEVENT
BEGIN:VEVENT
DTSTART;TZID=America/Winnipeg:20250702T100000
DTEND;TZID=America/Winnipeg:20250702T110000
DTSTAMP:20260424T095302
CREATED:20250412T182243Z
LAST-MODIFIED:20250615T212517Z
UID:52211-1751450400-1751454000@www.salemhome.ca
SUMMARY:Men's Coffee Shop
DESCRIPTION:
URL:https://www.salemhome.ca/event/mens-coffee-shop-877/
CATEGORIES:Evergreen
END:VEVENT
BEGIN:VEVENT
DTSTART;TZID=America/Winnipeg:20250702T144500
DTEND;TZID=America/Winnipeg:20250702T154500
DTSTAMP:20260424T095302
CREATED:20250412T182243Z
LAST-MODIFIED:20250615T212517Z
UID:52212-1751467500-1751471100@www.salemhome.ca
SUMMARY:Bingo
DESCRIPTION:
URL:https://www.salemhome.ca/event/bingo-829/
CATEGORIES:Evergreen
END:VEVENT
END:VCALENDAR