BEGIN:VCALENDAR
VERSION:2.0
PRODID:-//Salem Home - ECPv6.15.20//NONSGML v1.0//EN
CALSCALE:GREGORIAN
METHOD:PUBLISH
X-WR-CALNAME:Salem Home
X-ORIGINAL-URL:https://www.salemhome.ca
X-WR-CALDESC:Events for Salem Home
REFRESH-INTERVAL;VALUE=DURATION:PT1H
X-Robots-Tag:noindex
X-PUBLISHED-TTL:PT1H
BEGIN:VTIMEZONE
TZID:America/Winnipeg
BEGIN:DAYLIGHT
TZOFFSETFROM:-0600
TZOFFSETTO:-0500
TZNAME:CDT
DTSTART:20240310T080000
END:DAYLIGHT
BEGIN:STANDARD
TZOFFSETFROM:-0500
TZOFFSETTO:-0600
TZNAME:CST
DTSTART:20241103T070000
END:STANDARD
BEGIN:DAYLIGHT
TZOFFSETFROM:-0600
TZOFFSETTO:-0500
TZNAME:CDT
DTSTART:20250309T080000
END:DAYLIGHT
BEGIN:STANDARD
TZOFFSETFROM:-0500
TZOFFSETTO:-0600
TZNAME:CST
DTSTART:20251102T070000
END:STANDARD
BEGIN:DAYLIGHT
TZOFFSETFROM:-0600
TZOFFSETTO:-0500
TZNAME:CDT
DTSTART:20260308T080000
END:DAYLIGHT
BEGIN:STANDARD
TZOFFSETFROM:-0500
TZOFFSETTO:-0600
TZNAME:CST
DTSTART:20261101T070000
END:STANDARD
END:VTIMEZONE
BEGIN:VEVENT
DTSTART;TZID=America/Winnipeg:20250717T110000
DTEND;TZID=America/Winnipeg:20250717T120000
DTSTAMP:20260424T095308
CREATED:20250423T183745Z
LAST-MODIFIED:20250615T212520Z
UID:52491-1752750000-1752753600@www.salemhome.ca
SUMMARY:Spa Day
DESCRIPTION:
URL:https://www.salemhome.ca/event/spa-day-129/
CATEGORIES:Evergreen
END:VEVENT
BEGIN:VEVENT
DTSTART;TZID=America/Winnipeg:20250718T100000
DTEND;TZID=America/Winnipeg:20250718T110000
DTSTAMP:20260424T095308
CREATED:20250423T183745Z
LAST-MODIFIED:20250615T212520Z
UID:52492-1752832800-1752836400@www.salemhome.ca
SUMMARY:Men's Coffee Shop
DESCRIPTION:
URL:https://www.salemhome.ca/event/mens-coffee-shop-894/
CATEGORIES:Evergreen
END:VEVENT
BEGIN:VEVENT
DTSTART;TZID=America/Winnipeg:20250718T101500
DTEND;TZID=America/Winnipeg:20250718T104500
DTSTAMP:20260424T095308
CREATED:20250424T183817Z
LAST-MODIFIED:20250615T212520Z
UID:52538-1752833700-1752835500@www.salemhome.ca
SUMMARY:Chapel
DESCRIPTION:
URL:https://www.salemhome.ca/event/chapel-723/
CATEGORIES:Evergreen
END:VEVENT
BEGIN:VEVENT
DTSTART;TZID=America/Winnipeg:20250718T110000
DTEND;TZID=America/Winnipeg:20250718T120000
DTSTAMP:20260424T095308
CREATED:20250424T183818Z
LAST-MODIFIED:20250615T212520Z
UID:52539-1752836400-1752840000@www.salemhome.ca
SUMMARY:Music by Dave Nickel
DESCRIPTION:
URL:https://www.salemhome.ca/event/music-by-dave-nickel-132/
CATEGORIES:Evergreen
END:VEVENT
BEGIN:VEVENT
DTSTART;TZID=America/Winnipeg:20250718T140000
DTEND;TZID=America/Winnipeg:20250718T150000
DTSTAMP:20260424T095308
CREATED:20250424T183818Z
LAST-MODIFIED:20250615T212520Z
UID:52540-1752847200-1752850800@www.salemhome.ca
SUMMARY:Music Therapy
DESCRIPTION:
URL:https://www.salemhome.ca/event/music-therapy-255/
CATEGORIES:Evergreen
END:VEVENT
BEGIN:VEVENT
DTSTART;TZID=America/Winnipeg:20250719T150000
DTEND;TZID=America/Winnipeg:20250719T160000
DTSTAMP:20260424T095308
CREATED:20250425T183743Z
LAST-MODIFIED:20250615T212520Z
UID:52584-1752937200-1752940800@www.salemhome.ca
SUMMARY:Bingo
DESCRIPTION:
URL:https://www.salemhome.ca/event/bingo-845/
CATEGORIES:Evergreen
END:VEVENT
BEGIN:VEVENT
DTSTART;TZID=America/Winnipeg:20250719T181500
DTEND;TZID=America/Winnipeg:20250719T191500
DTSTAMP:20260424T095308
CREATED:20250425T183744Z
LAST-MODIFIED:20250615T212521Z
UID:52586-1752948900-1752952500@www.salemhome.ca
SUMMARY:The Pilgrims
DESCRIPTION:
URL:https://www.salemhome.ca/event/the-pilgrims-108/
CATEGORIES:Evergreen
END:VEVENT
BEGIN:VEVENT
DTSTART;VALUE=DATE:20250720
DTEND;VALUE=DATE:20250721
DTSTAMP:20260424T095308
CREATED:20250425T183744Z
LAST-MODIFIED:20250720T115515Z
UID:52585-1752969600-1753055999@www.salemhome.ca
SUMMARY:Day of Rest
DESCRIPTION:
URL:https://www.salemhome.ca/event/day-of-rest-332/
CATEGORIES:Evergreen
END:VEVENT
BEGIN:VEVENT
DTSTART;TZID=America/Winnipeg:20250720T103000
DTEND;TZID=America/Winnipeg:20250720T113000
DTSTAMP:20260424T095308
CREATED:20250720T115515Z
LAST-MODIFIED:20250720T115515Z
UID:55719-1753007400-1753011000@www.salemhome.ca
SUMMARY:Chapel:Country Harvest
DESCRIPTION:
URL:https://www.salemhome.ca/event/chapelcountry-harvest-2/
CATEGORIES:Evergreen
END:VEVENT
BEGIN:VEVENT
DTSTART;TZID=America/Winnipeg:20250721T100000
DTEND;TZID=America/Winnipeg:20250721T110000
DTSTAMP:20260424T095308
CREATED:20250425T183744Z
LAST-MODIFIED:20250721T121015Z
UID:52587-1753092000-1753095600@www.salemhome.ca
SUMMARY:Men's Coffee Shop
DESCRIPTION:
URL:https://www.salemhome.ca/event/mens-coffee-shop-898/
CATEGORIES:Evergreen
END:VEVENT
BEGIN:VEVENT
DTSTART;TZID=America/Winnipeg:20250721T100000
DTEND;TZID=America/Winnipeg:20250721T110000
DTSTAMP:20260424T095308
CREATED:20250720T115516Z
LAST-MODIFIED:20250721T121015Z
UID:55720-1753092000-1753095600@www.salemhome.ca
SUMMARY:Bike Rides
DESCRIPTION:
URL:https://www.salemhome.ca/event/bike-rides-6/
CATEGORIES:Evergreen
END:VEVENT
BEGIN:VEVENT
DTSTART;TZID=America/Winnipeg:20250721T144500
DTEND;TZID=America/Winnipeg:20250721T154500
DTSTAMP:20260424T095308
CREATED:20250426T183745Z
LAST-MODIFIED:20250721T121015Z
UID:52615-1753109100-1753112700@www.salemhome.ca
SUMMARY:Men's Group
DESCRIPTION:Located on Evergreen\, residents from all care areas welcome.
URL:https://www.salemhome.ca/event/mens-group-840/
CATEGORIES:Evergreen
END:VEVENT
BEGIN:VEVENT
DTSTART;TZID=America/Winnipeg:20250721T150000
DTEND;TZID=America/Winnipeg:20250721T160000
DTSTAMP:20260424T095308
CREATED:20250720T115516Z
LAST-MODIFIED:20250721T121016Z
UID:55721-1753110000-1753113600@www.salemhome.ca
SUMMARY:Card Games
DESCRIPTION:
URL:https://www.salemhome.ca/event/card-games-6/
CATEGORIES:Evergreen
END:VEVENT
BEGIN:VEVENT
DTSTART;TZID=America/Winnipeg:20250722T100000
DTEND;TZID=America/Winnipeg:20250722T110000
DTSTAMP:20260424T095308
CREATED:20250426T183745Z
LAST-MODIFIED:20250722T121017Z
UID:52616-1753178400-1753182000@www.salemhome.ca
SUMMARY:Move With Grace
DESCRIPTION:
URL:https://www.salemhome.ca/event/move-with-grace-70/
CATEGORIES:Evergreen
END:VEVENT
BEGIN:VEVENT
DTSTART;TZID=America/Winnipeg:20250722T100000
DTEND;TZID=America/Winnipeg:20250722T110000
DTSTAMP:20260424T095308
CREATED:20250427T185650Z
LAST-MODIFIED:20250722T121017Z
UID:52644-1753178400-1753182000@www.salemhome.ca
SUMMARY:Men's Coffee Shop
DESCRIPTION:
URL:https://www.salemhome.ca/event/mens-coffee-shop-901/
CATEGORIES:Evergreen
END:VEVENT
BEGIN:VEVENT
DTSTART;TZID=America/Winnipeg:20250722T150000
DTEND;TZID=America/Winnipeg:20250722T160000
DTSTAMP:20260424T095308
CREATED:20250720T115516Z
LAST-MODIFIED:20250722T121018Z
UID:55722-1753196400-1753200000@www.salemhome.ca
SUMMARY:True or False
DESCRIPTION:
URL:https://www.salemhome.ca/event/true-or-false-2/
CATEGORIES:Evergreen
END:VEVENT
BEGIN:VEVENT
DTSTART;TZID=America/Winnipeg:20250722T180000
DTEND;TZID=America/Winnipeg:20250722T190000
DTSTAMP:20260424T095308
CREATED:20250427T185650Z
LAST-MODIFIED:20250722T121018Z
UID:52645-1753207200-1753210800@www.salemhome.ca
SUMMARY:Movie Night
DESCRIPTION:
URL:https://www.salemhome.ca/event/movie-night-131/
CATEGORIES:Evergreen
END:VEVENT
BEGIN:VEVENT
DTSTART;TZID=America/Winnipeg:20250723T100000
DTEND;TZID=America/Winnipeg:20250723T110000
DTSTAMP:20260424T095308
CREATED:20250428T190752Z
LAST-MODIFIED:20250723T121046Z
UID:52671-1753264800-1753268400@www.salemhome.ca
SUMMARY:Men's Coffee Shop
DESCRIPTION:
URL:https://www.salemhome.ca/event/mens-coffee-shop-902/
CATEGORIES:Evergreen
END:VEVENT
BEGIN:VEVENT
DTSTART;TZID=America/Winnipeg:20250723T100000
DTEND;TZID=America/Winnipeg:20250723T110000
DTSTAMP:20260424T095308
CREATED:20250428T190753Z
LAST-MODIFIED:20250723T121046Z
UID:52672-1753264800-1753268400@www.salemhome.ca
SUMMARY:John & Irene Plantz
DESCRIPTION:
URL:https://www.salemhome.ca/event/john-irene-plantz-52/
CATEGORIES:Evergreen
END:VEVENT
BEGIN:VEVENT
DTSTART;TZID=America/Winnipeg:20250723T144500
DTEND;TZID=America/Winnipeg:20250723T154500
DTSTAMP:20260424T095308
CREATED:20250428T190753Z
LAST-MODIFIED:20250723T121046Z
UID:52673-1753281900-1753285500@www.salemhome.ca
SUMMARY:Men's Group
DESCRIPTION:Located on Maple North. Residents from all care areas are welcome to attend.
URL:https://www.salemhome.ca/event/mens-group-843/
CATEGORIES:Evergreen
END:VEVENT
BEGIN:VEVENT
DTSTART;TZID=America/Winnipeg:20250723T144500
DTEND;TZID=America/Winnipeg:20250723T154500
DTSTAMP:20260424T095308
CREATED:20250428T190753Z
LAST-MODIFIED:20250723T121046Z
UID:52674-1753281900-1753285500@www.salemhome.ca
SUMMARY:Bingo
DESCRIPTION:
URL:https://www.salemhome.ca/event/bingo-848/
CATEGORIES:Evergreen
END:VEVENT
BEGIN:VEVENT
DTSTART;TZID=America/Winnipeg:20250724T100000
DTEND;TZID=America/Winnipeg:20250724T110000
DTSTAMP:20260424T095308
CREATED:20250720T115517Z
LAST-MODIFIED:20250724T121015Z
UID:55723-1753351200-1753354800@www.salemhome.ca
SUMMARY:Hymn Sing
DESCRIPTION:
URL:https://www.salemhome.ca/event/hymn-sing-611/
CATEGORIES:Evergreen
END:VEVENT
BEGIN:VEVENT
DTSTART;TZID=America/Winnipeg:20250724T103000
DTEND;TZID=America/Winnipeg:20250724T113000
DTSTAMP:20260424T095308
CREATED:20250720T115518Z
LAST-MODIFIED:20250724T121015Z
UID:55724-1753353000-1753356600@www.salemhome.ca
SUMMARY:Chapel:Winkler MB Church
DESCRIPTION:
URL:https://www.salemhome.ca/event/chapelwinkler-mb-church/
CATEGORIES:Evergreen
END:VEVENT
BEGIN:VEVENT
DTSTART;TZID=America/Winnipeg:20250724T110000
DTEND;TZID=America/Winnipeg:20250724T120000
DTSTAMP:20260424T095308
CREATED:20250508T195244Z
LAST-MODIFIED:20250724T121015Z
UID:53227-1753354800-1753358400@www.salemhome.ca
SUMMARY:Spa Day
DESCRIPTION:
URL:https://www.salemhome.ca/event/spa-day-130/
CATEGORIES:Evergreen
END:VEVENT
BEGIN:VEVENT
DTSTART;TZID=America/Winnipeg:20250724T150000
DTEND;TZID=America/Winnipeg:20250724T160000
DTSTAMP:20260424T095308
CREATED:20250720T115518Z
LAST-MODIFIED:20250724T121015Z
UID:55725-1753369200-1753372800@www.salemhome.ca
SUMMARY:Name 10 Things
DESCRIPTION:
URL:https://www.salemhome.ca/event/name-10-things/
CATEGORIES:Evergreen
END:VEVENT
BEGIN:VEVENT
DTSTART;TZID=America/Winnipeg:20250725T100000
DTEND;TZID=America/Winnipeg:20250725T110000
DTSTAMP:20260424T095308
CREATED:20250509T195248Z
LAST-MODIFIED:20250725T122543Z
UID:53236-1753437600-1753441200@www.salemhome.ca
SUMMARY:Men's Coffee Shop
DESCRIPTION:
URL:https://www.salemhome.ca/event/mens-coffee-shop-903/
CATEGORIES:Evergreen
END:VEVENT
BEGIN:VEVENT
DTSTART;TZID=America/Winnipeg:20250725T101500
DTEND;TZID=America/Winnipeg:20250725T104500
DTSTAMP:20260424T095308
CREATED:20250508T195244Z
LAST-MODIFIED:20250725T122543Z
UID:53228-1753438500-1753440300@www.salemhome.ca
SUMMARY:Chapel
DESCRIPTION:
URL:https://www.salemhome.ca/event/chapel-725/
CATEGORIES:Evergreen
END:VEVENT
BEGIN:VEVENT
DTSTART;TZID=America/Winnipeg:20250725T110000
DTEND;TZID=America/Winnipeg:20250725T120000
DTSTAMP:20260424T095308
CREATED:20250509T195248Z
LAST-MODIFIED:20250725T122543Z
UID:53235-1753441200-1753444800@www.salemhome.ca
SUMMARY:Music by Dave Nickel
DESCRIPTION:
URL:https://www.salemhome.ca/event/music-by-dave-nickel-133/
CATEGORIES:Evergreen
END:VEVENT
BEGIN:VEVENT
DTSTART;TZID=America/Winnipeg:20250725T140000
DTEND;TZID=America/Winnipeg:20250725T150000
DTSTAMP:20260424T095308
CREATED:20250509T195249Z
LAST-MODIFIED:20250725T122543Z
UID:53237-1753452000-1753455600@www.salemhome.ca
SUMMARY:Music Therapy
DESCRIPTION:
URL:https://www.salemhome.ca/event/music-therapy-257/
CATEGORIES:Evergreen
END:VEVENT
BEGIN:VEVENT
DTSTART;TZID=America/Winnipeg:20250725T150000
DTEND;TZID=America/Winnipeg:20250725T160000
DTSTAMP:20260424T095308
CREATED:20250720T115518Z
LAST-MODIFIED:20250725T122543Z
UID:55726-1753455600-1753459200@www.salemhome.ca
SUMMARY:Spotify Favorites
DESCRIPTION:
URL:https://www.salemhome.ca/event/spotify-favorites/
CATEGORIES:Evergreen
END:VEVENT
END:VCALENDAR