BEGIN:VCALENDAR
VERSION:2.0
PRODID:-//Salem Home - ECPv6.15.20//NONSGML v1.0//EN
CALSCALE:GREGORIAN
METHOD:PUBLISH
X-ORIGINAL-URL:https://www.salemhome.ca
X-WR-CALDESC:Events for Salem Home
REFRESH-INTERVAL;VALUE=DURATION:PT1H
X-Robots-Tag:noindex
X-PUBLISHED-TTL:PT1H
BEGIN:VTIMEZONE
TZID:America/Winnipeg
BEGIN:DAYLIGHT
TZOFFSETFROM:-0600
TZOFFSETTO:-0500
TZNAME:CDT
DTSTART:20240310T080000
END:DAYLIGHT
BEGIN:STANDARD
TZOFFSETFROM:-0500
TZOFFSETTO:-0600
TZNAME:CST
DTSTART:20241103T070000
END:STANDARD
BEGIN:DAYLIGHT
TZOFFSETFROM:-0600
TZOFFSETTO:-0500
TZNAME:CDT
DTSTART:20250309T080000
END:DAYLIGHT
BEGIN:STANDARD
TZOFFSETFROM:-0500
TZOFFSETTO:-0600
TZNAME:CST
DTSTART:20251102T070000
END:STANDARD
BEGIN:DAYLIGHT
TZOFFSETFROM:-0600
TZOFFSETTO:-0500
TZNAME:CDT
DTSTART:20260308T080000
END:DAYLIGHT
BEGIN:STANDARD
TZOFFSETFROM:-0500
TZOFFSETTO:-0600
TZNAME:CST
DTSTART:20261101T070000
END:STANDARD
END:VTIMEZONE
BEGIN:VEVENT
DTSTART;TZID=America/Winnipeg:20250122T144500
DTEND;TZID=America/Winnipeg:20250122T154500
DTSTAMP:20260425T224255
CREATED:20241024T060027Z
LAST-MODIFIED:20250122T093028Z
UID:46024-1737557100-1737560700@www.salemhome.ca
SUMMARY:Men's Group
DESCRIPTION:Located on Maple North. Residents from all care areas are welcome to attend.
URL:https://www.salemhome.ca/event/mens-group-628/
CATEGORIES:Evergreen
END:VEVENT
BEGIN:VEVENT
DTSTART;TZID=America/Winnipeg:20250122T144500
DTEND;TZID=America/Winnipeg:20250122T154500
DTSTAMP:20260425T224255
CREATED:20241024T060027Z
LAST-MODIFIED:20250122T093028Z
UID:46025-1737557100-1737560700@www.salemhome.ca
SUMMARY:Bingo
DESCRIPTION:
URL:https://www.salemhome.ca/event/bingo-632/
CATEGORIES:Evergreen
END:VEVENT
BEGIN:VEVENT
DTSTART;TZID=America/Winnipeg:20250123T103000
DTEND;TZID=America/Winnipeg:20250123T113000
DTSTAMP:20260425T224255
CREATED:20250103T084519Z
LAST-MODIFIED:20250123T093013Z
UID:48391-1737628200-1737631800@www.salemhome.ca
SUMMARY:Chapel: Winkler MB Church
DESCRIPTION:
URL:https://www.salemhome.ca/event/chapel-winkler-mb-church-36/
CATEGORIES:Evergreen
END:VEVENT
BEGIN:VEVENT
DTSTART;TZID=America/Winnipeg:20250123T110000
DTEND;TZID=America/Winnipeg:20250123T120000
DTSTAMP:20260425T224255
CREATED:20241025T060030Z
LAST-MODIFIED:20250123T093013Z
UID:46056-1737630000-1737633600@www.salemhome.ca
SUMMARY:Spa Day
DESCRIPTION:
URL:https://www.salemhome.ca/event/spa-day-104/
CATEGORIES:Evergreen
END:VEVENT
BEGIN:VEVENT
DTSTART;TZID=America/Winnipeg:20250123T150000
DTEND;TZID=America/Winnipeg:20250123T160000
DTSTAMP:20260425T224255
CREATED:20250103T084519Z
LAST-MODIFIED:20250123T093013Z
UID:48392-1737644400-1737648000@www.salemhome.ca
SUMMARY:Winter Trivia
DESCRIPTION:
URL:https://www.salemhome.ca/event/winter-trivia/
CATEGORIES:Evergreen
END:VEVENT
BEGIN:VEVENT
DTSTART;TZID=America/Winnipeg:20250124T100000
DTEND;TZID=America/Winnipeg:20250124T110000
DTSTAMP:20260425T224255
CREATED:20241025T060031Z
LAST-MODIFIED:20250124T093013Z
UID:46059-1737712800-1737716400@www.salemhome.ca
SUMMARY:Men's Coffee Shop
DESCRIPTION:
URL:https://www.salemhome.ca/event/mens-coffee-shop-599/
CATEGORIES:Evergreen
END:VEVENT
BEGIN:VEVENT
DTSTART;TZID=America/Winnipeg:20250124T101500
DTEND;TZID=America/Winnipeg:20250124T104500
DTSTAMP:20260425T224255
CREATED:20241025T060031Z
LAST-MODIFIED:20250124T093012Z
UID:46057-1737713700-1737715500@www.salemhome.ca
SUMMARY:Chapel
DESCRIPTION:
URL:https://www.salemhome.ca/event/chapel-629/
CATEGORIES:Evergreen
END:VEVENT
BEGIN:VEVENT
DTSTART;TZID=America/Winnipeg:20250124T110000
DTEND;TZID=America/Winnipeg:20250124T120000
DTSTAMP:20260425T224255
CREATED:20241025T060031Z
LAST-MODIFIED:20250124T093013Z
UID:46058-1737716400-1737720000@www.salemhome.ca
SUMMARY:Music by Dave Nickel
DESCRIPTION:
URL:https://www.salemhome.ca/event/music-by-dave-nickel-107/
CATEGORIES:Evergreen
END:VEVENT
BEGIN:VEVENT
DTSTART;TZID=America/Winnipeg:20250124T140000
DTEND;TZID=America/Winnipeg:20250124T150000
DTSTAMP:20260425T224255
CREATED:20241026T060024Z
LAST-MODIFIED:20250124T093013Z
UID:46096-1737727200-1737730800@www.salemhome.ca
SUMMARY:Music Therapy
DESCRIPTION:
URL:https://www.salemhome.ca/event/music-therapy-217/
CATEGORIES:Evergreen
END:VEVENT
BEGIN:VEVENT
DTSTART;TZID=America/Winnipeg:20250125T100000
DTEND;TZID=America/Winnipeg:20250125T110000
DTSTAMP:20260425T224255
CREATED:20241026T060024Z
LAST-MODIFIED:20250125T093013Z
UID:46097-1737799200-1737802800@www.salemhome.ca
SUMMARY:Bingo
DESCRIPTION:
URL:https://www.salemhome.ca/event/bingo-634/
CATEGORIES:Evergreen
END:VEVENT
BEGIN:VEVENT
DTSTART;TZID=America/Winnipeg:20250125T150000
DTEND;TZID=America/Winnipeg:20250125T160000
DTSTAMP:20260425T224255
CREATED:20250103T084520Z
LAST-MODIFIED:20250125T093013Z
UID:48393-1737817200-1737820800@www.salemhome.ca
SUMMARY:Cards
DESCRIPTION:
URL:https://www.salemhome.ca/event/cards-7/
CATEGORIES:Evergreen
END:VEVENT
BEGIN:VEVENT
DTSTART;VALUE=DATE:20250126
DTEND;VALUE=DATE:20250127
DTSTAMP:20260425T224255
CREATED:20241026T060024Z
LAST-MODIFIED:20250126T093011Z
UID:46098-1737849600-1737935999@www.salemhome.ca
SUMMARY:Day of Rest
DESCRIPTION:
URL:https://www.salemhome.ca/event/day-of-rest-231/
CATEGORIES:Evergreen
END:VEVENT
BEGIN:VEVENT
DTSTART;TZID=America/Winnipeg:20250126T103000
DTEND;TZID=America/Winnipeg:20250126T113000
DTSTAMP:20260425T224255
CREATED:20250103T084520Z
LAST-MODIFIED:20250126T093011Z
UID:48394-1737887400-1737891000@www.salemhome.ca
SUMMARY:Chapel: Old Colony Mennonite
DESCRIPTION:
URL:https://www.salemhome.ca/event/chapel-old-colony-mennonite-81/
CATEGORIES:Evergreen
END:VEVENT
BEGIN:VEVENT
DTSTART;TZID=America/Winnipeg:20250127T100000
DTEND;TZID=America/Winnipeg:20250127T110000
DTSTAMP:20260425T224255
CREATED:20241026T060025Z
LAST-MODIFIED:20250127T093027Z
UID:46099-1737972000-1737975600@www.salemhome.ca
SUMMARY:Men's Coffee Shop
DESCRIPTION:
URL:https://www.salemhome.ca/event/mens-coffee-shop-603/
CATEGORIES:Evergreen
END:VEVENT
BEGIN:VEVENT
DTSTART;TZID=America/Winnipeg:20250127T100000
DTEND;TZID=America/Winnipeg:20250127T110000
DTSTAMP:20260425T224255
CREATED:20250103T084520Z
LAST-MODIFIED:20250127T093027Z
UID:48395-1737972000-1737975600@www.salemhome.ca
SUMMARY:Devotions
DESCRIPTION:
URL:https://www.salemhome.ca/event/devotions-115/
CATEGORIES:Evergreen
END:VEVENT
BEGIN:VEVENT
DTSTART;TZID=America/Winnipeg:20250127T144500
DTEND;TZID=America/Winnipeg:20250127T154500
DTSTAMP:20260425T224255
CREATED:20241027T060029Z
LAST-MODIFIED:20250127T093027Z
UID:46129-1737989100-1737992700@www.salemhome.ca
SUMMARY:Men's Group
DESCRIPTION:Located on Evergreen\, residents from all care areas welcome.
URL:https://www.salemhome.ca/event/mens-group-634/
CATEGORIES:Evergreen
END:VEVENT
BEGIN:VEVENT
DTSTART;TZID=America/Winnipeg:20250127T150000
DTEND;TZID=America/Winnipeg:20250127T160000
DTSTAMP:20260425T224255
CREATED:20250103T084520Z
LAST-MODIFIED:20250127T093027Z
UID:48396-1737990000-1737993600@www.salemhome.ca
SUMMARY:Kings In A Corner
DESCRIPTION:
URL:https://www.salemhome.ca/event/kings-in-a-corner-2/
CATEGORIES:Evergreen
END:VEVENT
BEGIN:VEVENT
DTSTART;TZID=America/Winnipeg:20250128T100000
DTEND;TZID=America/Winnipeg:20250128T110000
DTSTAMP:20260425T224255
CREATED:20241027T060030Z
LAST-MODIFIED:20250128T093014Z
UID:46130-1738058400-1738062000@www.salemhome.ca
SUMMARY:Men's Coffee Shop
DESCRIPTION:
URL:https://www.salemhome.ca/event/mens-coffee-shop-607/
CATEGORIES:Evergreen
END:VEVENT
BEGIN:VEVENT
DTSTART;TZID=America/Winnipeg:20250128T150000
DTEND;TZID=America/Winnipeg:20250128T160000
DTSTAMP:20260425T224255
CREATED:20250103T084520Z
LAST-MODIFIED:20250128T093014Z
UID:48397-1738076400-1738080000@www.salemhome.ca
SUMMARY:Story Time
DESCRIPTION:
URL:https://www.salemhome.ca/event/story-time-2/
CATEGORIES:Evergreen
END:VEVENT
BEGIN:VEVENT
DTSTART;TZID=America/Winnipeg:20250128T180000
DTEND;TZID=America/Winnipeg:20250128T190000
DTSTAMP:20260425T224255
CREATED:20241028T061526Z
LAST-MODIFIED:20250128T093014Z
UID:46154-1738087200-1738090800@www.salemhome.ca
SUMMARY:Movie Night
DESCRIPTION:
URL:https://www.salemhome.ca/event/movie-night-106/
CATEGORIES:Evergreen
END:VEVENT
BEGIN:VEVENT
DTSTART;TZID=America/Winnipeg:20250128T183000
DTEND;TZID=America/Winnipeg:20250128T193000
DTSTAMP:20260425T224255
CREATED:20241028T061526Z
LAST-MODIFIED:20241128T071523Z
UID:46153-1738089000-1738092600@www.salemhome.ca
SUMMARY:Melanie & Friends
DESCRIPTION:
URL:https://www.salemhome.ca/event/melanie-friends-75/
CATEGORIES:Evergreen
END:VEVENT
BEGIN:VEVENT
DTSTART;TZID=America/Winnipeg:20250129T100000
DTEND;TZID=America/Winnipeg:20250129T110000
DTSTAMP:20260425T224255
CREATED:20241029T061529Z
LAST-MODIFIED:20250129T093014Z
UID:46179-1738144800-1738148400@www.salemhome.ca
SUMMARY:Men's Coffee Shop
DESCRIPTION:
URL:https://www.salemhome.ca/event/mens-coffee-shop-609/
CATEGORIES:Evergreen
END:VEVENT
BEGIN:VEVENT
DTSTART;TZID=America/Winnipeg:20250129T100000
DTEND;TZID=America/Winnipeg:20250129T110000
DTSTAMP:20260425T224255
CREATED:20250103T084521Z
LAST-MODIFIED:20250129T093014Z
UID:48398-1738144800-1738148400@www.salemhome.ca
SUMMARY:John & Irene Plantz
DESCRIPTION:
URL:https://www.salemhome.ca/event/john-irene-plantz-33/
CATEGORIES:Evergreen
END:VEVENT
BEGIN:VEVENT
DTSTART;TZID=America/Winnipeg:20250129T144500
DTEND;TZID=America/Winnipeg:20250129T154500
DTSTAMP:20260425T224255
CREATED:20241029T061529Z
LAST-MODIFIED:20250129T093014Z
UID:46181-1738161900-1738165500@www.salemhome.ca
SUMMARY:Bingo
DESCRIPTION:
URL:https://www.salemhome.ca/event/bingo-637/
CATEGORIES:Evergreen
END:VEVENT
BEGIN:VEVENT
DTSTART;TZID=America/Winnipeg:20250129T144500
DTEND;TZID=America/Winnipeg:20250129T154500
DTSTAMP:20260425T224255
CREATED:20241029T061529Z
LAST-MODIFIED:20250129T093014Z
UID:46180-1738161900-1738165500@www.salemhome.ca
SUMMARY:Men's Group
DESCRIPTION:Located on Maple North. Residents from all care areas are welcome to attend.
URL:https://www.salemhome.ca/event/mens-group-637/
CATEGORIES:Evergreen
END:VEVENT
BEGIN:VEVENT
DTSTART;TZID=America/Winnipeg:20250130T103000
DTEND;TZID=America/Winnipeg:20250130T113000
DTSTAMP:20260425T224255
CREATED:20250103T084521Z
LAST-MODIFIED:20250130T094510Z
UID:48399-1738233000-1738236600@www.salemhome.ca
SUMMARY:Chapel: Harvest Christian Fellowship
DESCRIPTION:
URL:https://www.salemhome.ca/event/chapel-harvest-christian-fellowship-19/
CATEGORIES:Evergreen
END:VEVENT
BEGIN:VEVENT
DTSTART;TZID=America/Winnipeg:20250130T110000
DTEND;TZID=America/Winnipeg:20250130T120000
DTSTAMP:20260425T224255
CREATED:20241029T061529Z
LAST-MODIFIED:20250130T094510Z
UID:46182-1738234800-1738238400@www.salemhome.ca
SUMMARY:Spa Day
DESCRIPTION:
URL:https://www.salemhome.ca/event/spa-day-105/
CATEGORIES:Evergreen
END:VEVENT
BEGIN:VEVENT
DTSTART;TZID=America/Winnipeg:20250130T160000
DTEND;TZID=America/Winnipeg:20250130T170000
DTSTAMP:20260425T224255
CREATED:20250103T084521Z
LAST-MODIFIED:20250130T094510Z
UID:48400-1738252800-1738256400@www.salemhome.ca
SUMMARY:Joan Van der Linde
DESCRIPTION:
URL:https://www.salemhome.ca/event/joan-van-der-linde-27/
CATEGORIES:Evergreen
END:VEVENT
BEGIN:VEVENT
DTSTART;TZID=America/Winnipeg:20250131T100000
DTEND;TZID=America/Winnipeg:20250131T110000
DTSTAMP:20260425T224255
CREATED:20241107T061531Z
LAST-MODIFIED:20250131T094514Z
UID:46576-1738317600-1738321200@www.salemhome.ca
SUMMARY:Men's Coffee Shop
DESCRIPTION:
URL:https://www.salemhome.ca/event/mens-coffee-shop-619/
CATEGORIES:Evergreen
END:VEVENT
BEGIN:VEVENT
DTSTART;TZID=America/Winnipeg:20250131T101500
DTEND;TZID=America/Winnipeg:20250131T104500
DTSTAMP:20260425T224255
CREATED:20241029T061529Z
LAST-MODIFIED:20250131T094514Z
UID:46183-1738318500-1738320300@www.salemhome.ca
SUMMARY:Chapel
DESCRIPTION:
URL:https://www.salemhome.ca/event/chapel-632/
CATEGORIES:Evergreen
END:VEVENT
END:VCALENDAR