BEGIN:VCALENDAR
VERSION:2.0
PRODID:-//Salem Home - ECPv6.15.20//NONSGML v1.0//EN
CALSCALE:GREGORIAN
METHOD:PUBLISH
X-WR-CALNAME:Salem Home
X-ORIGINAL-URL:https://www.salemhome.ca
X-WR-CALDESC:Events for Salem Home
REFRESH-INTERVAL;VALUE=DURATION:PT1H
X-Robots-Tag:noindex
X-PUBLISHED-TTL:PT1H
BEGIN:VTIMEZONE
TZID:America/Winnipeg
BEGIN:DAYLIGHT
TZOFFSETFROM:-0600
TZOFFSETTO:-0500
TZNAME:CDT
DTSTART:20240310T080000
END:DAYLIGHT
BEGIN:STANDARD
TZOFFSETFROM:-0500
TZOFFSETTO:-0600
TZNAME:CST
DTSTART:20241103T070000
END:STANDARD
BEGIN:DAYLIGHT
TZOFFSETFROM:-0600
TZOFFSETTO:-0500
TZNAME:CDT
DTSTART:20250309T080000
END:DAYLIGHT
BEGIN:STANDARD
TZOFFSETFROM:-0500
TZOFFSETTO:-0600
TZNAME:CST
DTSTART:20251102T070000
END:STANDARD
BEGIN:DAYLIGHT
TZOFFSETFROM:-0600
TZOFFSETTO:-0500
TZNAME:CDT
DTSTART:20260308T080000
END:DAYLIGHT
BEGIN:STANDARD
TZOFFSETFROM:-0500
TZOFFSETTO:-0600
TZNAME:CST
DTSTART:20261101T070000
END:STANDARD
END:VTIMEZONE
BEGIN:VEVENT
DTSTART;TZID=America/Winnipeg:20250910T144500
DTEND;TZID=America/Winnipeg:20250910T154500
DTSTAMP:20260423T061934
CREATED:20250614T212606Z
LAST-MODIFIED:20250909T145936Z
UID:54437-1757515500-1757519100@www.salemhome.ca
SUMMARY:Bingo
DESCRIPTION:
URL:https://www.salemhome.ca/event/bingo-906/
CATEGORIES:Evergreen
END:VEVENT
BEGIN:VEVENT
DTSTART;TZID=America/Winnipeg:20250910T144500
DTEND;TZID=America/Winnipeg:20250910T154500
DTSTAMP:20260423T061934
CREATED:20250720T115539Z
LAST-MODIFIED:20250909T145935Z
UID:55753-1757515500-1757519100@www.salemhome.ca
SUMMARY:Men's Coffee Shop
DESCRIPTION:
URL:https://www.salemhome.ca/event/mens-coffee-shop-993/
CATEGORIES:Evergreen
END:VEVENT
BEGIN:VEVENT
DTSTART;TZID=America/Winnipeg:20250911T100000
DTEND;TZID=America/Winnipeg:20250911T110000
DTSTAMP:20260423T061934
CREATED:20250720T115540Z
LAST-MODIFIED:20250909T145936Z
UID:55755-1757584800-1757588400@www.salemhome.ca
SUMMARY:Hymn Sing
DESCRIPTION:
URL:https://www.salemhome.ca/event/hymn-sing-618/
CATEGORIES:Evergreen
END:VEVENT
BEGIN:VEVENT
DTSTART;TZID=America/Winnipeg:20250911T103000
DTEND;TZID=America/Winnipeg:20250911T113000
DTSTAMP:20260423T061934
CREATED:20250729T125533Z
LAST-MODIFIED:20250909T145936Z
UID:56235-1757586600-1757590200@www.salemhome.ca
SUMMARY:Old Colony Mennonite Church
DESCRIPTION:
URL:https://www.salemhome.ca/event/chapel-753/
CATEGORIES:Evergreen
END:VEVENT
BEGIN:VEVENT
DTSTART;TZID=America/Winnipeg:20250911T110000
DTEND;TZID=America/Winnipeg:20250911T120000
DTSTAMP:20260423T061934
CREATED:20250720T115540Z
LAST-MODIFIED:20250909T145936Z
UID:55754-1757588400-1757592000@www.salemhome.ca
SUMMARY:Spa Day
DESCRIPTION:
URL:https://www.salemhome.ca/event/spa-day-137/
CATEGORIES:Evergreen
END:VEVENT
BEGIN:VEVENT
DTSTART;TZID=America/Winnipeg:20250911T150000
DTEND;TZID=America/Winnipeg:20250911T160000
DTSTAMP:20260423T061934
CREATED:20250827T142917Z
LAST-MODIFIED:20250909T145936Z
UID:57251-1757602800-1757606400@www.salemhome.ca
SUMMARY:Move it to Music
DESCRIPTION:
URL:https://www.salemhome.ca/event/move-it-to-music-12/
CATEGORIES:Evergreen
END:VEVENT
BEGIN:VEVENT
DTSTART;TZID=America/Winnipeg:20250912T100000
DTEND;TZID=America/Winnipeg:20250912T110000
DTSTAMP:20260423T061934
CREATED:20250720T115541Z
LAST-MODIFIED:20250909T145936Z
UID:55758-1757671200-1757674800@www.salemhome.ca
SUMMARY:Men's Coffee Shop
DESCRIPTION:
URL:https://www.salemhome.ca/event/mens-coffee-shop-994/
CATEGORIES:Evergreen
END:VEVENT
BEGIN:VEVENT
DTSTART;TZID=America/Winnipeg:20250912T101500
DTEND;TZID=America/Winnipeg:20250912T104500
DTSTAMP:20260423T061934
CREATED:20250720T115540Z
LAST-MODIFIED:20250909T145936Z
UID:55756-1757672100-1757673900@www.salemhome.ca
SUMMARY:Chapel
DESCRIPTION:
URL:https://www.salemhome.ca/event/chapel-743/
CATEGORIES:Evergreen
END:VEVENT
BEGIN:VEVENT
DTSTART;TZID=America/Winnipeg:20250912T110000
DTEND;TZID=America/Winnipeg:20250912T120000
DTSTAMP:20260423T061934
CREATED:20250720T115541Z
LAST-MODIFIED:20250909T145936Z
UID:55757-1757674800-1757678400@www.salemhome.ca
SUMMARY:Music by Dave Nickel
DESCRIPTION:
URL:https://www.salemhome.ca/event/music-by-dave-nickel-140/
CATEGORIES:Evergreen
END:VEVENT
BEGIN:VEVENT
DTSTART;TZID=America/Winnipeg:20250912T140000
DTEND;TZID=America/Winnipeg:20250912T150000
DTSTAMP:20260423T061934
CREATED:20250720T115543Z
LAST-MODIFIED:20250909T145936Z
UID:55760-1757685600-1757689200@www.salemhome.ca
SUMMARY:Music Therapy
DESCRIPTION:
URL:https://www.salemhome.ca/event/music-therapy-269/
CATEGORIES:Evergreen
END:VEVENT
BEGIN:VEVENT
DTSTART;TZID=America/Winnipeg:20250912T150000
DTEND;TZID=America/Winnipeg:20250912T160000
DTSTAMP:20260423T061934
CREATED:20250720T115543Z
LAST-MODIFIED:20250909T145936Z
UID:55759-1757689200-1757692800@www.salemhome.ca
SUMMARY:Spotify Favorites
DESCRIPTION:
URL:https://www.salemhome.ca/event/spotify-favorites-8/
CATEGORIES:Evergreen
END:VEVENT
BEGIN:VEVENT
DTSTART;TZID=America/Winnipeg:20250913T100000
DTEND;TZID=America/Winnipeg:20250913T110000
DTSTAMP:20260423T061934
CREATED:20250827T142917Z
LAST-MODIFIED:20250909T145937Z
UID:57252-1757757600-1757761200@www.salemhome.ca
SUMMARY:Crokinole
DESCRIPTION:
URL:https://www.salemhome.ca/event/crokinole-52/
CATEGORIES:Evergreen
END:VEVENT
BEGIN:VEVENT
DTSTART;TZID=America/Winnipeg:20250913T150000
DTEND;TZID=America/Winnipeg:20250913T160000
DTSTAMP:20260423T061934
CREATED:20250720T115543Z
LAST-MODIFIED:20250909T145937Z
UID:55761-1757775600-1757779200@www.salemhome.ca
SUMMARY:Bingo
DESCRIPTION:
URL:https://www.salemhome.ca/event/bingo-941/
CATEGORIES:Evergreen
END:VEVENT
BEGIN:VEVENT
DTSTART;VALUE=DATE:20250914
DTEND;VALUE=DATE:20250915
DTSTAMP:20260423T061934
CREATED:20250720T115543Z
LAST-MODIFIED:20250909T145937Z
UID:55762-1757808000-1757894399@www.salemhome.ca
SUMMARY:Day of Rest
DESCRIPTION:
URL:https://www.salemhome.ca/event/day-of-rest-373/
CATEGORIES:Evergreen
END:VEVENT
BEGIN:VEVENT
DTSTART;TZID=America/Winnipeg:20250914T094500
DTEND;TZID=America/Winnipeg:20250914T104500
DTSTAMP:20260423T061934
CREATED:20250826T142912Z
LAST-MODIFIED:20250909T145937Z
UID:57076-1757843100-1757846700@www.salemhome.ca
SUMMARY:Covenant Mennonite Church
DESCRIPTION:
URL:https://www.salemhome.ca/event/covenant-mennonite-church-2/
CATEGORIES:Evergreen
END:VEVENT
BEGIN:VEVENT
DTSTART;TZID=America/Winnipeg:20250915T100000
DTEND;TZID=America/Winnipeg:20250915T110000
DTSTAMP:20260423T061934
CREATED:20250720T115544Z
LAST-MODIFIED:20250909T145937Z
UID:55763-1757930400-1757934000@www.salemhome.ca
SUMMARY:Men's Coffee Shop
DESCRIPTION:
URL:https://www.salemhome.ca/event/mens-coffee-shop-995/
CATEGORIES:Evergreen
END:VEVENT
BEGIN:VEVENT
DTSTART;TZID=America/Winnipeg:20250915T100000
DTEND;TZID=America/Winnipeg:20250915T110000
DTSTAMP:20260423T061934
CREATED:20250826T142912Z
LAST-MODIFIED:20250909T145937Z
UID:57077-1757930400-1757934000@www.salemhome.ca
SUMMARY:Devotions & Trivia
DESCRIPTION:
URL:https://www.salemhome.ca/event/devotions-trivia/
CATEGORIES:Evergreen
END:VEVENT
BEGIN:VEVENT
DTSTART;TZID=America/Winnipeg:20250915T144500
DTEND;TZID=America/Winnipeg:20250915T154500
DTSTAMP:20260423T061934
CREATED:20250720T115544Z
LAST-MODIFIED:20250909T145937Z
UID:55764-1757947500-1757951100@www.salemhome.ca
SUMMARY:Men's Group
DESCRIPTION:Located on Evergreen\, residents from all care areas welcome.
URL:https://www.salemhome.ca/event/mens-group-909/
CATEGORIES:Evergreen
END:VEVENT
BEGIN:VEVENT
DTSTART;TZID=America/Winnipeg:20250915T150000
DTEND;TZID=America/Winnipeg:20250915T160000
DTSTAMP:20260423T061934
CREATED:20250826T142912Z
LAST-MODIFIED:20250909T145937Z
UID:57078-1757948400-1757952000@www.salemhome.ca
SUMMARY:Yahtzee
DESCRIPTION:
URL:https://www.salemhome.ca/event/yahtzee/
CATEGORIES:Evergreen
END:VEVENT
BEGIN:VEVENT
DTSTART;TZID=America/Winnipeg:20250916T100000
DTEND;TZID=America/Winnipeg:20250916T110000
DTSTAMP:20260423T061934
CREATED:20250720T115545Z
LAST-MODIFIED:20250909T145938Z
UID:55766-1758016800-1758020400@www.salemhome.ca
SUMMARY:Move With Grace
DESCRIPTION:
URL:https://www.salemhome.ca/event/move-with-grace-152/
CATEGORIES:Evergreen
END:VEVENT
BEGIN:VEVENT
DTSTART;TZID=America/Winnipeg:20250916T100000
DTEND;TZID=America/Winnipeg:20250916T110000
DTSTAMP:20260423T061934
CREATED:20250720T115545Z
LAST-MODIFIED:20250909T145937Z
UID:55765-1758016800-1758020400@www.salemhome.ca
SUMMARY:Men's Coffee Shop
DESCRIPTION:
URL:https://www.salemhome.ca/event/mens-coffee-shop-996/
CATEGORIES:Evergreen
END:VEVENT
BEGIN:VEVENT
DTSTART;TZID=America/Winnipeg:20250916T150000
DTEND;TZID=America/Winnipeg:20250916T160000
DTSTAMP:20260423T061934
CREATED:20250826T142913Z
LAST-MODIFIED:20250909T145938Z
UID:57079-1758034800-1758038400@www.salemhome.ca
SUMMARY:Fall Flower Arranging
DESCRIPTION:
URL:https://www.salemhome.ca/event/fall-flower-arranging/
CATEGORIES:Evergreen
END:VEVENT
BEGIN:VEVENT
DTSTART;TZID=America/Winnipeg:20250916T180000
DTEND;TZID=America/Winnipeg:20250916T190000
DTSTAMP:20260423T061934
CREATED:20250720T115545Z
LAST-MODIFIED:20250909T145938Z
UID:55767-1758045600-1758049200@www.salemhome.ca
SUMMARY:Movie Night
DESCRIPTION:
URL:https://www.salemhome.ca/event/movie-night-140/
CATEGORIES:Evergreen
END:VEVENT
BEGIN:VEVENT
DTSTART;TZID=America/Winnipeg:20250917T100000
DTEND;TZID=America/Winnipeg:20250917T110000
DTSTAMP:20260423T061934
CREATED:20250720T115545Z
LAST-MODIFIED:20250909T145938Z
UID:55768-1758103200-1758106800@www.salemhome.ca
SUMMARY:John & Irene Plantz
DESCRIPTION:
URL:https://www.salemhome.ca/event/john-irene-plantz-60/
CATEGORIES:Evergreen
END:VEVENT
BEGIN:VEVENT
DTSTART;TZID=America/Winnipeg:20250917T100000
DTEND;TZID=America/Winnipeg:20250917T110000
DTSTAMP:20260423T061934
CREATED:20250720T115546Z
LAST-MODIFIED:20250909T145938Z
UID:55769-1758103200-1758106800@www.salemhome.ca
SUMMARY:Men's Coffee Shop
DESCRIPTION:
URL:https://www.salemhome.ca/event/mens-coffee-shop-997/
CATEGORIES:Evergreen
END:VEVENT
BEGIN:VEVENT
DTSTART;TZID=America/Winnipeg:20250917T144500
DTEND;TZID=America/Winnipeg:20250917T154500
DTSTAMP:20260423T061934
CREATED:20250720T115546Z
LAST-MODIFIED:20250909T145938Z
UID:55771-1758120300-1758123900@www.salemhome.ca
SUMMARY:Bingo
DESCRIPTION:
URL:https://www.salemhome.ca/event/bingo-942/
CATEGORIES:Evergreen
END:VEVENT
BEGIN:VEVENT
DTSTART;TZID=America/Winnipeg:20250917T144500
DTEND;TZID=America/Winnipeg:20250917T154500
DTSTAMP:20260423T061934
CREATED:20250720T115546Z
LAST-MODIFIED:20250826T142914Z
UID:55770-1758120300-1758123900@www.salemhome.ca
SUMMARY:Men's Group
DESCRIPTION:Located on Maple North. Residents from all care areas are welcome to attend.
URL:https://www.salemhome.ca/event/mens-group-910/
CATEGORIES:Evergreen
END:VEVENT
BEGIN:VEVENT
DTSTART;TZID=America/Winnipeg:20250917T144500
DTEND;TZID=America/Winnipeg:20250917T154500
DTSTAMP:20260423T061934
CREATED:20250720T115547Z
LAST-MODIFIED:20250909T145938Z
UID:55772-1758120300-1758123900@www.salemhome.ca
SUMMARY:Men's Coffee Shop
DESCRIPTION:
URL:https://www.salemhome.ca/event/mens-coffee-shop-998/
CATEGORIES:Evergreen
END:VEVENT
BEGIN:VEVENT
DTSTART;TZID=America/Winnipeg:20250918T100000
DTEND;TZID=America/Winnipeg:20250918T110000
DTSTAMP:20260423T061934
CREATED:20250720T115547Z
LAST-MODIFIED:20250909T145938Z
UID:55773-1758189600-1758193200@www.salemhome.ca
SUMMARY:Hymn Sing
DESCRIPTION:
URL:https://www.salemhome.ca/event/hymn-sing-619/
CATEGORIES:Evergreen
END:VEVENT
BEGIN:VEVENT
DTSTART;TZID=America/Winnipeg:20250918T103000
DTEND;TZID=America/Winnipeg:20250918T113000
DTSTAMP:20260423T061934
CREATED:20250729T125536Z
LAST-MODIFIED:20250909T145939Z
UID:56236-1758191400-1758195000@www.salemhome.ca
SUMMARY:Communion Reinland Mennonite Church
DESCRIPTION:
URL:https://www.salemhome.ca/event/chapel-754/
CATEGORIES:Evergreen
END:VEVENT
END:VCALENDAR