BEGIN:VCALENDAR
VERSION:2.0
PRODID:-//Salem Home - ECPv6.15.20//NONSGML v1.0//EN
CALSCALE:GREGORIAN
METHOD:PUBLISH
X-ORIGINAL-URL:https://www.salemhome.ca
X-WR-CALDESC:Events for Salem Home
REFRESH-INTERVAL;VALUE=DURATION:PT1H
X-Robots-Tag:noindex
X-PUBLISHED-TTL:PT1H
BEGIN:VTIMEZONE
TZID:America/Winnipeg
BEGIN:DAYLIGHT
TZOFFSETFROM:-0600
TZOFFSETTO:-0500
TZNAME:CDT
DTSTART:20230312T080000
END:DAYLIGHT
BEGIN:STANDARD
TZOFFSETFROM:-0500
TZOFFSETTO:-0600
TZNAME:CST
DTSTART:20231105T070000
END:STANDARD
BEGIN:DAYLIGHT
TZOFFSETFROM:-0600
TZOFFSETTO:-0500
TZNAME:CDT
DTSTART:20240310T080000
END:DAYLIGHT
BEGIN:STANDARD
TZOFFSETFROM:-0500
TZOFFSETTO:-0600
TZNAME:CST
DTSTART:20241103T070000
END:STANDARD
BEGIN:DAYLIGHT
TZOFFSETFROM:-0600
TZOFFSETTO:-0500
TZNAME:CDT
DTSTART:20250309T080000
END:DAYLIGHT
BEGIN:STANDARD
TZOFFSETFROM:-0500
TZOFFSETTO:-0600
TZNAME:CST
DTSTART:20251102T070000
END:STANDARD
END:VTIMEZONE
BEGIN:VEVENT
DTSTART;TZID=America/Winnipeg:20240610T150000
DTEND;TZID=America/Winnipeg:20240610T160000
DTSTAMP:20260423T022839
CREATED:20240529T181519Z
LAST-MODIFIED:20240610T184511Z
UID:40940-1718031600-1718035200@www.salemhome.ca
SUMMARY:Balloon Volleyball
DESCRIPTION:
URL:https://www.salemhome.ca/event/balloon-volleyball-2/
CATEGORIES:Evergreen
END:VEVENT
BEGIN:VEVENT
DTSTART;TZID=America/Winnipeg:20240610T150000
DTEND;TZID=America/Winnipeg:20240610T160000
DTSTAMP:20260423T022839
CREATED:20240529T181519Z
LAST-MODIFIED:20240610T184511Z
UID:40941-1718031600-1718035200@www.salemhome.ca
SUMMARY:Gardening
DESCRIPTION:
URL:https://www.salemhome.ca/event/gardening-7/
CATEGORIES:Evergreen
END:VEVENT
BEGIN:VEVENT
DTSTART;TZID=America/Winnipeg:20240611T100000
DTEND;TZID=America/Winnipeg:20240611T110000
DTSTAMP:20260423T022839
CREATED:20240328T143035Z
LAST-MODIFIED:20240528T181538Z
UID:39204-1718100000-1718103600@www.salemhome.ca
SUMMARY:Men's Coffee Shop
DESCRIPTION:
URL:https://www.salemhome.ca/event/mens-coffee-shop-148/
CATEGORIES:Evergreen
END:VEVENT
BEGIN:VEVENT
DTSTART;TZID=America/Winnipeg:20240611T100000
DTEND;TZID=America/Winnipeg:20240611T110000
DTSTAMP:20260423T022839
CREATED:20240529T181519Z
LAST-MODIFIED:20240610T184511Z
UID:40942-1718100000-1718103600@www.salemhome.ca
SUMMARY:Men's Coffee Shop
DESCRIPTION:
URL:https://www.salemhome.ca/event/mens-coffee-shop-298/
CATEGORIES:Evergreen
END:VEVENT
BEGIN:VEVENT
DTSTART;TZID=America/Winnipeg:20240611T111500
DTEND;TZID=America/Winnipeg:20240611T121500
DTSTAMP:20260423T022839
CREATED:20240529T181520Z
LAST-MODIFIED:20240610T184511Z
UID:40943-1718104500-1718108100@www.salemhome.ca
SUMMARY:Sing With Me
DESCRIPTION:
URL:https://www.salemhome.ca/event/sing-with-me/
CATEGORIES:Evergreen
END:VEVENT
BEGIN:VEVENT
DTSTART;TZID=America/Winnipeg:20240611T150000
DTEND;TZID=America/Winnipeg:20240611T160000
DTSTAMP:20260423T022839
CREATED:20240529T181520Z
LAST-MODIFIED:20240611T184532Z
UID:40944-1718118000-1718121600@www.salemhome.ca
SUMMARY:Snakes & Ladders
DESCRIPTION:
URL:https://www.salemhome.ca/event/snakes-ladders-25/
CATEGORIES:Evergreen
END:VEVENT
BEGIN:VEVENT
DTSTART;TZID=America/Winnipeg:20240611T173000
DTEND;TZID=America/Winnipeg:20240611T183000
DTSTAMP:20260423T022839
CREATED:20240529T181520Z
LAST-MODIFIED:20240611T184532Z
UID:40945-1718127000-1718130600@www.salemhome.ca
SUMMARY:Car Show
DESCRIPTION:
URL:https://www.salemhome.ca/event/car-show-5/
CATEGORIES:Evergreen
END:VEVENT
BEGIN:VEVENT
DTSTART;TZID=America/Winnipeg:20240611T180000
DTEND;TZID=America/Winnipeg:20240611T190000
DTSTAMP:20260423T022839
CREATED:20231208T083024Z
LAST-MODIFIED:20240611T184532Z
UID:34181-1718128800-1718132400@www.salemhome.ca
SUMMARY:Movie Night
DESCRIPTION:
URL:https://www.salemhome.ca/event/movie-night-72/
CATEGORIES:Evergreen
END:VEVENT
BEGIN:VEVENT
DTSTART;TZID=America/Winnipeg:20240612T100000
DTEND;TZID=America/Winnipeg:20240612T110000
DTSTAMP:20260423T022839
CREATED:20240328T143035Z
LAST-MODIFIED:20240528T181538Z
UID:39205-1718186400-1718190000@www.salemhome.ca
SUMMARY:Men's Coffee Shop
DESCRIPTION:
URL:https://www.salemhome.ca/event/mens-coffee-shop-149/
CATEGORIES:Evergreen
END:VEVENT
BEGIN:VEVENT
DTSTART;TZID=America/Winnipeg:20240612T100000
DTEND;TZID=America/Winnipeg:20240612T110000
DTSTAMP:20260423T022839
CREATED:20240529T181520Z
LAST-MODIFIED:20240611T184532Z
UID:40946-1718186400-1718190000@www.salemhome.ca
SUMMARY:John & Irene Plantz
DESCRIPTION:
URL:https://www.salemhome.ca/event/john-irene-plantz-7/
CATEGORIES:Evergreen
END:VEVENT
BEGIN:VEVENT
DTSTART;TZID=America/Winnipeg:20240612T100000
DTEND;TZID=America/Winnipeg:20240612T110000
DTSTAMP:20260423T022839
CREATED:20240529T181520Z
LAST-MODIFIED:20240611T184532Z
UID:40947-1718186400-1718190000@www.salemhome.ca
SUMMARY:Men's Coffee Shop
DESCRIPTION:
URL:https://www.salemhome.ca/event/mens-coffee-shop-299/
CATEGORIES:Evergreen
END:VEVENT
BEGIN:VEVENT
DTSTART;TZID=America/Winnipeg:20240612T144500
DTEND;TZID=America/Winnipeg:20240612T154500
DTSTAMP:20260423T022839
CREATED:20240209T121526Z
LAST-MODIFIED:20240611T184532Z
UID:37189-1718203500-1718207100@www.salemhome.ca
SUMMARY:Men's Group
DESCRIPTION:Located on Maple North. Residents from all care areas are welcome to attend.
URL:https://www.salemhome.ca/event/mens-group-380/
CATEGORIES:Evergreen
END:VEVENT
BEGIN:VEVENT
DTSTART;TZID=America/Winnipeg:20240612T144500
DTEND;TZID=America/Winnipeg:20240612T154500
DTSTAMP:20260423T022839
CREATED:20240529T181520Z
LAST-MODIFIED:20240611T184532Z
UID:40948-1718203500-1718207100@www.salemhome.ca
SUMMARY:Bingo
DESCRIPTION:
URL:https://www.salemhome.ca/event/bingo-497/
CATEGORIES:Evergreen
END:VEVENT
BEGIN:VEVENT
DTSTART;TZID=America/Winnipeg:20240612T150000
DTEND;TZID=America/Winnipeg:20240612T160000
DTSTAMP:20260423T022839
CREATED:20231208T083025Z
LAST-MODIFIED:20240528T181538Z
UID:34182-1718204400-1718208000@www.salemhome.ca
SUMMARY:Bingo
DESCRIPTION:
URL:https://www.salemhome.ca/event/bingo-407/
CATEGORIES:Evergreen
END:VEVENT
BEGIN:VEVENT
DTSTART;TZID=America/Winnipeg:20240613T100000
DTEND;TZID=America/Winnipeg:20240613T110000
DTSTAMP:20260423T022839
CREATED:20240329T143038Z
LAST-MODIFIED:20240528T181538Z
UID:39501-1718272800-1718276400@www.salemhome.ca
SUMMARY:Men's Coffee Shop
DESCRIPTION:
URL:https://www.salemhome.ca/event/mens-coffee-shop-151/
CATEGORIES:Evergreen
END:VEVENT
BEGIN:VEVENT
DTSTART;TZID=America/Winnipeg:20240613T103000
DTEND;TZID=America/Winnipeg:20240613T113000
DTSTAMP:20260423T022839
CREATED:20240529T181521Z
LAST-MODIFIED:20240611T184533Z
UID:40949-1718274600-1718278200@www.salemhome.ca
SUMMARY:Chapel: Old Colony Mennonite
DESCRIPTION:
URL:https://www.salemhome.ca/event/chapel-old-colony-mennonite-49/
CATEGORIES:Evergreen
END:VEVENT
BEGIN:VEVENT
DTSTART;TZID=America/Winnipeg:20240613T110000
DTEND;TZID=America/Winnipeg:20240613T120000
DTSTAMP:20260423T022839
CREATED:20231209T083023Z
LAST-MODIFIED:20240103T093038Z
UID:34194-1718276400-1718280000@www.salemhome.ca
SUMMARY:Men's Coffee
DESCRIPTION:
URL:https://www.salemhome.ca/event/mens-coffee-36/
CATEGORIES:Evergreen
END:VEVENT
BEGIN:VEVENT
DTSTART;TZID=America/Winnipeg:20240613T110000
DTEND;TZID=America/Winnipeg:20240613T120000
DTSTAMP:20260423T022839
CREATED:20231209T083024Z
LAST-MODIFIED:20240613T164248Z
UID:34195-1718276400-1718280000@www.salemhome.ca
SUMMARY:Spa Day
DESCRIPTION:
URL:https://www.salemhome.ca/event/spa-day-72/
CATEGORIES:Evergreen
END:VEVENT
BEGIN:VEVENT
DTSTART;TZID=America/Winnipeg:20240613T144500
DTEND;TZID=America/Winnipeg:20240613T154500
DTSTAMP:20260423T022839
CREATED:20240529T181521Z
LAST-MODIFIED:20240613T164248Z
UID:40950-1718289900-1718293500@www.salemhome.ca
SUMMARY:Mental Aerobics
DESCRIPTION:
URL:https://www.salemhome.ca/event/mental-aerobics-26/
CATEGORIES:Evergreen
END:VEVENT
BEGIN:VEVENT
DTSTART;TZID=America/Winnipeg:20240614T100000
DTEND;TZID=America/Winnipeg:20240614T110000
DTSTAMP:20260423T022839
CREATED:20240329T143039Z
LAST-MODIFIED:20240528T181538Z
UID:39502-1718359200-1718362800@www.salemhome.ca
SUMMARY:Men's Coffee Shop
DESCRIPTION:
URL:https://www.salemhome.ca/event/mens-coffee-shop-152/
CATEGORIES:Evergreen
END:VEVENT
BEGIN:VEVENT
DTSTART;TZID=America/Winnipeg:20240614T100000
DTEND;TZID=America/Winnipeg:20240614T110000
DTSTAMP:20260423T022839
CREATED:20240529T181521Z
LAST-MODIFIED:20240613T164248Z
UID:40951-1718359200-1718362800@www.salemhome.ca
SUMMARY:Men's Coffee Shop
DESCRIPTION:
URL:https://www.salemhome.ca/event/mens-coffee-shop-300/
CATEGORIES:Evergreen
END:VEVENT
BEGIN:VEVENT
DTSTART;TZID=America/Winnipeg:20240614T101500
DTEND;TZID=America/Winnipeg:20240614T104500
DTSTAMP:20260423T022839
CREATED:20231209T083024Z
LAST-MODIFIED:20240613T164248Z
UID:34196-1718360100-1718361900@www.salemhome.ca
SUMMARY:Chapel
DESCRIPTION:
URL:https://www.salemhome.ca/event/chapel-562/
CATEGORIES:Evergreen
END:VEVENT
BEGIN:VEVENT
DTSTART;TZID=America/Winnipeg:20240614T110000
DTEND;TZID=America/Winnipeg:20240614T120000
DTSTAMP:20260423T022839
CREATED:20231213T083028Z
LAST-MODIFIED:20240614T164619Z
UID:34242-1718362800-1718366400@www.salemhome.ca
SUMMARY:Music by Dave Nickel
DESCRIPTION:
URL:https://www.salemhome.ca/event/music-by-dave-nickel-75/
CATEGORIES:Evergreen
END:VEVENT
BEGIN:VEVENT
DTSTART;TZID=America/Winnipeg:20240614T140000
DTEND;TZID=America/Winnipeg:20240614T150000
DTSTAMP:20260423T022839
CREATED:20240330T143029Z
LAST-MODIFIED:20240614T164619Z
UID:39518-1718373600-1718377200@www.salemhome.ca
SUMMARY:Music Therapy
DESCRIPTION:
URL:https://www.salemhome.ca/event/music-therapy-161/
CATEGORIES:Evergreen
END:VEVENT
BEGIN:VEVENT
DTSTART;TZID=America/Winnipeg:20240614T150000
DTEND;TZID=America/Winnipeg:20240614T160000
DTSTAMP:20260423T022839
CREATED:20231214T084532Z
LAST-MODIFIED:20240327T143040Z
UID:34252-1718377200-1718380800@www.salemhome.ca
SUMMARY:Music Therapy
DESCRIPTION:
URL:https://www.salemhome.ca/event/music-therapy-116/
CATEGORIES:Evergreen
END:VEVENT
BEGIN:VEVENT
DTSTART;TZID=America/Winnipeg:20240614T153000
DTEND;TZID=America/Winnipeg:20240614T163000
DTSTAMP:20260423T022839
CREATED:20240529T181522Z
LAST-MODIFIED:20240614T164619Z
UID:40952-1718379000-1718382600@www.salemhome.ca
SUMMARY:Cam Hartley
DESCRIPTION:
URL:https://www.salemhome.ca/event/cam-hartley-33/
CATEGORIES:Evergreen
END:VEVENT
BEGIN:VEVENT
DTSTART;TZID=America/Winnipeg:20240615T100000
DTEND;TZID=America/Winnipeg:20240615T110000
DTSTAMP:20260423T022839
CREATED:20231215T084623Z
LAST-MODIFIED:20240614T164619Z
UID:34268-1718445600-1718449200@www.salemhome.ca
SUMMARY:Bingo
DESCRIPTION:
URL:https://www.salemhome.ca/event/bingo-408/
CATEGORIES:Evergreen
END:VEVENT
BEGIN:VEVENT
DTSTART;TZID=America/Winnipeg:20240615T150000
DTEND;TZID=America/Winnipeg:20240615T160000
DTSTAMP:20260423T022839
CREATED:20240529T181522Z
LAST-MODIFIED:20240615T164534Z
UID:40953-1718463600-1718467200@www.salemhome.ca
SUMMARY:Sing Along
DESCRIPTION:
URL:https://www.salemhome.ca/event/sing-along-81/
CATEGORIES:Evergreen
END:VEVENT
BEGIN:VEVENT
DTSTART;TZID=America/Winnipeg:20240615T181500
DTEND;TZID=America/Winnipeg:20240615T191500
DTSTAMP:20260423T022839
CREATED:20240212T121528Z
LAST-MODIFIED:20240528T181539Z
UID:37246-1718475300-1718478900@www.salemhome.ca
SUMMARY:The Pilgrims
DESCRIPTION:
URL:https://www.salemhome.ca/event/the-pilgrims-56/
CATEGORIES:Evergreen
END:VEVENT
BEGIN:VEVENT
DTSTART;VALUE=DATE:20240616
DTEND;VALUE=DATE:20240617
DTSTAMP:20260423T022839
CREATED:20240211T121635Z
LAST-MODIFIED:20240616T164516Z
UID:37228-1718496000-1718582399@www.salemhome.ca
SUMMARY:Day of Rest
DESCRIPTION:
URL:https://www.salemhome.ca/event/day-of-rest-107/
CATEGORIES:Evergreen
END:VEVENT
END:VCALENDAR