BEGIN:VCALENDAR
VERSION:2.0
PRODID:-//Salem Home - ECPv6.15.20//NONSGML v1.0//EN
CALSCALE:GREGORIAN
METHOD:PUBLISH
X-ORIGINAL-URL:https://www.salemhome.ca
X-WR-CALDESC:Events for Salem Home
REFRESH-INTERVAL;VALUE=DURATION:PT1H
X-Robots-Tag:noindex
X-PUBLISHED-TTL:PT1H
BEGIN:VTIMEZONE
TZID:America/Winnipeg
BEGIN:DAYLIGHT
TZOFFSETFROM:-0600
TZOFFSETTO:-0500
TZNAME:CDT
DTSTART:20230312T080000
END:DAYLIGHT
BEGIN:STANDARD
TZOFFSETFROM:-0500
TZOFFSETTO:-0600
TZNAME:CST
DTSTART:20231105T070000
END:STANDARD
BEGIN:DAYLIGHT
TZOFFSETFROM:-0600
TZOFFSETTO:-0500
TZNAME:CDT
DTSTART:20240310T080000
END:DAYLIGHT
BEGIN:STANDARD
TZOFFSETFROM:-0500
TZOFFSETTO:-0600
TZNAME:CST
DTSTART:20241103T070000
END:STANDARD
BEGIN:DAYLIGHT
TZOFFSETFROM:-0600
TZOFFSETTO:-0500
TZNAME:CDT
DTSTART:20250309T080000
END:DAYLIGHT
BEGIN:STANDARD
TZOFFSETFROM:-0500
TZOFFSETTO:-0600
TZNAME:CST
DTSTART:20251102T070000
END:STANDARD
END:VTIMEZONE
BEGIN:VEVENT
DTSTART;TZID=America/Winnipeg:20240616T103000
DTEND;TZID=America/Winnipeg:20240616T113000
DTSTAMP:20260423T181929
CREATED:20240529T181522Z
LAST-MODIFIED:20240615T164534Z
UID:40954-1718533800-1718537400@www.salemhome.ca
SUMMARY:Chapel: Old Colony Mennonite
DESCRIPTION:
URL:https://www.salemhome.ca/event/chapel-old-colony-mennonite-50/
CATEGORIES:Evergreen
END:VEVENT
BEGIN:VEVENT
DTSTART;TZID=America/Winnipeg:20240617T100000
DTEND;TZID=America/Winnipeg:20240617T110000
DTSTAMP:20260423T181929
CREATED:20240401T143032Z
LAST-MODIFIED:20240528T181539Z
UID:39541-1718618400-1718622000@www.salemhome.ca
SUMMARY:Men's Coffee Shop
DESCRIPTION:
URL:https://www.salemhome.ca/event/mens-coffee-shop-156/
CATEGORIES:Evergreen
END:VEVENT
BEGIN:VEVENT
DTSTART;TZID=America/Winnipeg:20240617T100000
DTEND;TZID=America/Winnipeg:20240617T110000
DTSTAMP:20260423T181929
CREATED:20240529T181522Z
LAST-MODIFIED:20240616T164516Z
UID:40956-1718618400-1718622000@www.salemhome.ca
SUMMARY:Devotions
DESCRIPTION:
URL:https://www.salemhome.ca/event/devotions-81/
CATEGORIES:Evergreen
END:VEVENT
BEGIN:VEVENT
DTSTART;TZID=America/Winnipeg:20240617T100000
DTEND;TZID=America/Winnipeg:20240617T110000
DTSTAMP:20260423T181929
CREATED:20240529T181522Z
LAST-MODIFIED:20240616T164516Z
UID:40955-1718618400-1718622000@www.salemhome.ca
SUMMARY:Men's Coffee Shop
DESCRIPTION:
URL:https://www.salemhome.ca/event/mens-coffee-shop-301/
CATEGORIES:Evergreen
END:VEVENT
BEGIN:VEVENT
DTSTART;TZID=America/Winnipeg:20240617T144500
DTEND;TZID=America/Winnipeg:20240617T154500
DTSTAMP:20260423T181929
CREATED:20240212T121528Z
LAST-MODIFIED:20240617T164511Z
UID:37247-1718635500-1718639100@www.salemhome.ca
SUMMARY:Men's Group
DESCRIPTION:Located on Evergreen\, residents from all care areas welcome.
URL:https://www.salemhome.ca/event/mens-group-386/
CATEGORIES:Evergreen
END:VEVENT
BEGIN:VEVENT
DTSTART;TZID=America/Winnipeg:20240617T150000
DTEND;TZID=America/Winnipeg:20240617T160000
DTSTAMP:20260423T181929
CREATED:20240529T181523Z
LAST-MODIFIED:20240617T164510Z
UID:40957-1718636400-1718640000@www.salemhome.ca
SUMMARY:Games
DESCRIPTION:
URL:https://www.salemhome.ca/event/games-80/
CATEGORIES:Evergreen
END:VEVENT
BEGIN:VEVENT
DTSTART;TZID=America/Winnipeg:20240617T180000
DTEND;TZID=America/Winnipeg:20240617T190000
DTSTAMP:20260423T181929
CREATED:20240529T181523Z
LAST-MODIFIED:20240617T164511Z
UID:40958-1718647200-1718650800@www.salemhome.ca
SUMMARY:Yolanda Wolfe
DESCRIPTION:
URL:https://www.salemhome.ca/event/yolanda-wolfe-5/
CATEGORIES:Evergreen
END:VEVENT
BEGIN:VEVENT
DTSTART;TZID=America/Winnipeg:20240618T100000
DTEND;TZID=America/Winnipeg:20240618T110000
DTSTAMP:20260423T181929
CREATED:20240403T143029Z
LAST-MODIFIED:20240528T181539Z
UID:39574-1718704800-1718708400@www.salemhome.ca
SUMMARY:Men's Coffee Shop
DESCRIPTION:
URL:https://www.salemhome.ca/event/mens-coffee-shop-159/
CATEGORIES:Evergreen
END:VEVENT
BEGIN:VEVENT
DTSTART;TZID=America/Winnipeg:20240618T100000
DTEND;TZID=America/Winnipeg:20240618T110000
DTSTAMP:20260423T181929
CREATED:20240529T181523Z
LAST-MODIFIED:20240617T164511Z
UID:40960-1718704800-1718708400@www.salemhome.ca
SUMMARY:Men's Coffee Shop
DESCRIPTION:
URL:https://www.salemhome.ca/event/mens-coffee-shop-302/
CATEGORIES:Evergreen
END:VEVENT
BEGIN:VEVENT
DTSTART;TZID=America/Winnipeg:20240618T110000
DTEND;TZID=America/Winnipeg:20240618T120000
DTSTAMP:20260423T181929
CREATED:20240529T181523Z
LAST-MODIFIED:20240618T164511Z
UID:40959-1718708400-1718712000@www.salemhome.ca
SUMMARY:Fathers Day BBQ Lunch
DESCRIPTION:
URL:https://www.salemhome.ca/event/fathers-day-bbq-lunch/
CATEGORIES:Evergreen
END:VEVENT
BEGIN:VEVENT
DTSTART;TZID=America/Winnipeg:20240618T150000
DTEND;TZID=America/Winnipeg:20240618T160000
DTSTAMP:20260423T181929
CREATED:20240529T181523Z
LAST-MODIFIED:20240618T164511Z
UID:40961-1718722800-1718726400@www.salemhome.ca
SUMMARY:Name That Car
DESCRIPTION:
URL:https://www.salemhome.ca/event/name-that-car/
CATEGORIES:Evergreen
END:VEVENT
BEGIN:VEVENT
DTSTART;TZID=America/Winnipeg:20240618T180000
DTEND;TZID=America/Winnipeg:20240618T190000
DTSTAMP:20260423T181929
CREATED:20231215T084623Z
LAST-MODIFIED:20240618T164511Z
UID:34269-1718733600-1718737200@www.salemhome.ca
SUMMARY:Movie Night
DESCRIPTION:
URL:https://www.salemhome.ca/event/movie-night-73/
CATEGORIES:Evergreen
END:VEVENT
BEGIN:VEVENT
DTSTART;TZID=America/Winnipeg:20240619T100000
DTEND;TZID=America/Winnipeg:20240619T110000
DTSTAMP:20260423T181929
CREATED:20240403T143029Z
LAST-MODIFIED:20240528T181539Z
UID:39575-1718791200-1718794800@www.salemhome.ca
SUMMARY:Men's Coffee Shop
DESCRIPTION:
URL:https://www.salemhome.ca/event/mens-coffee-shop-160/
CATEGORIES:Evergreen
END:VEVENT
BEGIN:VEVENT
DTSTART;TZID=America/Winnipeg:20240619T100000
DTEND;TZID=America/Winnipeg:20240619T110000
DTSTAMP:20260423T181929
CREATED:20240529T181524Z
LAST-MODIFIED:20240618T164511Z
UID:40962-1718791200-1718794800@www.salemhome.ca
SUMMARY:Men's Coffee Shop
DESCRIPTION:
URL:https://www.salemhome.ca/event/mens-coffee-shop-303/
CATEGORIES:Evergreen
END:VEVENT
BEGIN:VEVENT
DTSTART;TZID=America/Winnipeg:20240619T100000
DTEND;TZID=America/Winnipeg:20240619T110000
DTSTAMP:20260423T181929
CREATED:20240529T181524Z
LAST-MODIFIED:20240618T164511Z
UID:40963-1718791200-1718794800@www.salemhome.ca
SUMMARY:Hymn Sing
DESCRIPTION:
URL:https://www.salemhome.ca/event/hymn-sing-472/
CATEGORIES:Evergreen
END:VEVENT
BEGIN:VEVENT
DTSTART;TZID=America/Winnipeg:20240619T144500
DTEND;TZID=America/Winnipeg:20240619T154500
DTSTAMP:20260423T181929
CREATED:20240213T121528Z
LAST-MODIFIED:20240619T164530Z
UID:37269-1718808300-1718811900@www.salemhome.ca
SUMMARY:Men's Group
DESCRIPTION:Located on Maple North. Residents from all care areas are welcome to attend.
URL:https://www.salemhome.ca/event/mens-group-387/
CATEGORIES:Evergreen
END:VEVENT
BEGIN:VEVENT
DTSTART;TZID=America/Winnipeg:20240619T144500
DTEND;TZID=America/Winnipeg:20240619T154500
DTSTAMP:20260423T181929
CREATED:20240529T181524Z
LAST-MODIFIED:20240619T164530Z
UID:40964-1718808300-1718811900@www.salemhome.ca
SUMMARY:Bingo
DESCRIPTION:
URL:https://www.salemhome.ca/event/bingo-498/
CATEGORIES:Evergreen
END:VEVENT
BEGIN:VEVENT
DTSTART;TZID=America/Winnipeg:20240619T150000
DTEND;TZID=America/Winnipeg:20240619T160000
DTSTAMP:20260423T181929
CREATED:20231216T084545Z
LAST-MODIFIED:20240528T181539Z
UID:34282-1718809200-1718812800@www.salemhome.ca
SUMMARY:Bingo
DESCRIPTION:
URL:https://www.salemhome.ca/event/bingo-409/
CATEGORIES:Evergreen
END:VEVENT
BEGIN:VEVENT
DTSTART;TZID=America/Winnipeg:20240619T180000
DTEND;TZID=America/Winnipeg:20240619T190000
DTSTAMP:20260423T181929
CREATED:20240404T144538Z
LAST-MODIFIED:20240619T164530Z
UID:39592-1718820000-1718823600@www.salemhome.ca
SUMMARY:Henry & Marge Wall
DESCRIPTION:
URL:https://www.salemhome.ca/event/henry-marge-wall-3/
CATEGORIES:Evergreen
END:VEVENT
BEGIN:VEVENT
DTSTART;TZID=America/Winnipeg:20240620T100000
DTEND;TZID=America/Winnipeg:20240620T110000
DTSTAMP:20260423T181929
CREATED:20240404T144539Z
LAST-MODIFIED:20240528T181539Z
UID:39593-1718877600-1718881200@www.salemhome.ca
SUMMARY:Men's Coffee Shop
DESCRIPTION:
URL:https://www.salemhome.ca/event/mens-coffee-shop-164/
CATEGORIES:Evergreen
END:VEVENT
BEGIN:VEVENT
DTSTART;TZID=America/Winnipeg:20240620T103000
DTEND;TZID=America/Winnipeg:20240620T113000
DTSTAMP:20260423T181929
CREATED:20240529T181525Z
LAST-MODIFIED:20240619T164530Z
UID:40965-1718879400-1718883000@www.salemhome.ca
SUMMARY:Chapel: Reinland Mennonite
DESCRIPTION:
URL:https://www.salemhome.ca/event/chapel-reinland-mennonite-64/
CATEGORIES:Evergreen
END:VEVENT
BEGIN:VEVENT
DTSTART;TZID=America/Winnipeg:20240620T110000
DTEND;TZID=America/Winnipeg:20240620T120000
DTSTAMP:20260423T181929
CREATED:20231216T084545Z
LAST-MODIFIED:20240620T164510Z
UID:34283-1718881200-1718884800@www.salemhome.ca
SUMMARY:Spa Day
DESCRIPTION:
URL:https://www.salemhome.ca/event/spa-day-73/
CATEGORIES:Evergreen
END:VEVENT
BEGIN:VEVENT
DTSTART;TZID=America/Winnipeg:20240620T110000
DTEND;TZID=America/Winnipeg:20240620T120000
DTSTAMP:20260423T181929
CREATED:20231216T084546Z
LAST-MODIFIED:20240103T093038Z
UID:34284-1718881200-1718884800@www.salemhome.ca
SUMMARY:Men's Coffee
DESCRIPTION:
URL:https://www.salemhome.ca/event/mens-coffee-37/
CATEGORIES:Evergreen
END:VEVENT
BEGIN:VEVENT
DTSTART;TZID=America/Winnipeg:20240620T144500
DTEND;TZID=America/Winnipeg:20240620T154500
DTSTAMP:20260423T181929
CREATED:20240529T181525Z
LAST-MODIFIED:20240620T164511Z
UID:40966-1718894700-1718898300@www.salemhome.ca
SUMMARY:Fill In The Blank
DESCRIPTION:
URL:https://www.salemhome.ca/event/fill-in-the-blank-49/
CATEGORIES:Evergreen
END:VEVENT
BEGIN:VEVENT
DTSTART;TZID=America/Winnipeg:20240620T160000
DTEND;TZID=America/Winnipeg:20240620T170000
DTSTAMP:20260423T181929
CREATED:20240529T181525Z
LAST-MODIFIED:20240620T164511Z
UID:40967-1718899200-1718902800@www.salemhome.ca
SUMMARY:Joan Van der Linde
DESCRIPTION:
URL:https://www.salemhome.ca/event/joan-van-der-linde-15/
CATEGORIES:Evergreen
END:VEVENT
BEGIN:VEVENT
DTSTART;TZID=America/Winnipeg:20240621T100000
DTEND;TZID=America/Winnipeg:20240621T110000
DTSTAMP:20260423T181929
CREATED:20240405T150033Z
LAST-MODIFIED:20240528T181540Z
UID:39614-1718964000-1718967600@www.salemhome.ca
SUMMARY:Men's Coffee Shop
DESCRIPTION:
URL:https://www.salemhome.ca/event/mens-coffee-shop-168/
CATEGORIES:Evergreen
END:VEVENT
BEGIN:VEVENT
DTSTART;TZID=America/Winnipeg:20240621T100000
DTEND;TZID=America/Winnipeg:20240621T110000
DTSTAMP:20260423T181929
CREATED:20240529T181525Z
LAST-MODIFIED:20240620T164511Z
UID:40968-1718964000-1718967600@www.salemhome.ca
SUMMARY:Men's Coffee Shop
DESCRIPTION:
URL:https://www.salemhome.ca/event/mens-coffee-shop-304/
CATEGORIES:Evergreen
END:VEVENT
BEGIN:VEVENT
DTSTART;TZID=America/Winnipeg:20240621T101500
DTEND;TZID=America/Winnipeg:20240621T104500
DTSTAMP:20260423T181929
CREATED:20231217T084526Z
LAST-MODIFIED:20240620T164511Z
UID:34296-1718964900-1718966700@www.salemhome.ca
SUMMARY:Chapel
DESCRIPTION:
URL:https://www.salemhome.ca/event/chapel-563/
CATEGORIES:Evergreen
END:VEVENT
BEGIN:VEVENT
DTSTART;TZID=America/Winnipeg:20240621T110000
DTEND;TZID=America/Winnipeg:20240621T120000
DTSTAMP:20260423T181929
CREATED:20231220T091530Z
LAST-MODIFIED:20240621T164510Z
UID:34331-1718967600-1718971200@www.salemhome.ca
SUMMARY:Music by Dave Nickel
DESCRIPTION:
URL:https://www.salemhome.ca/event/music-by-dave-nickel-76/
CATEGORIES:Evergreen
END:VEVENT
BEGIN:VEVENT
DTSTART;TZID=America/Winnipeg:20240621T140000
DTEND;TZID=America/Winnipeg:20240621T150000
DTSTAMP:20260423T181929
CREATED:20240405T150034Z
LAST-MODIFIED:20240621T164510Z
UID:39615-1718978400-1718982000@www.salemhome.ca
SUMMARY:Music Therapy
DESCRIPTION:
URL:https://www.salemhome.ca/event/music-therapy-163/
CATEGORIES:Evergreen
END:VEVENT
END:VCALENDAR