BEGIN:VCALENDAR
VERSION:2.0
PRODID:-//Salem Home - ECPv6.15.20//NONSGML v1.0//EN
CALSCALE:GREGORIAN
METHOD:PUBLISH
X-ORIGINAL-URL:https://www.salemhome.ca
X-WR-CALDESC:Events for Salem Home
REFRESH-INTERVAL;VALUE=DURATION:PT1H
X-Robots-Tag:noindex
X-PUBLISHED-TTL:PT1H
BEGIN:VTIMEZONE
TZID:America/Winnipeg
BEGIN:DAYLIGHT
TZOFFSETFROM:-0600
TZOFFSETTO:-0500
TZNAME:CDT
DTSTART:20230312T080000
END:DAYLIGHT
BEGIN:STANDARD
TZOFFSETFROM:-0500
TZOFFSETTO:-0600
TZNAME:CST
DTSTART:20231105T070000
END:STANDARD
BEGIN:DAYLIGHT
TZOFFSETFROM:-0600
TZOFFSETTO:-0500
TZNAME:CDT
DTSTART:20240310T080000
END:DAYLIGHT
BEGIN:STANDARD
TZOFFSETFROM:-0500
TZOFFSETTO:-0600
TZNAME:CST
DTSTART:20241103T070000
END:STANDARD
BEGIN:DAYLIGHT
TZOFFSETFROM:-0600
TZOFFSETTO:-0500
TZNAME:CDT
DTSTART:20250309T080000
END:DAYLIGHT
BEGIN:STANDARD
TZOFFSETFROM:-0500
TZOFFSETTO:-0600
TZNAME:CST
DTSTART:20251102T070000
END:STANDARD
END:VTIMEZONE
BEGIN:VEVENT
DTSTART;TZID=America/Winnipeg:20240620T103000
DTEND;TZID=America/Winnipeg:20240620T113000
DTSTAMP:20260424T145919
CREATED:20240529T181525Z
LAST-MODIFIED:20240619T164530Z
UID:40965-1718879400-1718883000@www.salemhome.ca
SUMMARY:Chapel: Reinland Mennonite
DESCRIPTION:
URL:https://www.salemhome.ca/event/chapel-reinland-mennonite-64/
CATEGORIES:Evergreen
END:VEVENT
BEGIN:VEVENT
DTSTART;TZID=America/Winnipeg:20240620T110000
DTEND;TZID=America/Winnipeg:20240620T120000
DTSTAMP:20260424T145919
CREATED:20231216T084545Z
LAST-MODIFIED:20240620T164510Z
UID:34283-1718881200-1718884800@www.salemhome.ca
SUMMARY:Spa Day
DESCRIPTION:
URL:https://www.salemhome.ca/event/spa-day-73/
CATEGORIES:Evergreen
END:VEVENT
BEGIN:VEVENT
DTSTART;TZID=America/Winnipeg:20240620T110000
DTEND;TZID=America/Winnipeg:20240620T120000
DTSTAMP:20260424T145919
CREATED:20231216T084546Z
LAST-MODIFIED:20240103T093038Z
UID:34284-1718881200-1718884800@www.salemhome.ca
SUMMARY:Men's Coffee
DESCRIPTION:
URL:https://www.salemhome.ca/event/mens-coffee-37/
CATEGORIES:Evergreen
END:VEVENT
BEGIN:VEVENT
DTSTART;TZID=America/Winnipeg:20240620T144500
DTEND;TZID=America/Winnipeg:20240620T154500
DTSTAMP:20260424T145919
CREATED:20240529T181525Z
LAST-MODIFIED:20240620T164511Z
UID:40966-1718894700-1718898300@www.salemhome.ca
SUMMARY:Fill In The Blank
DESCRIPTION:
URL:https://www.salemhome.ca/event/fill-in-the-blank-49/
CATEGORIES:Evergreen
END:VEVENT
BEGIN:VEVENT
DTSTART;TZID=America/Winnipeg:20240620T160000
DTEND;TZID=America/Winnipeg:20240620T170000
DTSTAMP:20260424T145919
CREATED:20240529T181525Z
LAST-MODIFIED:20240620T164511Z
UID:40967-1718899200-1718902800@www.salemhome.ca
SUMMARY:Joan Van der Linde
DESCRIPTION:
URL:https://www.salemhome.ca/event/joan-van-der-linde-15/
CATEGORIES:Evergreen
END:VEVENT
BEGIN:VEVENT
DTSTART;TZID=America/Winnipeg:20240621T100000
DTEND;TZID=America/Winnipeg:20240621T110000
DTSTAMP:20260424T145919
CREATED:20240405T150033Z
LAST-MODIFIED:20240528T181540Z
UID:39614-1718964000-1718967600@www.salemhome.ca
SUMMARY:Men's Coffee Shop
DESCRIPTION:
URL:https://www.salemhome.ca/event/mens-coffee-shop-168/
CATEGORIES:Evergreen
END:VEVENT
BEGIN:VEVENT
DTSTART;TZID=America/Winnipeg:20240621T100000
DTEND;TZID=America/Winnipeg:20240621T110000
DTSTAMP:20260424T145919
CREATED:20240529T181525Z
LAST-MODIFIED:20240620T164511Z
UID:40968-1718964000-1718967600@www.salemhome.ca
SUMMARY:Men's Coffee Shop
DESCRIPTION:
URL:https://www.salemhome.ca/event/mens-coffee-shop-304/
CATEGORIES:Evergreen
END:VEVENT
BEGIN:VEVENT
DTSTART;TZID=America/Winnipeg:20240621T101500
DTEND;TZID=America/Winnipeg:20240621T104500
DTSTAMP:20260424T145919
CREATED:20231217T084526Z
LAST-MODIFIED:20240620T164511Z
UID:34296-1718964900-1718966700@www.salemhome.ca
SUMMARY:Chapel
DESCRIPTION:
URL:https://www.salemhome.ca/event/chapel-563/
CATEGORIES:Evergreen
END:VEVENT
BEGIN:VEVENT
DTSTART;TZID=America/Winnipeg:20240621T110000
DTEND;TZID=America/Winnipeg:20240621T120000
DTSTAMP:20260424T145919
CREATED:20231220T091530Z
LAST-MODIFIED:20240621T164510Z
UID:34331-1718967600-1718971200@www.salemhome.ca
SUMMARY:Music by Dave Nickel
DESCRIPTION:
URL:https://www.salemhome.ca/event/music-by-dave-nickel-76/
CATEGORIES:Evergreen
END:VEVENT
BEGIN:VEVENT
DTSTART;TZID=America/Winnipeg:20240621T140000
DTEND;TZID=America/Winnipeg:20240621T150000
DTSTAMP:20260424T145919
CREATED:20240405T150034Z
LAST-MODIFIED:20240621T164510Z
UID:39615-1718978400-1718982000@www.salemhome.ca
SUMMARY:Music Therapy
DESCRIPTION:
URL:https://www.salemhome.ca/event/music-therapy-163/
CATEGORIES:Evergreen
END:VEVENT
BEGIN:VEVENT
DTSTART;TZID=America/Winnipeg:20240621T150000
DTEND;TZID=America/Winnipeg:20240621T160000
DTSTAMP:20260424T145919
CREATED:20231221T091549Z
LAST-MODIFIED:20240327T143041Z
UID:34344-1718982000-1718985600@www.salemhome.ca
SUMMARY:Music Therapy
DESCRIPTION:
URL:https://www.salemhome.ca/event/music-therapy-117/
CATEGORIES:Evergreen
END:VEVENT
BEGIN:VEVENT
DTSTART;TZID=America/Winnipeg:20240621T150000
DTEND;TZID=America/Winnipeg:20240621T160000
DTSTAMP:20260424T145919
CREATED:20240529T181525Z
LAST-MODIFIED:20240621T164510Z
UID:40969-1718982000-1718985600@www.salemhome.ca
SUMMARY:Patio Music
DESCRIPTION:
URL:https://www.salemhome.ca/event/patio-music/
CATEGORIES:Evergreen
END:VEVENT
BEGIN:VEVENT
DTSTART;TZID=America/Winnipeg:20240622T100000
DTEND;TZID=America/Winnipeg:20240622T110000
DTSTAMP:20260424T145919
CREATED:20240529T181526Z
LAST-MODIFIED:20240621T164510Z
UID:40970-1719050400-1719054000@www.salemhome.ca
SUMMARY:Bingo
DESCRIPTION:
URL:https://www.salemhome.ca/event/bingo-499/
CATEGORIES:Evergreen
END:VEVENT
BEGIN:VEVENT
DTSTART;VALUE=DATE:20240623
DTEND;VALUE=DATE:20240624
DTSTAMP:20260424T145919
CREATED:20240215T123038Z
LAST-MODIFIED:20240623T164533Z
UID:37301-1719100800-1719187199@www.salemhome.ca
SUMMARY:Day of Rest
DESCRIPTION:
URL:https://www.salemhome.ca/event/day-of-rest-111/
CATEGORIES:Evergreen
END:VEVENT
BEGIN:VEVENT
DTSTART;TZID=America/Winnipeg:20240623T094500
DTEND;TZID=America/Winnipeg:20240623T104500
DTSTAMP:20260424T145919
CREATED:20240529T181526Z
LAST-MODIFIED:20240622T164512Z
UID:40971-1719135900-1719139500@www.salemhome.ca
SUMMARY:Chapel: Reinland Mennonite
DESCRIPTION:
URL:https://www.salemhome.ca/event/chapel-reinland-mennonite-65/
CATEGORIES:Evergreen
END:VEVENT
BEGIN:VEVENT
DTSTART;TZID=America/Winnipeg:20240624T100000
DTEND;TZID=America/Winnipeg:20240624T110000
DTSTAMP:20260424T145919
CREATED:20240406T150034Z
LAST-MODIFIED:20240528T181540Z
UID:39632-1719223200-1719226800@www.salemhome.ca
SUMMARY:Men's Coffee Shop
DESCRIPTION:
URL:https://www.salemhome.ca/event/mens-coffee-shop-171/
CATEGORIES:Evergreen
END:VEVENT
BEGIN:VEVENT
DTSTART;TZID=America/Winnipeg:20240624T100000
DTEND;TZID=America/Winnipeg:20240624T110000
DTSTAMP:20260424T145919
CREATED:20240529T181526Z
LAST-MODIFIED:20240623T164534Z
UID:40972-1719223200-1719226800@www.salemhome.ca
SUMMARY:Drumming
DESCRIPTION:
URL:https://www.salemhome.ca/event/drumming-2/
CATEGORIES:Evergreen
END:VEVENT
BEGIN:VEVENT
DTSTART;TZID=America/Winnipeg:20240624T100000
DTEND;TZID=America/Winnipeg:20240624T110000
DTSTAMP:20260424T145919
CREATED:20240529T181526Z
LAST-MODIFIED:20240623T164533Z
UID:40973-1719223200-1719226800@www.salemhome.ca
SUMMARY:Men's Coffee Shop
DESCRIPTION:
URL:https://www.salemhome.ca/event/mens-coffee-shop-305/
CATEGORIES:Evergreen
END:VEVENT
BEGIN:VEVENT
DTSTART;TZID=America/Winnipeg:20240624T144500
DTEND;TZID=America/Winnipeg:20240624T154500
DTSTAMP:20260424T145920
CREATED:20240216T123039Z
LAST-MODIFIED:20240624T164531Z
UID:37338-1719240300-1719243900@www.salemhome.ca
SUMMARY:Men's Group
DESCRIPTION:Located on Evergreen\, residents from all care areas welcome.
URL:https://www.salemhome.ca/event/mens-group-396/
CATEGORIES:Evergreen
END:VEVENT
BEGIN:VEVENT
DTSTART;TZID=America/Winnipeg:20240624T150000
DTEND;TZID=America/Winnipeg:20240624T160000
DTSTAMP:20260424T145920
CREATED:20240529T181526Z
LAST-MODIFIED:20240624T164531Z
UID:40974-1719241200-1719244800@www.salemhome.ca
SUMMARY:Linda Hiebert
DESCRIPTION:
URL:https://www.salemhome.ca/event/linda-hiebert-11/
CATEGORIES:Evergreen
END:VEVENT
BEGIN:VEVENT
DTSTART;TZID=America/Winnipeg:20240625T100000
DTEND;TZID=America/Winnipeg:20240625T110000
DTSTAMP:20260424T145920
CREATED:20240406T150034Z
LAST-MODIFIED:20240528T181540Z
UID:39633-1719309600-1719313200@www.salemhome.ca
SUMMARY:Men's Coffee Shop
DESCRIPTION:
URL:https://www.salemhome.ca/event/mens-coffee-shop-172/
CATEGORIES:Evergreen
END:VEVENT
BEGIN:VEVENT
DTSTART;TZID=America/Winnipeg:20240625T100000
DTEND;TZID=America/Winnipeg:20240625T110000
DTSTAMP:20260424T145920
CREATED:20240529T181527Z
LAST-MODIFIED:20240624T164531Z
UID:40975-1719309600-1719313200@www.salemhome.ca
SUMMARY:Men's Coffee Shop
DESCRIPTION:
URL:https://www.salemhome.ca/event/mens-coffee-shop-306/
CATEGORIES:Evergreen
END:VEVENT
BEGIN:VEVENT
DTSTART;TZID=America/Winnipeg:20240625T150000
DTEND;TZID=America/Winnipeg:20240625T160000
DTSTAMP:20260424T145920
CREATED:20240529T181527Z
LAST-MODIFIED:20240625T164537Z
UID:40976-1719327600-1719331200@www.salemhome.ca
SUMMARY:Hang Man
DESCRIPTION:
URL:https://www.salemhome.ca/event/hang-man-3/
CATEGORIES:Evergreen
END:VEVENT
BEGIN:VEVENT
DTSTART;TZID=America/Winnipeg:20240625T180000
DTEND;TZID=America/Winnipeg:20240625T190000
DTSTAMP:20260424T145920
CREATED:20231222T091635Z
LAST-MODIFIED:20240625T164538Z
UID:34374-1719338400-1719342000@www.salemhome.ca
SUMMARY:Movie Night
DESCRIPTION:
URL:https://www.salemhome.ca/event/movie-night-74/
CATEGORIES:Evergreen
END:VEVENT
BEGIN:VEVENT
DTSTART;TZID=America/Winnipeg:20240625T183000
DTEND;TZID=America/Winnipeg:20240625T193000
DTSTAMP:20260424T145920
CREATED:20240406T150034Z
LAST-MODIFIED:20240625T164538Z
UID:39634-1719340200-1719343800@www.salemhome.ca
SUMMARY:Melanie & Friends
DESCRIPTION:
URL:https://www.salemhome.ca/event/melanie-friends-39/
CATEGORIES:Evergreen
END:VEVENT
BEGIN:VEVENT
DTSTART;TZID=America/Winnipeg:20240626T100000
DTEND;TZID=America/Winnipeg:20240626T110000
DTSTAMP:20260424T145920
CREATED:20240407T151714Z
LAST-MODIFIED:20240528T181540Z
UID:39650-1719396000-1719399600@www.salemhome.ca
SUMMARY:Men's Coffee Shop
DESCRIPTION:
URL:https://www.salemhome.ca/event/mens-coffee-shop-173/
CATEGORIES:Evergreen
END:VEVENT
BEGIN:VEVENT
DTSTART;TZID=America/Winnipeg:20240626T100000
DTEND;TZID=America/Winnipeg:20240626T110000
DTSTAMP:20260424T145920
CREATED:20240529T181527Z
LAST-MODIFIED:20240625T164538Z
UID:40977-1719396000-1719399600@www.salemhome.ca
SUMMARY:Men's Coffee Shop
DESCRIPTION:
URL:https://www.salemhome.ca/event/mens-coffee-shop-307/
CATEGORIES:Evergreen
END:VEVENT
BEGIN:VEVENT
DTSTART;TZID=America/Winnipeg:20240626T100000
DTEND;TZID=America/Winnipeg:20240626T110000
DTSTAMP:20260424T145920
CREATED:20240529T181528Z
LAST-MODIFIED:20240625T164538Z
UID:40978-1719396000-1719399600@www.salemhome.ca
SUMMARY:John & Irene Plantz
DESCRIPTION:
URL:https://www.salemhome.ca/event/john-irene-plantz-8/
CATEGORIES:Evergreen
END:VEVENT
BEGIN:VEVENT
DTSTART;TZID=America/Winnipeg:20240626T144500
DTEND;TZID=America/Winnipeg:20240626T154500
DTSTAMP:20260424T145920
CREATED:20240217T123041Z
LAST-MODIFIED:20240626T164537Z
UID:37376-1719413100-1719416700@www.salemhome.ca
SUMMARY:Men's Group
DESCRIPTION:Located on Maple North. Residents from all care areas are welcome to attend.
URL:https://www.salemhome.ca/event/mens-group-400/
CATEGORIES:Evergreen
END:VEVENT
BEGIN:VEVENT
DTSTART;TZID=America/Winnipeg:20240626T144500
DTEND;TZID=America/Winnipeg:20240626T154500
DTSTAMP:20260424T145920
CREATED:20240529T181528Z
LAST-MODIFIED:20240626T164537Z
UID:40979-1719413100-1719416700@www.salemhome.ca
SUMMARY:Bingo
DESCRIPTION:
URL:https://www.salemhome.ca/event/bingo-500/
CATEGORIES:Evergreen
END:VEVENT
END:VCALENDAR