BEGIN:VCALENDAR
VERSION:2.0
PRODID:-//Salem Home - ECPv6.15.20//NONSGML v1.0//EN
CALSCALE:GREGORIAN
METHOD:PUBLISH
X-ORIGINAL-URL:https://www.salemhome.ca
X-WR-CALDESC:Events for Salem Home
REFRESH-INTERVAL;VALUE=DURATION:PT1H
X-Robots-Tag:noindex
X-PUBLISHED-TTL:PT1H
BEGIN:VTIMEZONE
TZID:America/Winnipeg
BEGIN:DAYLIGHT
TZOFFSETFROM:-0600
TZOFFSETTO:-0500
TZNAME:CDT
DTSTART:20230312T080000
END:DAYLIGHT
BEGIN:STANDARD
TZOFFSETFROM:-0500
TZOFFSETTO:-0600
TZNAME:CST
DTSTART:20231105T070000
END:STANDARD
BEGIN:DAYLIGHT
TZOFFSETFROM:-0600
TZOFFSETTO:-0500
TZNAME:CDT
DTSTART:20240310T080000
END:DAYLIGHT
BEGIN:STANDARD
TZOFFSETFROM:-0500
TZOFFSETTO:-0600
TZNAME:CST
DTSTART:20241103T070000
END:STANDARD
BEGIN:DAYLIGHT
TZOFFSETFROM:-0600
TZOFFSETTO:-0500
TZNAME:CDT
DTSTART:20250309T080000
END:DAYLIGHT
BEGIN:STANDARD
TZOFFSETFROM:-0500
TZOFFSETTO:-0600
TZNAME:CST
DTSTART:20251102T070000
END:STANDARD
END:VTIMEZONE
BEGIN:VEVENT
DTSTART;VALUE=DATE:20240602
DTEND;VALUE=DATE:20240603
DTSTAMP:20260425T054245
CREATED:20240107T074528Z
LAST-MODIFIED:20240602T083012Z
UID:35590-1717286400-1717372799@www.salemhome.ca
SUMMARY:Day of Rest
DESCRIPTION:
URL:https://www.salemhome.ca/event/day-of-rest-76/
CATEGORIES:Maple North
END:VEVENT
BEGIN:VEVENT
DTSTART;TZID=America/Winnipeg:20240602T094500
DTEND;TZID=America/Winnipeg:20240602T104500
DTSTAMP:20260425T054245
CREATED:20240530T081514Z
LAST-MODIFIED:20240602T083012Z
UID:41119-1717321500-1717325100@www.salemhome.ca
SUMMARY:Chapel: Winkler Bergthaler
DESCRIPTION:
URL:https://www.salemhome.ca/event/chapel-winkler-bergthaler-24/
CATEGORIES:Maple North
END:VEVENT
BEGIN:VEVENT
DTSTART;TZID=America/Winnipeg:20240602T180000
DTEND;TZID=America/Winnipeg:20240602T190000
DTSTAMP:20260425T054245
CREATED:20230719T143026Z
LAST-MODIFIED:20240602T083012Z
UID:29131-1717351200-1717354800@www.salemhome.ca
SUMMARY:Church of God in Christ Youth Group
DESCRIPTION:
URL:https://www.salemhome.ca/event/church-of-god-in-christ-youth-group-21/
CATEGORIES:Maple North
END:VEVENT
BEGIN:VEVENT
DTSTART;TZID=America/Winnipeg:20240602T180000
DTEND;TZID=America/Winnipeg:20240602T190000
DTSTAMP:20260425T054245
CREATED:20240107T074528Z
LAST-MODIFIED:20240116T080045Z
UID:35589-1717351200-1717354800@www.salemhome.ca
SUMMARY:Church of God in Christ Youth
DESCRIPTION:
URL:https://www.salemhome.ca/event/church-of-god-in-christ-youth-38/
CATEGORIES:Maple North
END:VEVENT
BEGIN:VEVENT
DTSTART;TZID=America/Winnipeg:20240603T100000
DTEND;TZID=America/Winnipeg:20240603T110000
DTSTAMP:20260425T054245
CREATED:20230719T143026Z
LAST-MODIFIED:20230731T150122Z
UID:29132-1717408800-1717412400@www.salemhome.ca
SUMMARY:Men's Group with Kris (Oma's Kitchen)
DESCRIPTION:
URL:https://www.salemhome.ca/event/mens-group-with-kris-omas-kitchen-209/
CATEGORIES:Maple North
END:VEVENT
BEGIN:VEVENT
DTSTART;TZID=America/Winnipeg:20240603T100000
DTEND;TZID=America/Winnipeg:20240603T110000
DTSTAMP:20260425T054245
CREATED:20240328T053025Z
LAST-MODIFIED:20240603T083015Z
UID:38782-1717408800-1717412400@www.salemhome.ca
SUMMARY:Men's Coffee
DESCRIPTION:
URL:https://www.salemhome.ca/event/mens-coffee-75/
CATEGORIES:Maple North
END:VEVENT
BEGIN:VEVENT
DTSTART;TZID=America/Winnipeg:20240603T100000
DTEND;TZID=America/Winnipeg:20240603T110000
DTSTAMP:20260425T054245
CREATED:20240530T081515Z
LAST-MODIFIED:20240603T083015Z
UID:41120-1717408800-1717412400@www.salemhome.ca
SUMMARY:Alzheimer's Walk
DESCRIPTION:
URL:https://www.salemhome.ca/event/alzheimers-walk-3/
CATEGORIES:Maple North
END:VEVENT
BEGIN:VEVENT
DTSTART;TZID=America/Winnipeg:20240603T143000
DTEND;TZID=America/Winnipeg:20240603T153000
DTSTAMP:20260425T054245
CREATED:20240114T080030Z
LAST-MODIFIED:20240123T084541Z
UID:36099-1717425000-1717428600@www.salemhome.ca
SUMMARY:Men's Group
DESCRIPTION:Located on Evergreen\, residents from all care areas welcome.
URL:https://www.salemhome.ca/event/mens-group-183/
CATEGORIES:Maple North
END:VEVENT
BEGIN:VEVENT
DTSTART;TZID=America/Winnipeg:20240603T144500
DTEND;TZID=America/Winnipeg:20240603T154500
DTSTAMP:20260425T054245
CREATED:20240124T084603Z
LAST-MODIFIED:20240603T083015Z
UID:36421-1717425900-1717429500@www.salemhome.ca
SUMMARY:Men's Group
DESCRIPTION:Located on Evergreen\, residents from all care areas welcome.
URL:https://www.salemhome.ca/event/mens-group-243/
CATEGORIES:Maple North
END:VEVENT
BEGIN:VEVENT
DTSTART;TZID=America/Winnipeg:20240603T150000
DTEND;TZID=America/Winnipeg:20240603T160000
DTSTAMP:20260425T054245
CREATED:20240530T081515Z
LAST-MODIFIED:20240603T083015Z
UID:41121-1717426800-1717430400@www.salemhome.ca
SUMMARY:Patio Hymn Sing
DESCRIPTION:
URL:https://www.salemhome.ca/event/patio-hymn-sing/
CATEGORIES:Maple North
END:VEVENT
BEGIN:VEVENT
DTSTART;TZID=America/Winnipeg:20240603T184500
DTEND;TZID=America/Winnipeg:20240603T194500
DTSTAMP:20260425T054245
CREATED:20240530T081515Z
LAST-MODIFIED:20240603T083015Z
UID:41122-1717440300-1717443900@www.salemhome.ca
SUMMARY:K & Friends
DESCRIPTION:
URL:https://www.salemhome.ca/event/k-friends-22/
CATEGORIES:Maple North
END:VEVENT
BEGIN:VEVENT
DTSTART;TZID=America/Winnipeg:20240604T100000
DTEND;TZID=America/Winnipeg:20240604T103000
DTSTAMP:20260425T054245
CREATED:20230205T032651Z
LAST-MODIFIED:20230205T032651Z
UID:23326-1717495200-1717497000@www.salemhome.ca
SUMMARY:Chapel
DESCRIPTION:
URL:https://www.salemhome.ca/event/chapel-257/
CATEGORIES:Maple North
END:VEVENT
BEGIN:VEVENT
DTSTART;TZID=America/Winnipeg:20240604T100000
DTEND;TZID=America/Winnipeg:20240604T103000
DTSTAMP:20260425T054245
CREATED:20230720T143025Z
LAST-MODIFIED:20240604T083033Z
UID:29158-1717495200-1717497000@www.salemhome.ca
SUMMARY:Chapel
DESCRIPTION:
URL:https://www.salemhome.ca/event/chapel-448/
CATEGORIES:Maple North
END:VEVENT
BEGIN:VEVENT
DTSTART;TZID=America/Winnipeg:20240604T100000
DTEND;TZID=America/Winnipeg:20240604T110000
DTSTAMP:20260425T054245
CREATED:20240328T053026Z
LAST-MODIFIED:20240604T083033Z
UID:38783-1717495200-1717498800@www.salemhome.ca
SUMMARY:Men's Coffee
DESCRIPTION:
URL:https://www.salemhome.ca/event/mens-coffee-76/
CATEGORIES:Maple North
END:VEVENT
BEGIN:VEVENT
DTSTART;TZID=America/Winnipeg:20240604T103000
DTEND;TZID=America/Winnipeg:20240604T113000
DTSTAMP:20260425T054245
CREATED:20230205T032651Z
LAST-MODIFIED:20230205T032651Z
UID:23327-1717497000-1717500600@www.salemhome.ca
SUMMARY:One on One Visits
DESCRIPTION:
URL:https://www.salemhome.ca/event/one-on-one-visits-70/
CATEGORIES:Maple North
END:VEVENT
BEGIN:VEVENT
DTSTART;TZID=America/Winnipeg:20240604T150000
DTEND;TZID=America/Winnipeg:20240604T160000
DTSTAMP:20260425T054245
CREATED:20240530T081516Z
LAST-MODIFIED:20240604T083033Z
UID:41123-1717513200-1717516800@www.salemhome.ca
SUMMARY:Bingo
DESCRIPTION:
URL:https://www.salemhome.ca/event/bingo-507/
CATEGORIES:Maple North
END:VEVENT
BEGIN:VEVENT
DTSTART;TZID=America/Winnipeg:20240605T100000
DTEND;TZID=America/Winnipeg:20240605T110000
DTSTAMP:20260425T054245
CREATED:20240328T053026Z
LAST-MODIFIED:20240605T083015Z
UID:38784-1717581600-1717585200@www.salemhome.ca
SUMMARY:Men's Coffee
DESCRIPTION:
URL:https://www.salemhome.ca/event/mens-coffee-77/
CATEGORIES:Maple North
END:VEVENT
BEGIN:VEVENT
DTSTART;TZID=America/Winnipeg:20240605T100000
DTEND;TZID=America/Winnipeg:20240605T110000
DTSTAMP:20260425T054245
CREATED:20240530T081516Z
LAST-MODIFIED:20240605T083015Z
UID:41124-1717581600-1717585200@www.salemhome.ca
SUMMARY:Devotions
DESCRIPTION:
URL:https://www.salemhome.ca/event/devotions-83/
CATEGORIES:Maple North
END:VEVENT
BEGIN:VEVENT
DTSTART;TZID=America/Winnipeg:20240605T143000
DTEND;TZID=America/Winnipeg:20240605T153000
DTSTAMP:20260425T054245
CREATED:20240114T080030Z
LAST-MODIFIED:20240123T084541Z
UID:36100-1717597800-1717601400@www.salemhome.ca
SUMMARY:Men's Group
DESCRIPTION:Located on Maple North. Residents from all care areas are welcome to attend.
URL:https://www.salemhome.ca/event/mens-group-184/
CATEGORIES:Maple North
END:VEVENT
BEGIN:VEVENT
DTSTART;TZID=America/Winnipeg:20240605T144500
DTEND;TZID=America/Winnipeg:20240605T154500
DTSTAMP:20260425T054245
CREATED:20240124T084603Z
LAST-MODIFIED:20240605T083015Z
UID:36422-1717598700-1717602300@www.salemhome.ca
SUMMARY:Men's Group
DESCRIPTION:Located on Maple North. Residents from all care areas are welcome to attend.
URL:https://www.salemhome.ca/event/mens-group-244/
CATEGORIES:Maple North
END:VEVENT
BEGIN:VEVENT
DTSTART;TZID=America/Winnipeg:20240605T150000
DTEND;TZID=America/Winnipeg:20240605T160000
DTSTAMP:20260425T054245
CREATED:20240530T081516Z
LAST-MODIFIED:20240605T083015Z
UID:41125-1717599600-1717603200@www.salemhome.ca
SUMMARY:Games
DESCRIPTION:
URL:https://www.salemhome.ca/event/games-81/
CATEGORIES:Maple North
END:VEVENT
BEGIN:VEVENT
DTSTART;TZID=America/Winnipeg:20240606T094500
DTEND;TZID=America/Winnipeg:20240606T104500
DTSTAMP:20260425T054245
CREATED:20240530T081517Z
LAST-MODIFIED:20240606T084533Z
UID:41126-1717667100-1717670700@www.salemhome.ca
SUMMARY:Chapel: Zion Mennonite
DESCRIPTION:
URL:https://www.salemhome.ca/event/chapel-zion-mennonite-31/
CATEGORIES:Maple North
END:VEVENT
BEGIN:VEVENT
DTSTART;TZID=America/Winnipeg:20240606T101500
DTEND;TZID=America/Winnipeg:20240606T111500
DTSTAMP:20260425T054245
CREATED:20230720T143026Z
LAST-MODIFIED:20240606T084533Z
UID:29159-1717668900-1717672500@www.salemhome.ca
SUMMARY:Hymn Sing
DESCRIPTION:
URL:https://www.salemhome.ca/event/hymn-sing-352/
CATEGORIES:Maple North
END:VEVENT
BEGIN:VEVENT
DTSTART;TZID=America/Winnipeg:20240606T150000
DTEND;TZID=America/Winnipeg:20240606T160000
DTSTAMP:20260425T054245
CREATED:20240530T081517Z
LAST-MODIFIED:20240606T084533Z
UID:41127-1717686000-1717689600@www.salemhome.ca
SUMMARY:Reminisce
DESCRIPTION:
URL:https://www.salemhome.ca/event/reminisce-7/
CATEGORIES:Maple North
END:VEVENT
BEGIN:VEVENT
DTSTART;VALUE=DATE:20240607
DTEND;VALUE=DATE:20240608
DTSTAMP:20260425T054245
CREATED:20240114T080033Z
LAST-MODIFIED:20240607T084512Z
UID:36101-1717718400-1717804799@www.salemhome.ca
SUMMARY:Independent Leisure
DESCRIPTION:
URL:https://www.salemhome.ca/event/independent-leisure-25/
CATEGORIES:Maple North
END:VEVENT
BEGIN:VEVENT
DTSTART;TZID=America/Winnipeg:20240607T100000
DTEND;TZID=America/Winnipeg:20240607T110000
DTSTAMP:20260425T054245
CREATED:20240328T053026Z
LAST-MODIFIED:20240607T084512Z
UID:38785-1717754400-1717758000@www.salemhome.ca
SUMMARY:Men's Coffee
DESCRIPTION:
URL:https://www.salemhome.ca/event/mens-coffee-78/
CATEGORIES:Maple North
END:VEVENT
BEGIN:VEVENT
DTSTART;TZID=America/Winnipeg:20240608T100000
DTEND;TZID=America/Winnipeg:20240608T110000
DTSTAMP:20260425T054245
CREATED:20230721T144545Z
LAST-MODIFIED:20240608T084511Z
UID:29185-1717840800-1717844400@www.salemhome.ca
SUMMARY:Bingo
DESCRIPTION:
URL:https://www.salemhome.ca/event/bingo-268/
CATEGORIES:Maple North
END:VEVENT
BEGIN:VEVENT
DTSTART;TZID=America/Winnipeg:20240608T184500
DTEND;TZID=America/Winnipeg:20240608T194500
DTSTAMP:20260425T054245
CREATED:20240114T080033Z
LAST-MODIFIED:20240123T084542Z
UID:36104-1717872300-1717875900@www.salemhome.ca
SUMMARY:The Pilgrims
DESCRIPTION:
URL:https://www.salemhome.ca/event/the-pilgrims-32/
CATEGORIES:Maple North
END:VEVENT
BEGIN:VEVENT
DTSTART;VALUE=DATE:20240609
DTEND;VALUE=DATE:20240610
DTSTAMP:20260425T054245
CREATED:20240114T080033Z
LAST-MODIFIED:20240609T084511Z
UID:36103-1717891200-1717977599@www.salemhome.ca
SUMMARY:Day of Rest
DESCRIPTION:
URL:https://www.salemhome.ca/event/day-of-rest-84/
CATEGORIES:Maple North
END:VEVENT
BEGIN:VEVENT
DTSTART;TZID=America/Winnipeg:20240609T094500
DTEND;TZID=America/Winnipeg:20240609T104500
DTSTAMP:20260425T054245
CREATED:20240530T081518Z
LAST-MODIFIED:20240609T084511Z
UID:41128-1717926300-1717929900@www.salemhome.ca
SUMMARY:Chapel: Pathway Community Church
DESCRIPTION:
URL:https://www.salemhome.ca/event/chapel-pathway-community-church-12/
CATEGORIES:Maple North
END:VEVENT
END:VCALENDAR