BEGIN:VCALENDAR
VERSION:2.0
PRODID:-//Salem Home - ECPv6.15.20//NONSGML v1.0//EN
CALSCALE:GREGORIAN
METHOD:PUBLISH
X-WR-CALNAME:Salem Home
X-ORIGINAL-URL:https://www.salemhome.ca
X-WR-CALDESC:Events for Salem Home
REFRESH-INTERVAL;VALUE=DURATION:PT1H
X-Robots-Tag:noindex
X-PUBLISHED-TTL:PT1H
BEGIN:VTIMEZONE
TZID:America/Winnipeg
BEGIN:DAYLIGHT
TZOFFSETFROM:-0600
TZOFFSETTO:-0500
TZNAME:CDT
DTSTART:20230312T080000
END:DAYLIGHT
BEGIN:STANDARD
TZOFFSETFROM:-0500
TZOFFSETTO:-0600
TZNAME:CST
DTSTART:20231105T070000
END:STANDARD
BEGIN:DAYLIGHT
TZOFFSETFROM:-0600
TZOFFSETTO:-0500
TZNAME:CDT
DTSTART:20240310T080000
END:DAYLIGHT
BEGIN:STANDARD
TZOFFSETFROM:-0500
TZOFFSETTO:-0600
TZNAME:CST
DTSTART:20241103T070000
END:STANDARD
BEGIN:DAYLIGHT
TZOFFSETFROM:-0600
TZOFFSETTO:-0500
TZNAME:CDT
DTSTART:20250309T080000
END:DAYLIGHT
BEGIN:STANDARD
TZOFFSETFROM:-0500
TZOFFSETTO:-0600
TZNAME:CST
DTSTART:20251102T070000
END:STANDARD
END:VTIMEZONE
BEGIN:VEVENT
DTSTART;TZID=America/Winnipeg:20240701T100000
DTEND;TZID=America/Winnipeg:20240701T110000
DTSTAMP:20260424T230753
CREATED:20230727T144526Z
LAST-MODIFIED:20230731T150123Z
UID:29357-1719828000-1719831600@www.salemhome.ca
SUMMARY:Men's Group with Kris (Oma's Kitchen)
DESCRIPTION:
URL:https://www.salemhome.ca/event/mens-group-with-kris-omas-kitchen-222/
CATEGORIES:Maple North
END:VEVENT
BEGIN:VEVENT
DTSTART;TZID=America/Winnipeg:20240701T100000
DTEND;TZID=America/Winnipeg:20240701T110000
DTSTAMP:20260424T230753
CREATED:20240328T053033Z
LAST-MODIFIED:20240618T180039Z
UID:38800-1719828000-1719831600@www.salemhome.ca
SUMMARY:Men's Coffee
DESCRIPTION:
URL:https://www.salemhome.ca/event/mens-coffee-91/
CATEGORIES:Maple North
END:VEVENT
BEGIN:VEVENT
DTSTART;TZID=America/Winnipeg:20240701T143000
DTEND;TZID=America/Winnipeg:20240701T153000
DTSTAMP:20260424T230753
CREATED:20240117T080029Z
LAST-MODIFIED:20240123T084543Z
UID:36198-1719844200-1719847800@www.salemhome.ca
SUMMARY:Men's Group
DESCRIPTION:Located on Evergreen\, residents from all care areas welcome.
URL:https://www.salemhome.ca/event/mens-group-196/
CATEGORIES:Maple North
END:VEVENT
BEGIN:VEVENT
DTSTART;TZID=America/Winnipeg:20240701T144500
DTEND;TZID=America/Winnipeg:20240701T154500
DTSTAMP:20260424T230753
CREATED:20240127T084551Z
LAST-MODIFIED:20240618T180039Z
UID:36978-1719845100-1719848700@www.salemhome.ca
SUMMARY:Men's Group
DESCRIPTION:Located on Evergreen\, residents from all care areas welcome.
URL:https://www.salemhome.ca/event/mens-group-346/
CATEGORIES:Maple North
END:VEVENT
BEGIN:VEVENT
DTSTART;TZID=America/Winnipeg:20240702T100000
DTEND;TZID=America/Winnipeg:20240702T103000
DTSTAMP:20260424T230753
CREATED:20230205T032652Z
LAST-MODIFIED:20230205T032652Z
UID:23335-1719914400-1719916200@www.salemhome.ca
SUMMARY:Chapel
DESCRIPTION:
URL:https://www.salemhome.ca/event/chapel-261/
CATEGORIES:Maple North
END:VEVENT
BEGIN:VEVENT
DTSTART;TZID=America/Winnipeg:20240702T100000
DTEND;TZID=America/Winnipeg:20240702T103000
DTSTAMP:20260424T230753
CREATED:20230727T144526Z
LAST-MODIFIED:20240701T183011Z
UID:29358-1719914400-1719916200@www.salemhome.ca
SUMMARY:Chapel
DESCRIPTION:
URL:https://www.salemhome.ca/event/chapel-460/
CATEGORIES:Maple North
END:VEVENT
BEGIN:VEVENT
DTSTART;TZID=America/Winnipeg:20240702T100000
DTEND;TZID=America/Winnipeg:20240702T110000
DTSTAMP:20260424T230753
CREATED:20240328T053033Z
LAST-MODIFIED:20240701T183011Z
UID:38801-1719914400-1719918000@www.salemhome.ca
SUMMARY:Men's Coffee
DESCRIPTION:
URL:https://www.salemhome.ca/event/mens-coffee-92/
CATEGORIES:Maple North
END:VEVENT
BEGIN:VEVENT
DTSTART;TZID=America/Winnipeg:20240702T103000
DTEND;TZID=America/Winnipeg:20240702T113000
DTSTAMP:20260424T230753
CREATED:20230205T032652Z
LAST-MODIFIED:20230205T032652Z
UID:23334-1719916200-1719919800@www.salemhome.ca
SUMMARY:One on One Visits
DESCRIPTION:
URL:https://www.salemhome.ca/event/one-on-one-visits-74/
CATEGORIES:Maple North
END:VEVENT
BEGIN:VEVENT
DTSTART;TZID=America/Winnipeg:20240702T150000
DTEND;TZID=America/Winnipeg:20240702T160000
DTSTAMP:20260424T230753
CREATED:20240628T183010Z
LAST-MODIFIED:20240702T183011Z
UID:42349-1719932400-1719936000@www.salemhome.ca
SUMMARY:Canada Day Party
DESCRIPTION:
URL:https://www.salemhome.ca/event/canada-day-party-6/
CATEGORIES:Maple North
END:VEVENT
BEGIN:VEVENT
DTSTART;TZID=America/Winnipeg:20240703T100000
DTEND;TZID=America/Winnipeg:20240703T110000
DTSTAMP:20260424T230753
CREATED:20240328T053034Z
LAST-MODIFIED:20240702T183011Z
UID:38802-1720000800-1720004400@www.salemhome.ca
SUMMARY:Men's Coffee
DESCRIPTION:
URL:https://www.salemhome.ca/event/mens-coffee-93/
CATEGORIES:Maple North
END:VEVENT
BEGIN:VEVENT
DTSTART;TZID=America/Winnipeg:20240703T100000
DTEND;TZID=America/Winnipeg:20240703T110000
DTSTAMP:20260424T230753
CREATED:20240628T183011Z
LAST-MODIFIED:20240702T183011Z
UID:42350-1720000800-1720004400@www.salemhome.ca
SUMMARY:Walking Wednesday
DESCRIPTION:
URL:https://www.salemhome.ca/event/walking-wednesday/
CATEGORIES:Maple North
END:VEVENT
BEGIN:VEVENT
DTSTART;TZID=America/Winnipeg:20240703T143000
DTEND;TZID=America/Winnipeg:20240703T153000
DTSTAMP:20260424T230753
CREATED:20240117T080030Z
LAST-MODIFIED:20240123T084543Z
UID:36199-1720017000-1720020600@www.salemhome.ca
SUMMARY:Men's Group
DESCRIPTION:Located on Maple North. Residents from all care areas are welcome to attend.
URL:https://www.salemhome.ca/event/mens-group-197/
CATEGORIES:Maple North
END:VEVENT
BEGIN:VEVENT
DTSTART;TZID=America/Winnipeg:20240703T144500
DTEND;TZID=America/Winnipeg:20240703T154500
DTSTAMP:20260424T230753
CREATED:20240129T084530Z
LAST-MODIFIED:20240703T184530Z
UID:37003-1720017900-1720021500@www.salemhome.ca
SUMMARY:Men's Group
DESCRIPTION:Located on Maple North. Residents from all care areas are welcome to attend.
URL:https://www.salemhome.ca/event/mens-group-351/
CATEGORIES:Maple North
END:VEVENT
BEGIN:VEVENT
DTSTART;TZID=America/Winnipeg:20240703T150000
DTEND;TZID=America/Winnipeg:20240703T160000
DTSTAMP:20260424T230753
CREATED:20240628T183011Z
LAST-MODIFIED:20240703T184530Z
UID:42351-1720018800-1720022400@www.salemhome.ca
SUMMARY:Five Clues
DESCRIPTION:
URL:https://www.salemhome.ca/event/five-clues/
CATEGORIES:Maple North
END:VEVENT
BEGIN:VEVENT
DTSTART;TZID=America/Winnipeg:20240704T094500
DTEND;TZID=America/Winnipeg:20240704T104500
DTSTAMP:20260424T230753
CREATED:20240619T180015Z
LAST-MODIFIED:20240703T184530Z
UID:41806-1720086300-1720089900@www.salemhome.ca
SUMMARY:Chapel: Winkler EMMC\, Communion
DESCRIPTION:
URL:https://www.salemhome.ca/event/chapel-winkler-emmc-communion-4/
CATEGORIES:Maple North
END:VEVENT
BEGIN:VEVENT
DTSTART;TZID=America/Winnipeg:20240704T101500
DTEND;TZID=America/Winnipeg:20240704T111500
DTSTAMP:20260424T230753
CREATED:20230728T144537Z
LAST-MODIFIED:20240703T184530Z
UID:29387-1720088100-1720091700@www.salemhome.ca
SUMMARY:Hymn Sing
DESCRIPTION:
URL:https://www.salemhome.ca/event/hymn-sing-363/
CATEGORIES:Maple North
END:VEVENT
BEGIN:VEVENT
DTSTART;TZID=America/Winnipeg:20240704T150000
DTEND;TZID=America/Winnipeg:20240704T160000
DTSTAMP:20260424T230753
CREATED:20240628T183011Z
LAST-MODIFIED:20240704T190111Z
UID:42352-1720105200-1720108800@www.salemhome.ca
SUMMARY:Patio Devotions
DESCRIPTION:
URL:https://www.salemhome.ca/event/patio-devotions/
CATEGORIES:Maple North
END:VEVENT
BEGIN:VEVENT
DTSTART;VALUE=DATE:20240705
DTEND;VALUE=DATE:20240706
DTSTAMP:20260424T230753
CREATED:20240117T080030Z
LAST-MODIFIED:20240705T190053Z
UID:36200-1720137600-1720223999@www.salemhome.ca
SUMMARY:Independent Leisure
DESCRIPTION:
URL:https://www.salemhome.ca/event/independent-leisure-28/
CATEGORIES:Maple North
END:VEVENT
BEGIN:VEVENT
DTSTART;TZID=America/Winnipeg:20240705T100000
DTEND;TZID=America/Winnipeg:20240705T110000
DTSTAMP:20260424T230753
CREATED:20240329T053036Z
LAST-MODIFIED:20240704T190112Z
UID:39311-1720173600-1720177200@www.salemhome.ca
SUMMARY:Men's Coffee
DESCRIPTION:
URL:https://www.salemhome.ca/event/mens-coffee-94/
CATEGORIES:Maple North
END:VEVENT
BEGIN:VEVENT
DTSTART;TZID=America/Winnipeg:20240706T100000
DTEND;TZID=America/Winnipeg:20240706T110000
DTSTAMP:20260424T230753
CREATED:20230728T144537Z
LAST-MODIFIED:20240705T190053Z
UID:29388-1720260000-1720263600@www.salemhome.ca
SUMMARY:Bingo
DESCRIPTION:
URL:https://www.salemhome.ca/event/bingo-278/
CATEGORIES:Maple North
END:VEVENT
BEGIN:VEVENT
DTSTART;VALUE=DATE:20240707
DTEND;VALUE=DATE:20240708
DTSTAMP:20260424T230753
CREATED:20240117T080030Z
LAST-MODIFIED:20240707T191509Z
UID:36201-1720310400-1720396799@www.salemhome.ca
SUMMARY:Day of Rest
DESCRIPTION:
URL:https://www.salemhome.ca/event/day-of-rest-92/
CATEGORIES:Maple North
END:VEVENT
BEGIN:VEVENT
DTSTART;TZID=America/Winnipeg:20240707T094500
DTEND;TZID=America/Winnipeg:20240707T104500
DTSTAMP:20260424T230753
CREATED:20240619T180016Z
LAST-MODIFIED:20240706T190049Z
UID:41807-1720345500-1720349100@www.salemhome.ca
SUMMARY:Chapel: Christian Church of Morden
DESCRIPTION:
URL:https://www.salemhome.ca/event/chapel-christian-church-of-morden-4/
CATEGORIES:Maple North
END:VEVENT
BEGIN:VEVENT
DTSTART;TZID=America/Winnipeg:20240707T180000
DTEND;TZID=America/Winnipeg:20240707T190000
DTSTAMP:20260424T230753
CREATED:20230729T144529Z
LAST-MODIFIED:20240707T191510Z
UID:29411-1720375200-1720378800@www.salemhome.ca
SUMMARY:Church of God in Christ Youth Group
DESCRIPTION:
URL:https://www.salemhome.ca/event/church-of-god-in-christ-youth-group-22/
CATEGORIES:Maple North
END:VEVENT
BEGIN:VEVENT
DTSTART;TZID=America/Winnipeg:20240708T100000
DTEND;TZID=America/Winnipeg:20240708T110000
DTSTAMP:20260424T230753
CREATED:20230729T144529Z
LAST-MODIFIED:20230731T150123Z
UID:29412-1720432800-1720436400@www.salemhome.ca
SUMMARY:Men's Group with Kris (Oma's Kitchen)
DESCRIPTION:
URL:https://www.salemhome.ca/event/mens-group-with-kris-omas-kitchen-225/
CATEGORIES:Maple North
END:VEVENT
BEGIN:VEVENT
DTSTART;TZID=America/Winnipeg:20240708T100000
DTEND;TZID=America/Winnipeg:20240708T110000
DTSTAMP:20260424T230753
CREATED:20240401T054532Z
LAST-MODIFIED:20240707T191510Z
UID:39532-1720432800-1720436400@www.salemhome.ca
SUMMARY:Men's Coffee
DESCRIPTION:
URL:https://www.salemhome.ca/event/mens-coffee-95/
CATEGORIES:Maple North
END:VEVENT
BEGIN:VEVENT
DTSTART;TZID=America/Winnipeg:20240708T100000
DTEND;TZID=America/Winnipeg:20240708T110000
DTSTAMP:20260424T230753
CREATED:20240628T183012Z
LAST-MODIFIED:20240707T191510Z
UID:42353-1720432800-1720436400@www.salemhome.ca
SUMMARY:Bingo
DESCRIPTION:
URL:https://www.salemhome.ca/event/bingo-540/
CATEGORIES:Maple North
END:VEVENT
BEGIN:VEVENT
DTSTART;TZID=America/Winnipeg:20240708T143000
DTEND;TZID=America/Winnipeg:20240708T153000
DTSTAMP:20260424T230753
CREATED:20240117T080030Z
LAST-MODIFIED:20240123T084543Z
UID:36202-1720449000-1720452600@www.salemhome.ca
SUMMARY:Men's Group
DESCRIPTION:Located on Evergreen\, residents from all care areas welcome.
URL:https://www.salemhome.ca/event/mens-group-198/
CATEGORIES:Maple North
END:VEVENT
BEGIN:VEVENT
DTSTART;TZID=America/Winnipeg:20240708T144500
DTEND;TZID=America/Winnipeg:20240708T154500
DTSTAMP:20260424T230753
CREATED:20240202T084532Z
LAST-MODIFIED:20240708T191532Z
UID:37055-1720449900-1720453500@www.salemhome.ca
SUMMARY:Men's Group
DESCRIPTION:Located on Evergreen\, residents from all care areas welcome.
URL:https://www.salemhome.ca/event/mens-group-358/
CATEGORIES:Maple North
END:VEVENT
BEGIN:VEVENT
DTSTART;TZID=America/Winnipeg:20240708T150000
DTEND;TZID=America/Winnipeg:20240708T160000
DTSTAMP:20260424T230753
CREATED:20240628T183012Z
LAST-MODIFIED:20240708T191532Z
UID:42354-1720450800-1720454400@www.salemhome.ca
SUMMARY:Patio Hymn Sing
DESCRIPTION:
URL:https://www.salemhome.ca/event/patio-hymn-sing-4/
CATEGORIES:Maple North
END:VEVENT
BEGIN:VEVENT
DTSTART;TZID=America/Winnipeg:20240709T100000
DTEND;TZID=America/Winnipeg:20240709T103000
DTSTAMP:20260424T230753
CREATED:20230205T032652Z
LAST-MODIFIED:20230205T032652Z
UID:23336-1720519200-1720521000@www.salemhome.ca
SUMMARY:Chapel
DESCRIPTION:
URL:https://www.salemhome.ca/event/chapel-262/
CATEGORIES:Maple North
END:VEVENT
END:VCALENDAR