BEGIN:VCALENDAR
VERSION:2.0
PRODID:-//Salem Home - ECPv6.15.20//NONSGML v1.0//EN
CALSCALE:GREGORIAN
METHOD:PUBLISH
X-ORIGINAL-URL:https://www.salemhome.ca
X-WR-CALDESC:Events for Salem Home
REFRESH-INTERVAL;VALUE=DURATION:PT1H
X-Robots-Tag:noindex
X-PUBLISHED-TTL:PT1H
BEGIN:VTIMEZONE
TZID:America/Winnipeg
BEGIN:DAYLIGHT
TZOFFSETFROM:-0600
TZOFFSETTO:-0500
TZNAME:CDT
DTSTART:20230312T080000
END:DAYLIGHT
BEGIN:STANDARD
TZOFFSETFROM:-0500
TZOFFSETTO:-0600
TZNAME:CST
DTSTART:20231105T070000
END:STANDARD
BEGIN:DAYLIGHT
TZOFFSETFROM:-0600
TZOFFSETTO:-0500
TZNAME:CDT
DTSTART:20240310T080000
END:DAYLIGHT
BEGIN:STANDARD
TZOFFSETFROM:-0500
TZOFFSETTO:-0600
TZNAME:CST
DTSTART:20241103T070000
END:STANDARD
BEGIN:DAYLIGHT
TZOFFSETFROM:-0600
TZOFFSETTO:-0500
TZNAME:CDT
DTSTART:20250309T080000
END:DAYLIGHT
BEGIN:STANDARD
TZOFFSETFROM:-0500
TZOFFSETTO:-0600
TZNAME:CST
DTSTART:20251102T070000
END:STANDARD
END:VTIMEZONE
BEGIN:VEVENT
DTSTART;TZID=America/Winnipeg:20240801T094500
DTEND;TZID=America/Winnipeg:20240801T104500
DTSTAMP:20260421T234446
CREATED:20240718T213017Z
LAST-MODIFIED:20240731T221513Z
UID:42789-1722505500-1722509100@www.salemhome.ca
SUMMARY:Chapel: Zion Mennonite
DESCRIPTION:
URL:https://www.salemhome.ca/event/chapel-zion-mennonite-37/
CATEGORIES:Maple North
END:VEVENT
BEGIN:VEVENT
DTSTART;TZID=America/Winnipeg:20240801T101500
DTEND;TZID=America/Winnipeg:20240801T111500
DTSTAMP:20260421T234446
CREATED:20230804T151524Z
LAST-MODIFIED:20240731T221513Z
UID:29907-1722507300-1722510900@www.salemhome.ca
SUMMARY:Hymn Sing
DESCRIPTION:
URL:https://www.salemhome.ca/event/hymn-sing-378/
CATEGORIES:Maple North
END:VEVENT
BEGIN:VEVENT
DTSTART;TZID=America/Winnipeg:20240801T150000
DTEND;TZID=America/Winnipeg:20240801T160000
DTSTAMP:20260421T234446
CREATED:20240731T221513Z
LAST-MODIFIED:20240731T221513Z
UID:43287-1722524400-1722528000@www.salemhome.ca
SUMMARY:Music Is A Mood Changer
DESCRIPTION:
URL:https://www.salemhome.ca/event/music-is-a-mood-changer/
CATEGORIES:Maple North
END:VEVENT
BEGIN:VEVENT
DTSTART;VALUE=DATE:20240802
DTEND;VALUE=DATE:20240803
DTSTAMP:20260421T234446
CREATED:20240213T091522Z
LAST-MODIFIED:20240802T224514Z
UID:37259-1722556800-1722643199@www.salemhome.ca
SUMMARY:Independent Leisure
DESCRIPTION:
URL:https://www.salemhome.ca/event/independent-leisure-32/
CATEGORIES:Maple North
END:VEVENT
BEGIN:VEVENT
DTSTART;TZID=America/Winnipeg:20240802T100000
DTEND;TZID=America/Winnipeg:20240802T110000
DTSTAMP:20260421T234446
CREATED:20240416T061540Z
LAST-MODIFIED:20240801T223012Z
UID:39796-1722592800-1722596400@www.salemhome.ca
SUMMARY:Men's Coffee
DESCRIPTION:
URL:https://www.salemhome.ca/event/mens-coffee-110/
CATEGORIES:Maple North
END:VEVENT
BEGIN:VEVENT
DTSTART;TZID=America/Winnipeg:20240802T150000
DTEND;TZID=America/Winnipeg:20240802T160000
DTSTAMP:20260421T234446
CREATED:20240718T213017Z
LAST-MODIFIED:20240801T223012Z
UID:42790-1722610800-1722614400@www.salemhome.ca
SUMMARY:The IceCycle
DESCRIPTION:
URL:https://www.salemhome.ca/event/the-icecycle-6/
CATEGORIES:Maple North
END:VEVENT
BEGIN:VEVENT
DTSTART;TZID=America/Winnipeg:20240802T150000
DTEND;TZID=America/Winnipeg:20240802T160000
DTSTAMP:20260421T234446
CREATED:20240731T221514Z
LAST-MODIFIED:20240801T223012Z
UID:43288-1722610800-1722614400@www.salemhome.ca
SUMMARY:Cottonwood Hymn Sing
DESCRIPTION:
URL:https://www.salemhome.ca/event/cottonwood-hymn-sing/
CATEGORIES:Maple North
END:VEVENT
BEGIN:VEVENT
DTSTART;TZID=America/Winnipeg:20240803T100000
DTEND;TZID=America/Winnipeg:20240803T110000
DTSTAMP:20260421T234446
CREATED:20230804T151524Z
LAST-MODIFIED:20240802T224514Z
UID:29908-1722679200-1722682800@www.salemhome.ca
SUMMARY:Bingo
DESCRIPTION:
URL:https://www.salemhome.ca/event/bingo-296/
CATEGORIES:Maple North
END:VEVENT
BEGIN:VEVENT
DTSTART;TZID=America/Winnipeg:20240803T150000
DTEND;TZID=America/Winnipeg:20240803T160000
DTSTAMP:20260421T234446
CREATED:20240731T221514Z
LAST-MODIFIED:20240802T224515Z
UID:43289-1722697200-1722700800@www.salemhome.ca
SUMMARY:The Goularts
DESCRIPTION:
URL:https://www.salemhome.ca/event/the-goularts-4/
CATEGORIES:Maple North
END:VEVENT
BEGIN:VEVENT
DTSTART;VALUE=DATE:20240804
DTEND;VALUE=DATE:20240805
DTSTAMP:20260421T234446
CREATED:20240213T091522Z
LAST-MODIFIED:20240804T231537Z
UID:37260-1722729600-1722815999@www.salemhome.ca
SUMMARY:Day of Rest
DESCRIPTION:
URL:https://www.salemhome.ca/event/day-of-rest-108/
CATEGORIES:Maple North
END:VEVENT
BEGIN:VEVENT
DTSTART;TZID=America/Winnipeg:20240804T094500
DTEND;TZID=America/Winnipeg:20240804T104500
DTSTAMP:20260421T234446
CREATED:20240718T213017Z
LAST-MODIFIED:20240803T230016Z
UID:42791-1722764700-1722768300@www.salemhome.ca
SUMMARY:Chapel: Pathway Community Church
DESCRIPTION:
URL:https://www.salemhome.ca/event/chapel-pathway-community-church-16/
CATEGORIES:Maple North
END:VEVENT
BEGIN:VEVENT
DTSTART;TZID=America/Winnipeg:20240804T180000
DTEND;TZID=America/Winnipeg:20240804T190000
DTSTAMP:20260421T234446
CREATED:20230805T153140Z
LAST-MODIFIED:20240804T231537Z
UID:29937-1722794400-1722798000@www.salemhome.ca
SUMMARY:Church of God in Christ Youth Group
DESCRIPTION:
URL:https://www.salemhome.ca/event/church-of-god-in-christ-youth-group-23/
CATEGORIES:Maple North
END:VEVENT
BEGIN:VEVENT
DTSTART;TZID=America/Winnipeg:20240805T100000
DTEND;TZID=America/Winnipeg:20240805T110000
DTSTAMP:20260421T234446
CREATED:20240417T061534Z
LAST-MODIFIED:20240718T210357Z
UID:39816-1722852000-1722855600@www.salemhome.ca
SUMMARY:Men's Coffee
DESCRIPTION:
URL:https://www.salemhome.ca/event/mens-coffee-111/
CATEGORIES:Maple North
END:VEVENT
BEGIN:VEVENT
DTSTART;TZID=America/Winnipeg:20240805T144500
DTEND;TZID=America/Winnipeg:20240805T154500
DTSTAMP:20260421T234446
CREATED:20240214T091544Z
LAST-MODIFIED:20240718T210357Z
UID:37276-1722869100-1722872700@www.salemhome.ca
SUMMARY:Men's Group
DESCRIPTION:Located on Evergreen\, residents from all care areas welcome.
URL:https://www.salemhome.ca/event/mens-group-388/
CATEGORIES:Maple North
END:VEVENT
BEGIN:VEVENT
DTSTART;TZID=America/Winnipeg:20240806T100000
DTEND;TZID=America/Winnipeg:20240806T103000
DTSTAMP:20260421T234446
CREATED:20230205T032653Z
LAST-MODIFIED:20230205T032653Z
UID:23345-1722938400-1722940200@www.salemhome.ca
SUMMARY:Chapel
DESCRIPTION:
URL:https://www.salemhome.ca/event/chapel-266/
CATEGORIES:Maple North
END:VEVENT
BEGIN:VEVENT
DTSTART;TZID=America/Winnipeg:20240806T100000
DTEND;TZID=America/Winnipeg:20240806T103000
DTSTAMP:20260421T234446
CREATED:20230805T153140Z
LAST-MODIFIED:20240805T231510Z
UID:29938-1722938400-1722940200@www.salemhome.ca
SUMMARY:Chapel
DESCRIPTION:
URL:https://www.salemhome.ca/event/chapel-476/
CATEGORIES:Maple North
END:VEVENT
BEGIN:VEVENT
DTSTART;TZID=America/Winnipeg:20240806T100000
DTEND;TZID=America/Winnipeg:20240806T110000
DTSTAMP:20260421T234446
CREATED:20240418T061539Z
LAST-MODIFIED:20240805T231510Z
UID:39837-1722938400-1722942000@www.salemhome.ca
SUMMARY:Men's Coffee
DESCRIPTION:
URL:https://www.salemhome.ca/event/mens-coffee-112/
CATEGORIES:Maple North
END:VEVENT
BEGIN:VEVENT
DTSTART;TZID=America/Winnipeg:20240806T103000
DTEND;TZID=America/Winnipeg:20240806T113000
DTSTAMP:20260421T234446
CREATED:20230205T032653Z
LAST-MODIFIED:20230205T032653Z
UID:23344-1722940200-1722943800@www.salemhome.ca
SUMMARY:One on One Visits
DESCRIPTION:
URL:https://www.salemhome.ca/event/one-on-one-visits-79/
CATEGORIES:Maple North
END:VEVENT
BEGIN:VEVENT
DTSTART;TZID=America/Winnipeg:20240806T150000
DTEND;TZID=America/Winnipeg:20240806T160000
DTSTAMP:20260421T234446
CREATED:20240731T221514Z
LAST-MODIFIED:20240805T231510Z
UID:43290-1722956400-1722960000@www.salemhome.ca
SUMMARY:Mental Aerobics
DESCRIPTION:
URL:https://www.salemhome.ca/event/mental-aerobics-31/
CATEGORIES:Maple North
END:VEVENT
BEGIN:VEVENT
DTSTART;TZID=America/Winnipeg:20240807T100000
DTEND;TZID=America/Winnipeg:20240807T110000
DTSTAMP:20260421T234446
CREATED:20240418T061539Z
LAST-MODIFIED:20240806T231524Z
UID:39838-1723024800-1723028400@www.salemhome.ca
SUMMARY:Men's Coffee
DESCRIPTION:
URL:https://www.salemhome.ca/event/mens-coffee-113/
CATEGORIES:Maple North
END:VEVENT
BEGIN:VEVENT
DTSTART;TZID=America/Winnipeg:20240807T144500
DTEND;TZID=America/Winnipeg:20240807T154500
DTSTAMP:20260421T234446
CREATED:20240215T093026Z
LAST-MODIFIED:20240806T231524Z
UID:37291-1723041900-1723045500@www.salemhome.ca
SUMMARY:Men's Group
DESCRIPTION:Located on Maple North. Residents from all care areas are welcome to attend.
URL:https://www.salemhome.ca/event/mens-group-391/
CATEGORIES:Maple North
END:VEVENT
BEGIN:VEVENT
DTSTART;TZID=America/Winnipeg:20240807T150000
DTEND;TZID=America/Winnipeg:20240807T160000
DTSTAMP:20260421T234446
CREATED:20240731T221514Z
LAST-MODIFIED:20240806T231524Z
UID:43291-1723042800-1723046400@www.salemhome.ca
SUMMARY:Bike Rides
DESCRIPTION:
URL:https://www.salemhome.ca/event/bike-rides-3/
CATEGORIES:Maple North
END:VEVENT
BEGIN:VEVENT
DTSTART;TZID=America/Winnipeg:20240807T180000
DTEND;TZID=America/Winnipeg:20240807T190000
DTSTAMP:20260421T234446
CREATED:20240731T221515Z
LAST-MODIFIED:20240807T231534Z
UID:43292-1723053600-1723057200@www.salemhome.ca
SUMMARY:Manicures
DESCRIPTION:
URL:https://www.salemhome.ca/event/manicures-29/
CATEGORIES:Maple North
END:VEVENT
BEGIN:VEVENT
DTSTART;TZID=America/Winnipeg:20240807T183000
DTEND;TZID=America/Winnipeg:20240807T193000
DTSTAMP:20260421T234446
CREATED:20240718T213017Z
LAST-MODIFIED:20240807T231533Z
UID:42792-1723055400-1723059000@www.salemhome.ca
SUMMARY:K & Friends
DESCRIPTION:
URL:https://www.salemhome.ca/event/k-friends-26/
CATEGORIES:Maple North
END:VEVENT
BEGIN:VEVENT
DTSTART;TZID=America/Winnipeg:20240808T094500
DTEND;TZID=America/Winnipeg:20240808T104500
DTSTAMP:20260421T234446
CREATED:20240718T213017Z
LAST-MODIFIED:20240807T231534Z
UID:42793-1723110300-1723113900@www.salemhome.ca
SUMMARY:Chapel: Old Colony Mennonite
DESCRIPTION:
URL:https://www.salemhome.ca/event/chapel-old-colony-mennonite-60/
CATEGORIES:Maple North
END:VEVENT
BEGIN:VEVENT
DTSTART;TZID=America/Winnipeg:20240808T101500
DTEND;TZID=America/Winnipeg:20240808T111500
DTSTAMP:20260421T234446
CREATED:20230806T154629Z
LAST-MODIFIED:20240807T231534Z
UID:29952-1723112100-1723115700@www.salemhome.ca
SUMMARY:Hymn Sing
DESCRIPTION:
URL:https://www.salemhome.ca/event/hymn-sing-380/
CATEGORIES:Maple North
END:VEVENT
BEGIN:VEVENT
DTSTART;TZID=America/Winnipeg:20240808T150000
DTEND;TZID=America/Winnipeg:20240808T160000
DTSTAMP:20260421T234446
CREATED:20240731T221515Z
LAST-MODIFIED:20240807T231534Z
UID:43293-1723129200-1723132800@www.salemhome.ca
SUMMARY:Parade Float Decorating
DESCRIPTION:
URL:https://www.salemhome.ca/event/parade-float-decorating-3/
CATEGORIES:Maple North
END:VEVENT
BEGIN:VEVENT
DTSTART;TZID=America/Winnipeg:20240809T100000
DTEND;TZID=America/Winnipeg:20240809T110000
DTSTAMP:20260421T234446
CREATED:20240419T061534Z
LAST-MODIFIED:20240808T231524Z
UID:39863-1723197600-1723201200@www.salemhome.ca
SUMMARY:Men's Coffee
DESCRIPTION:
URL:https://www.salemhome.ca/event/mens-coffee-114/
CATEGORIES:Maple North
END:VEVENT
BEGIN:VEVENT
DTSTART;TZID=America/Winnipeg:20240809T100000
DTEND;TZID=America/Winnipeg:20240809T110000
DTSTAMP:20260421T234446
CREATED:20240731T221515Z
LAST-MODIFIED:20240808T231524Z
UID:43294-1723197600-1723201200@www.salemhome.ca
SUMMARY:Hymn Sing
DESCRIPTION:
URL:https://www.salemhome.ca/event/hymn-sing-478/
CATEGORIES:Maple North
END:VEVENT
BEGIN:VEVENT
DTSTART;TZID=America/Winnipeg:20240809T150000
DTEND;TZID=America/Winnipeg:20240809T160000
DTSTAMP:20260421T234446
CREATED:20240718T213018Z
LAST-MODIFIED:20240808T231524Z
UID:42794-1723215600-1723219200@www.salemhome.ca
SUMMARY:Solitary Man
DESCRIPTION:
URL:https://www.salemhome.ca/event/solitary-man-3/
CATEGORIES:Maple North
END:VEVENT
END:VCALENDAR