BEGIN:VCALENDAR
VERSION:2.0
PRODID:-//Salem Home - ECPv6.15.20//NONSGML v1.0//EN
CALSCALE:GREGORIAN
METHOD:PUBLISH
X-ORIGINAL-URL:https://www.salemhome.ca
X-WR-CALDESC:Events for Salem Home
REFRESH-INTERVAL;VALUE=DURATION:PT1H
X-Robots-Tag:noindex
X-PUBLISHED-TTL:PT1H
BEGIN:VTIMEZONE
TZID:America/Winnipeg
BEGIN:DAYLIGHT
TZOFFSETFROM:-0600
TZOFFSETTO:-0500
TZNAME:CDT
DTSTART:20230312T080000
END:DAYLIGHT
BEGIN:STANDARD
TZOFFSETFROM:-0500
TZOFFSETTO:-0600
TZNAME:CST
DTSTART:20231105T070000
END:STANDARD
BEGIN:DAYLIGHT
TZOFFSETFROM:-0600
TZOFFSETTO:-0500
TZNAME:CDT
DTSTART:20240310T080000
END:DAYLIGHT
BEGIN:STANDARD
TZOFFSETFROM:-0500
TZOFFSETTO:-0600
TZNAME:CST
DTSTART:20241103T070000
END:STANDARD
BEGIN:DAYLIGHT
TZOFFSETFROM:-0600
TZOFFSETTO:-0500
TZNAME:CDT
DTSTART:20250309T080000
END:DAYLIGHT
BEGIN:STANDARD
TZOFFSETFROM:-0500
TZOFFSETTO:-0600
TZNAME:CST
DTSTART:20251102T070000
END:STANDARD
END:VTIMEZONE
BEGIN:VEVENT
DTSTART;VALUE=DATE:20240901
DTEND;VALUE=DATE:20240902
DTSTAMP:20260424T042915
CREATED:20240313T234528Z
LAST-MODIFIED:20240901T043024Z
UID:38380-1725148800-1725235199@www.salemhome.ca
SUMMARY:Day of Rest
DESCRIPTION:
URL:https://www.salemhome.ca/event/day-of-rest-124/
CATEGORIES:Maple North
END:VEVENT
BEGIN:VEVENT
DTSTART;TZID=America/Winnipeg:20240901T180000
DTEND;TZID=America/Winnipeg:20240901T190000
DTSTAMP:20260424T042915
CREATED:20230811T154526Z
LAST-MODIFIED:20240901T043024Z
UID:30077-1725213600-1725217200@www.salemhome.ca
SUMMARY:Church of God in Christ Youth Group
DESCRIPTION:
URL:https://www.salemhome.ca/event/church-of-god-in-christ-youth-group-24/
CATEGORIES:Maple North
END:VEVENT
BEGIN:VEVENT
DTSTART;TZID=America/Winnipeg:20240902T100000
DTEND;TZID=America/Winnipeg:20240902T110000
DTSTAMP:20260424T042915
CREATED:20240516T074535Z
LAST-MODIFIED:20240822T234512Z
UID:40596-1725271200-1725274800@www.salemhome.ca
SUMMARY:Men's Coffee
DESCRIPTION:
URL:https://www.salemhome.ca/event/mens-coffee-127/
CATEGORIES:Maple North
END:VEVENT
BEGIN:VEVENT
DTSTART;TZID=America/Winnipeg:20240902T144500
DTEND;TZID=America/Winnipeg:20240902T154500
DTSTAMP:20260424T042915
CREATED:20240314T234534Z
LAST-MODIFIED:20240822T234512Z
UID:38401-1725288300-1725291900@www.salemhome.ca
SUMMARY:Men's Group
DESCRIPTION:Located on Evergreen\, residents from all care areas welcome.
URL:https://www.salemhome.ca/event/mens-group-422/
CATEGORIES:Maple North
END:VEVENT
BEGIN:VEVENT
DTSTART;TZID=America/Winnipeg:20240903T100000
DTEND;TZID=America/Winnipeg:20240903T103000
DTSTAMP:20260424T042915
CREATED:20230205T032654Z
LAST-MODIFIED:20230205T032654Z
UID:23352-1725357600-1725359400@www.salemhome.ca
SUMMARY:Chapel
DESCRIPTION:
URL:https://www.salemhome.ca/event/chapel-270/
CATEGORIES:Maple North
END:VEVENT
BEGIN:VEVENT
DTSTART;TZID=America/Winnipeg:20240903T100000
DTEND;TZID=America/Winnipeg:20240903T103000
DTSTAMP:20260424T042915
CREATED:20230811T154526Z
LAST-MODIFIED:20240903T044509Z
UID:30078-1725357600-1725359400@www.salemhome.ca
SUMMARY:Chapel
DESCRIPTION:
URL:https://www.salemhome.ca/event/chapel-487/
CATEGORIES:Maple North
END:VEVENT
BEGIN:VEVENT
DTSTART;TZID=America/Winnipeg:20240903T100000
DTEND;TZID=America/Winnipeg:20240903T110000
DTSTAMP:20260424T042915
CREATED:20240517T074530Z
LAST-MODIFIED:20240903T044509Z
UID:40625-1725357600-1725361200@www.salemhome.ca
SUMMARY:Men's Coffee
DESCRIPTION:
URL:https://www.salemhome.ca/event/mens-coffee-128/
CATEGORIES:Maple North
END:VEVENT
BEGIN:VEVENT
DTSTART;TZID=America/Winnipeg:20240903T103000
DTEND;TZID=America/Winnipeg:20240903T113000
DTSTAMP:20260424T042915
CREATED:20230205T032654Z
LAST-MODIFIED:20230205T032654Z
UID:23353-1725359400-1725363000@www.salemhome.ca
SUMMARY:One on One Visits
DESCRIPTION:
URL:https://www.salemhome.ca/event/one-on-one-visits-83/
CATEGORIES:Maple North
END:VEVENT
BEGIN:VEVENT
DTSTART;TZID=America/Winnipeg:20240903T110000
DTEND;TZID=America/Winnipeg:20240903T120000
DTSTAMP:20260424T042915
CREATED:20240823T234514Z
LAST-MODIFIED:20240903T044509Z
UID:43956-1725361200-1725364800@www.salemhome.ca
SUMMARY:Picnic At The Park
DESCRIPTION:
URL:https://www.salemhome.ca/event/picnic-at-the-park/
CATEGORIES:Maple North
END:VEVENT
BEGIN:VEVENT
DTSTART;TZID=America/Winnipeg:20240903T150000
DTEND;TZID=America/Winnipeg:20240903T160000
DTSTAMP:20260424T042915
CREATED:20240823T234515Z
LAST-MODIFIED:20240903T044509Z
UID:43957-1725375600-1725379200@www.salemhome.ca
SUMMARY:Bingo
DESCRIPTION:
URL:https://www.salemhome.ca/event/bingo-576/
CATEGORIES:Maple North
END:VEVENT
BEGIN:VEVENT
DTSTART;TZID=America/Winnipeg:20240904T100000
DTEND;TZID=America/Winnipeg:20240904T110000
DTSTAMP:20260424T042915
CREATED:20240517T074530Z
LAST-MODIFIED:20240904T044511Z
UID:40626-1725444000-1725447600@www.salemhome.ca
SUMMARY:Men's Coffee
DESCRIPTION:
URL:https://www.salemhome.ca/event/mens-coffee-129/
CATEGORIES:Maple North
END:VEVENT
BEGIN:VEVENT
DTSTART;TZID=America/Winnipeg:20240904T144500
DTEND;TZID=America/Winnipeg:20240904T154500
DTSTAMP:20260424T042915
CREATED:20240316T043027Z
LAST-MODIFIED:20240904T044511Z
UID:38433-1725461100-1725464700@www.salemhome.ca
SUMMARY:Men's Group
DESCRIPTION:Located on Maple North. Residents from all care areas are welcome to attend.
URL:https://www.salemhome.ca/event/mens-group-427/
CATEGORIES:Maple North
END:VEVENT
BEGIN:VEVENT
DTSTART;TZID=America/Winnipeg:20240904T150000
DTEND;TZID=America/Winnipeg:20240904T160000
DTSTAMP:20260424T042915
CREATED:20240823T234515Z
LAST-MODIFIED:20240904T044511Z
UID:43958-1725462000-1725465600@www.salemhome.ca
SUMMARY:Patio Time
DESCRIPTION:
URL:https://www.salemhome.ca/event/patio-time-55/
CATEGORIES:Maple North
END:VEVENT
BEGIN:VEVENT
DTSTART;TZID=America/Winnipeg:20240904T180000
DTEND;TZID=America/Winnipeg:20240904T190000
DTSTAMP:20260424T042915
CREATED:20240823T234515Z
LAST-MODIFIED:20240904T044511Z
UID:43960-1725472800-1725476400@www.salemhome.ca
SUMMARY:Manicures
DESCRIPTION:
URL:https://www.salemhome.ca/event/manicures-31/
CATEGORIES:Maple North
END:VEVENT
BEGIN:VEVENT
DTSTART;TZID=America/Winnipeg:20240904T183000
DTEND;TZID=America/Winnipeg:20240904T193000
DTSTAMP:20260424T042915
CREATED:20240823T234515Z
LAST-MODIFIED:20240904T044512Z
UID:43959-1725474600-1725478200@www.salemhome.ca
SUMMARY:K & Friends
DESCRIPTION:
URL:https://www.salemhome.ca/event/k-friends-29/
CATEGORIES:Maple North
END:VEVENT
BEGIN:VEVENT
DTSTART;TZID=America/Winnipeg:20240905T094500
DTEND;TZID=America/Winnipeg:20240905T104500
DTSTAMP:20260424T042915
CREATED:20240823T234515Z
LAST-MODIFIED:20240905T044513Z
UID:43961-1725529500-1725533100@www.salemhome.ca
SUMMARY:Chapel: Sommerfeld Mennonite
DESCRIPTION:
URL:https://www.salemhome.ca/event/chapel-sommerfeld-mennonite-43/
CATEGORIES:Maple North
END:VEVENT
BEGIN:VEVENT
DTSTART;TZID=America/Winnipeg:20240905T101500
DTEND;TZID=America/Winnipeg:20240905T111500
DTSTAMP:20260424T042915
CREATED:20230812T154555Z
LAST-MODIFIED:20240905T044513Z
UID:30109-1725531300-1725534900@www.salemhome.ca
SUMMARY:Hymn Sing
DESCRIPTION:
URL:https://www.salemhome.ca/event/hymn-sing-391/
CATEGORIES:Maple North
END:VEVENT
BEGIN:VEVENT
DTSTART;TZID=America/Winnipeg:20240905T150000
DTEND;TZID=America/Winnipeg:20240905T160000
DTSTAMP:20260424T042915
CREATED:20240823T234515Z
LAST-MODIFIED:20240905T044513Z
UID:43962-1725548400-1725552000@www.salemhome.ca
SUMMARY:What's In My Backpack?
DESCRIPTION:
URL:https://www.salemhome.ca/event/whats-in-my-backpack/
CATEGORIES:Maple North
END:VEVENT
BEGIN:VEVENT
DTSTART;TZID=America/Winnipeg:20240906T100000
DTEND;TZID=America/Winnipeg:20240906T110000
DTSTAMP:20260424T042915
CREATED:20240518T080036Z
LAST-MODIFIED:20240906T044508Z
UID:40647-1725616800-1725620400@www.salemhome.ca
SUMMARY:Men's Coffee
DESCRIPTION:
URL:https://www.salemhome.ca/event/mens-coffee-130/
CATEGORIES:Maple North
END:VEVENT
BEGIN:VEVENT
DTSTART;TZID=America/Winnipeg:20240906T100000
DTEND;TZID=America/Winnipeg:20240906T110000
DTSTAMP:20260424T042915
CREATED:20240823T234515Z
LAST-MODIFIED:20240906T044508Z
UID:43963-1725616800-1725620400@www.salemhome.ca
SUMMARY:Sing Along
DESCRIPTION:
URL:https://www.salemhome.ca/event/sing-along-89/
CATEGORIES:Maple North
END:VEVENT
BEGIN:VEVENT
DTSTART;TZID=America/Winnipeg:20240906T150000
DTEND;TZID=America/Winnipeg:20240906T160000
DTSTAMP:20260424T042915
CREATED:20240823T234515Z
LAST-MODIFIED:20240906T044508Z
UID:43964-1725634800-1725638400@www.salemhome.ca
SUMMARY:Mental Aerobics
DESCRIPTION:
URL:https://www.salemhome.ca/event/mental-aerobics-32/
CATEGORIES:Maple North
END:VEVENT
BEGIN:VEVENT
DTSTART;VALUE=DATE:20240908
DTEND;VALUE=DATE:20240909
DTSTAMP:20260424T042915
CREATED:20240317T044524Z
LAST-MODIFIED:20240908T050015Z
UID:38455-1725753600-1725839999@www.salemhome.ca
SUMMARY:Day of Rest
DESCRIPTION:
URL:https://www.salemhome.ca/event/day-of-rest-129/
CATEGORIES:Maple North
END:VEVENT
BEGIN:VEVENT
DTSTART;TZID=America/Winnipeg:20240908T094500
DTEND;TZID=America/Winnipeg:20240908T104500
DTSTAMP:20260424T042915
CREATED:20240823T234516Z
LAST-MODIFIED:20240908T050015Z
UID:43965-1725788700-1725792300@www.salemhome.ca
SUMMARY:Chapel: Harvest Christian Fellowship
DESCRIPTION:
URL:https://www.salemhome.ca/event/chapel-harvest-christian-fellowship-11/
CATEGORIES:Maple North
END:VEVENT
BEGIN:VEVENT
DTSTART;TZID=America/Winnipeg:20240909T100000
DTEND;TZID=America/Winnipeg:20240909T110000
DTSTAMP:20260424T042915
CREATED:20240519T080035Z
LAST-MODIFIED:20240909T050011Z
UID:40666-1725876000-1725879600@www.salemhome.ca
SUMMARY:Men's Coffee
DESCRIPTION:
URL:https://www.salemhome.ca/event/mens-coffee-131/
CATEGORIES:Maple North
END:VEVENT
BEGIN:VEVENT
DTSTART;TZID=America/Winnipeg:20240909T100000
DTEND;TZID=America/Winnipeg:20240909T110000
DTSTAMP:20260424T042915
CREATED:20240823T234516Z
LAST-MODIFIED:20240909T050011Z
UID:43966-1725876000-1725879600@www.salemhome.ca
SUMMARY:Fill In The Blank
DESCRIPTION:
URL:https://www.salemhome.ca/event/fill-in-the-blank-56/
CATEGORIES:Maple North
END:VEVENT
BEGIN:VEVENT
DTSTART;TZID=America/Winnipeg:20240909T144500
DTEND;TZID=America/Winnipeg:20240909T154500
DTSTAMP:20260424T042915
CREATED:20240317T044524Z
LAST-MODIFIED:20240909T050011Z
UID:38456-1725893100-1725896700@www.salemhome.ca
SUMMARY:Men's Group
DESCRIPTION:Located on Evergreen\, residents from all care areas welcome.
URL:https://www.salemhome.ca/event/mens-group-429/
CATEGORIES:Maple North
END:VEVENT
BEGIN:VEVENT
DTSTART;TZID=America/Winnipeg:20240909T150000
DTEND;TZID=America/Winnipeg:20240909T160000
DTSTAMP:20260424T042915
CREATED:20240823T234516Z
LAST-MODIFIED:20240909T050011Z
UID:43967-1725894000-1725897600@www.salemhome.ca
SUMMARY:Back To School Then & Now
DESCRIPTION:
URL:https://www.salemhome.ca/event/back-to-school-then-now-5/
CATEGORIES:Maple North
END:VEVENT
BEGIN:VEVENT
DTSTART;TZID=America/Winnipeg:20240910T100000
DTEND;TZID=America/Winnipeg:20240910T103000
DTSTAMP:20260424T042915
CREATED:20230205T032654Z
LAST-MODIFIED:20230205T032654Z
UID:23354-1725962400-1725964200@www.salemhome.ca
SUMMARY:Chapel
DESCRIPTION:
URL:https://www.salemhome.ca/event/chapel-271/
CATEGORIES:Maple North
END:VEVENT
BEGIN:VEVENT
DTSTART;TZID=America/Winnipeg:20240910T100000
DTEND;TZID=America/Winnipeg:20240910T103000
DTSTAMP:20260424T042915
CREATED:20230812T154555Z
LAST-MODIFIED:20240910T051527Z
UID:30110-1725962400-1725964200@www.salemhome.ca
SUMMARY:Chapel
DESCRIPTION:
URL:https://www.salemhome.ca/event/chapel-489/
CATEGORIES:Maple North
END:VEVENT
BEGIN:VEVENT
DTSTART;TZID=America/Winnipeg:20240910T100000
DTEND;TZID=America/Winnipeg:20240910T110000
DTSTAMP:20260424T042915
CREATED:20240522T080035Z
LAST-MODIFIED:20240910T051527Z
UID:40719-1725962400-1725966000@www.salemhome.ca
SUMMARY:Men's Coffee
DESCRIPTION:
URL:https://www.salemhome.ca/event/mens-coffee-132/
CATEGORIES:Maple North
END:VEVENT
END:VCALENDAR