BEGIN:VCALENDAR
VERSION:2.0
PRODID:-//Salem Home - ECPv6.15.20//NONSGML v1.0//EN
CALSCALE:GREGORIAN
METHOD:PUBLISH
X-WR-CALNAME:Salem Home
X-ORIGINAL-URL:https://www.salemhome.ca
X-WR-CALDESC:Events for Salem Home
REFRESH-INTERVAL;VALUE=DURATION:PT1H
X-Robots-Tag:noindex
X-PUBLISHED-TTL:PT1H
BEGIN:VTIMEZONE
TZID:America/Winnipeg
BEGIN:DAYLIGHT
TZOFFSETFROM:-0600
TZOFFSETTO:-0500
TZNAME:CDT
DTSTART:20230312T080000
END:DAYLIGHT
BEGIN:STANDARD
TZOFFSETFROM:-0500
TZOFFSETTO:-0600
TZNAME:CST
DTSTART:20231105T070000
END:STANDARD
BEGIN:DAYLIGHT
TZOFFSETFROM:-0600
TZOFFSETTO:-0500
TZNAME:CDT
DTSTART:20240310T080000
END:DAYLIGHT
BEGIN:STANDARD
TZOFFSETFROM:-0500
TZOFFSETTO:-0600
TZNAME:CST
DTSTART:20241103T070000
END:STANDARD
BEGIN:DAYLIGHT
TZOFFSETFROM:-0600
TZOFFSETTO:-0500
TZNAME:CDT
DTSTART:20250309T080000
END:DAYLIGHT
BEGIN:STANDARD
TZOFFSETFROM:-0500
TZOFFSETTO:-0600
TZNAME:CST
DTSTART:20251102T070000
END:STANDARD
END:VTIMEZONE
BEGIN:VEVENT
DTSTART;TZID=America/Winnipeg:20241101T100000
DTEND;TZID=America/Winnipeg:20241101T110000
DTSTAMP:20260424T194010
CREATED:20240720T214528Z
LAST-MODIFIED:20241101T073014Z
UID:42924-1730455200-1730458800@www.salemhome.ca
SUMMARY:Men's Coffee
DESCRIPTION:
URL:https://www.salemhome.ca/event/mens-coffee-162/
CATEGORIES:Maple North
END:VEVENT
BEGIN:VEVENT
DTSTART;TZID=America/Winnipeg:20241101T100000
DTEND;TZID=America/Winnipeg:20241101T110000
DTSTAMP:20260424T194010
CREATED:20241030T073012Z
LAST-MODIFIED:20241101T073014Z
UID:46342-1730455200-1730458800@www.salemhome.ca
SUMMARY:Sing Along
DESCRIPTION:
URL:https://www.salemhome.ca/event/sing-along-120/
CATEGORIES:Maple North
END:VEVENT
BEGIN:VEVENT
DTSTART;TZID=America/Winnipeg:20241101T150000
DTEND;TZID=America/Winnipeg:20241101T160000
DTSTAMP:20260424T194010
CREATED:20241030T073012Z
LAST-MODIFIED:20241101T073014Z
UID:46343-1730473200-1730476800@www.salemhome.ca
SUMMARY:Manicures
DESCRIPTION:
URL:https://www.salemhome.ca/event/manicures-37/
CATEGORIES:Maple North
END:VEVENT
BEGIN:VEVENT
DTSTART;VALUE=DATE:20241103
DTEND;VALUE=DATE:20241104
DTSTAMP:20260424T194010
CREATED:20240721T220026Z
LAST-MODIFIED:20241103T064513Z
UID:42939-1730592000-1730678399@www.salemhome.ca
SUMMARY:Day of Rest
DESCRIPTION:
URL:https://www.salemhome.ca/event/day-of-rest-171/
CATEGORIES:Maple North
END:VEVENT
BEGIN:VEVENT
DTSTART;TZID=America/Winnipeg:20241103T094500
DTEND;TZID=America/Winnipeg:20241103T104500
DTSTAMP:20260424T194010
CREATED:20241030T073012Z
LAST-MODIFIED:20241103T064513Z
UID:46344-1730627100-1730630700@www.salemhome.ca
SUMMARY:Chapel: Old Colony
DESCRIPTION:
URL:https://www.salemhome.ca/event/chapel-old-colony-26/
CATEGORIES:Maple North
END:VEVENT
BEGIN:VEVENT
DTSTART;TZID=America/Winnipeg:20241103T180000
DTEND;TZID=America/Winnipeg:20241103T190000
DTSTAMP:20260424T194010
CREATED:20230823T214540Z
LAST-MODIFIED:20241103T064513Z
UID:30411-1730656800-1730660400@www.salemhome.ca
SUMMARY:Church of God in Christ Youth Group
DESCRIPTION:
URL:https://www.salemhome.ca/event/church-of-god-in-christ-youth-group-26/
CATEGORIES:Maple North
END:VEVENT
BEGIN:VEVENT
DTSTART;TZID=America/Winnipeg:20241104T100000
DTEND;TZID=America/Winnipeg:20241104T110000
DTSTAMP:20260424T194010
CREATED:20240722T220022Z
LAST-MODIFIED:20241104T080016Z
UID:42967-1730714400-1730718000@www.salemhome.ca
SUMMARY:Men's Coffee
DESCRIPTION:
URL:https://www.salemhome.ca/event/mens-coffee-163/
CATEGORIES:Maple North
END:VEVENT
BEGIN:VEVENT
DTSTART;TZID=America/Winnipeg:20241104T100000
DTEND;TZID=America/Winnipeg:20241104T110000
DTSTAMP:20260424T194010
CREATED:20241030T073013Z
LAST-MODIFIED:20241104T080016Z
UID:46345-1730714400-1730718000@www.salemhome.ca
SUMMARY:Baking
DESCRIPTION:
URL:https://www.salemhome.ca/event/baking-120/
CATEGORIES:Maple North
END:VEVENT
BEGIN:VEVENT
DTSTART;TZID=America/Winnipeg:20241104T144500
DTEND;TZID=America/Winnipeg:20241104T154500
DTSTAMP:20260424T194010
CREATED:20240722T220022Z
LAST-MODIFIED:20241104T080016Z
UID:42968-1730731500-1730735100@www.salemhome.ca
SUMMARY:Men's Group
DESCRIPTION:Located on Evergreen\, residents from all care areas welcome.
URL:https://www.salemhome.ca/event/mens-group-515/
CATEGORIES:Maple North
END:VEVENT
BEGIN:VEVENT
DTSTART;TZID=America/Winnipeg:20241104T150000
DTEND;TZID=America/Winnipeg:20241104T160000
DTSTAMP:20260424T194010
CREATED:20241030T073013Z
LAST-MODIFIED:20241104T080016Z
UID:46346-1730732400-1730736000@www.salemhome.ca
SUMMARY:Tea Party
DESCRIPTION:
URL:https://www.salemhome.ca/event/tea-party-7/
CATEGORIES:Maple North
END:VEVENT
BEGIN:VEVENT
DTSTART;TZID=America/Winnipeg:20241105T100000
DTEND;TZID=America/Winnipeg:20241105T103000
DTSTAMP:20260424T194010
CREATED:20230205T032655Z
LAST-MODIFIED:20230205T032655Z
UID:23370-1730800800-1730802600@www.salemhome.ca
SUMMARY:Chapel
DESCRIPTION:
URL:https://www.salemhome.ca/event/chapel-279/
CATEGORIES:Maple North
END:VEVENT
BEGIN:VEVENT
DTSTART;TZID=America/Winnipeg:20241105T100000
DTEND;TZID=America/Winnipeg:20241105T103000
DTSTAMP:20260424T194010
CREATED:20230823T214540Z
LAST-MODIFIED:20241105T080025Z
UID:30412-1730800800-1730802600@www.salemhome.ca
SUMMARY:Chapel
DESCRIPTION:
URL:https://www.salemhome.ca/event/chapel-512/
CATEGORIES:Maple North
END:VEVENT
BEGIN:VEVENT
DTSTART;TZID=America/Winnipeg:20241105T100000
DTEND;TZID=America/Winnipeg:20241105T110000
DTSTAMP:20260424T194010
CREATED:20240722T220023Z
LAST-MODIFIED:20241105T080025Z
UID:42969-1730800800-1730804400@www.salemhome.ca
SUMMARY:Men's Coffee
DESCRIPTION:
URL:https://www.salemhome.ca/event/mens-coffee-164/
CATEGORIES:Maple North
END:VEVENT
BEGIN:VEVENT
DTSTART;TZID=America/Winnipeg:20241105T103000
DTEND;TZID=America/Winnipeg:20241105T113000
DTSTAMP:20260424T194010
CREATED:20230205T032655Z
LAST-MODIFIED:20230205T032655Z
UID:23371-1730802600-1730806200@www.salemhome.ca
SUMMARY:One on One Visits
DESCRIPTION:
URL:https://www.salemhome.ca/event/one-on-one-visits-92/
CATEGORIES:Maple North
END:VEVENT
BEGIN:VEVENT
DTSTART;TZID=America/Winnipeg:20241105T150000
DTEND;TZID=America/Winnipeg:20241105T160000
DTSTAMP:20260424T194010
CREATED:20241030T073013Z
LAST-MODIFIED:20241105T080025Z
UID:46347-1730818800-1730822400@www.salemhome.ca
SUMMARY:Bingo
DESCRIPTION:
URL:https://www.salemhome.ca/event/bingo-644/
CATEGORIES:Maple North
END:VEVENT
BEGIN:VEVENT
DTSTART;TZID=America/Winnipeg:20241106T100000
DTEND;TZID=America/Winnipeg:20241106T110000
DTSTAMP:20260424T194010
CREATED:20240722T220023Z
LAST-MODIFIED:20241106T080026Z
UID:42970-1730887200-1730890800@www.salemhome.ca
SUMMARY:Men's Coffee
DESCRIPTION:
URL:https://www.salemhome.ca/event/mens-coffee-165/
CATEGORIES:Maple North
END:VEVENT
BEGIN:VEVENT
DTSTART;TZID=America/Winnipeg:20241106T143000
DTEND;TZID=America/Winnipeg:20241106T153000
DTSTAMP:20260424T194010
CREATED:20241030T073013Z
LAST-MODIFIED:20241106T080026Z
UID:46348-1730903400-1730907000@www.salemhome.ca
SUMMARY:Visit With Flyers
DESCRIPTION:
URL:https://www.salemhome.ca/event/visit-with-flyers/
CATEGORIES:Maple North
END:VEVENT
BEGIN:VEVENT
DTSTART;TZID=America/Winnipeg:20241106T144500
DTEND;TZID=America/Winnipeg:20241106T154500
DTSTAMP:20260424T194010
CREATED:20240801T223024Z
LAST-MODIFIED:20241106T080026Z
UID:43421-1730904300-1730907900@www.salemhome.ca
SUMMARY:Men's Group
DESCRIPTION:Located on Maple North. Residents from all care areas are welcome to attend.
URL:https://www.salemhome.ca/event/mens-group-527/
CATEGORIES:Maple North
END:VEVENT
BEGIN:VEVENT
DTSTART;TZID=America/Winnipeg:20241106T183000
DTEND;TZID=America/Winnipeg:20241106T193000
DTSTAMP:20260424T194010
CREATED:20241030T073013Z
LAST-MODIFIED:20241106T080026Z
UID:46349-1730917800-1730921400@www.salemhome.ca
SUMMARY:K & Friends
DESCRIPTION:
URL:https://www.salemhome.ca/event/k-friends-41/
CATEGORIES:Maple North
END:VEVENT
BEGIN:VEVENT
DTSTART;TZID=America/Winnipeg:20241107T094500
DTEND;TZID=America/Winnipeg:20241107T104500
DTSTAMP:20260424T194010
CREATED:20241030T073014Z
LAST-MODIFIED:20241107T081510Z
UID:46350-1730972700-1730976300@www.salemhome.ca
SUMMARY:Chapel: Winkler EMMC
DESCRIPTION:
URL:https://www.salemhome.ca/event/chapel-winkler-emmc-38/
CATEGORIES:Maple North
END:VEVENT
BEGIN:VEVENT
DTSTART;TZID=America/Winnipeg:20241107T101500
DTEND;TZID=America/Winnipeg:20241107T111500
DTSTAMP:20260424T194010
CREATED:20230823T214540Z
LAST-MODIFIED:20241107T081510Z
UID:30413-1730974500-1730978100@www.salemhome.ca
SUMMARY:Hymn Sing
DESCRIPTION:
URL:https://www.salemhome.ca/event/hymn-sing-412/
CATEGORIES:Maple North
END:VEVENT
BEGIN:VEVENT
DTSTART;TZID=America/Winnipeg:20241107T150000
DTEND;TZID=America/Winnipeg:20241107T160000
DTSTAMP:20260424T194010
CREATED:20241030T073014Z
LAST-MODIFIED:20241107T081510Z
UID:46351-1730991600-1730995200@www.salemhome.ca
SUMMARY:Heritage Room Games
DESCRIPTION:
URL:https://www.salemhome.ca/event/heritage-room-games/
CATEGORIES:Maple North
END:VEVENT
BEGIN:VEVENT
DTSTART;VALUE=DATE:20241108
DTEND;VALUE=DATE:20241109
DTSTAMP:20260424T194010
CREATED:20240801T223025Z
LAST-MODIFIED:20241108T081513Z
UID:43422-1731024000-1731110399@www.salemhome.ca
SUMMARY:Independent Leisure
DESCRIPTION:
URL:https://www.salemhome.ca/event/independent-leisure-48/
CATEGORIES:Maple North
END:VEVENT
BEGIN:VEVENT
DTSTART;TZID=America/Winnipeg:20241108T100000
DTEND;TZID=America/Winnipeg:20241108T110000
DTSTAMP:20260424T194010
CREATED:20240802T224527Z
LAST-MODIFIED:20241108T081513Z
UID:43432-1731060000-1731063600@www.salemhome.ca
SUMMARY:Men's Coffee
DESCRIPTION:
URL:https://www.salemhome.ca/event/mens-coffee-166/
CATEGORIES:Maple North
END:VEVENT
BEGIN:VEVENT
DTSTART;TZID=America/Winnipeg:20241108T190000
DTEND;TZID=America/Winnipeg:20241108T200000
DTSTAMP:20260424T194010
CREATED:20240802T224527Z
LAST-MODIFIED:20241108T081513Z
UID:43433-1731092400-1731096000@www.salemhome.ca
SUMMARY:Cam Hartley
DESCRIPTION:
URL:https://www.salemhome.ca/event/cam-hartley-40/
CATEGORIES:Maple North
END:VEVENT
BEGIN:VEVENT
DTSTART;TZID=America/Winnipeg:20241109T100000
DTEND;TZID=America/Winnipeg:20241109T110000
DTSTAMP:20260424T194010
CREATED:20230823T214540Z
LAST-MODIFIED:20241109T081513Z
UID:30414-1731146400-1731150000@www.salemhome.ca
SUMMARY:Bingo
DESCRIPTION:
URL:https://www.salemhome.ca/event/bingo-331/
CATEGORIES:Maple North
END:VEVENT
BEGIN:VEVENT
DTSTART;VALUE=DATE:20241110
DTEND;VALUE=DATE:20241111
DTSTAMP:20260424T194010
CREATED:20240803T230028Z
LAST-MODIFIED:20241110T081512Z
UID:43443-1731196800-1731283199@www.salemhome.ca
SUMMARY:Day of Rest
DESCRIPTION:
URL:https://www.salemhome.ca/event/day-of-rest-178/
CATEGORIES:Maple North
END:VEVENT
BEGIN:VEVENT
DTSTART;TZID=America/Winnipeg:20241110T094500
DTEND;TZID=America/Winnipeg:20241110T104500
DTSTAMP:20260424T194010
CREATED:20241030T073015Z
LAST-MODIFIED:20241110T081512Z
UID:46352-1731231900-1731235500@www.salemhome.ca
SUMMARY:Chapel: Christian Church of Morden
DESCRIPTION:
URL:https://www.salemhome.ca/event/chapel-christian-church-of-morden-7/
CATEGORIES:Maple North
END:VEVENT
BEGIN:VEVENT
DTSTART;TZID=America/Winnipeg:20241111T100000
DTEND;TZID=America/Winnipeg:20241111T110000
DTSTAMP:20260424T194010
CREATED:20240803T230029Z
LAST-MODIFIED:20241029T073026Z
UID:43444-1731319200-1731322800@www.salemhome.ca
SUMMARY:Men's Coffee
DESCRIPTION:
URL:https://www.salemhome.ca/event/mens-coffee-167/
CATEGORIES:Maple North
END:VEVENT
BEGIN:VEVENT
DTSTART;TZID=America/Winnipeg:20241111T144500
DTEND;TZID=America/Winnipeg:20241111T154500
DTSTAMP:20260424T194010
CREATED:20240803T230029Z
LAST-MODIFIED:20241029T073026Z
UID:43445-1731336300-1731339900@www.salemhome.ca
SUMMARY:Men's Group
DESCRIPTION:Located on Evergreen\, residents from all care areas welcome.
URL:https://www.salemhome.ca/event/mens-group-528/
CATEGORIES:Maple North
END:VEVENT
END:VCALENDAR