BEGIN:VCALENDAR
VERSION:2.0
PRODID:-//Salem Home - ECPv6.15.20//NONSGML v1.0//EN
CALSCALE:GREGORIAN
METHOD:PUBLISH
X-WR-CALNAME:Salem Home
X-ORIGINAL-URL:https://www.salemhome.ca
X-WR-CALDESC:Events for Salem Home
REFRESH-INTERVAL;VALUE=DURATION:PT1H
X-Robots-Tag:noindex
X-PUBLISHED-TTL:PT1H
BEGIN:VTIMEZONE
TZID:America/Winnipeg
BEGIN:DAYLIGHT
TZOFFSETFROM:-0600
TZOFFSETTO:-0500
TZNAME:CDT
DTSTART:20230312T080000
END:DAYLIGHT
BEGIN:STANDARD
TZOFFSETFROM:-0500
TZOFFSETTO:-0600
TZNAME:CST
DTSTART:20231105T070000
END:STANDARD
BEGIN:DAYLIGHT
TZOFFSETFROM:-0600
TZOFFSETTO:-0500
TZNAME:CDT
DTSTART:20240310T080000
END:DAYLIGHT
BEGIN:STANDARD
TZOFFSETFROM:-0500
TZOFFSETTO:-0600
TZNAME:CST
DTSTART:20241103T070000
END:STANDARD
BEGIN:DAYLIGHT
TZOFFSETFROM:-0600
TZOFFSETTO:-0500
TZNAME:CDT
DTSTART:20250309T080000
END:DAYLIGHT
BEGIN:STANDARD
TZOFFSETFROM:-0500
TZOFFSETTO:-0600
TZNAME:CST
DTSTART:20251102T070000
END:STANDARD
END:VTIMEZONE
BEGIN:VEVENT
DTSTART;TZID=America/Winnipeg:20240503T100000
DTEND;TZID=America/Winnipeg:20240503T110000
DTSTAMP:20260425T152823
CREATED:20240328T053021Z
LAST-MODIFIED:20240503T073011Z
UID:38763-1714730400-1714734000@www.salemhome.ca
SUMMARY:Men's Coffee
DESCRIPTION:
URL:https://www.salemhome.ca/event/mens-coffee-58/
CATEGORIES:Maple North
END:VEVENT
BEGIN:VEVENT
DTSTART;TZID=America/Winnipeg:20240503T100000
DTEND;TZID=America/Winnipeg:20240503T110000
DTSTAMP:20260425T152823
CREATED:20240430T071514Z
LAST-MODIFIED:20240503T073011Z
UID:40134-1714730400-1714734000@www.salemhome.ca
SUMMARY:Cooking With Abe
DESCRIPTION:
URL:https://www.salemhome.ca/event/cooking-with-abe-3/
CATEGORIES:Maple North
END:VEVENT
BEGIN:VEVENT
DTSTART;TZID=America/Winnipeg:20240503T150000
DTEND;TZID=America/Winnipeg:20240503T160000
DTSTAMP:20260425T152823
CREATED:20240430T071514Z
LAST-MODIFIED:20240503T073011Z
UID:40135-1714748400-1714752000@www.salemhome.ca
SUMMARY:Cinco de Mayo Party
DESCRIPTION:
URL:https://www.salemhome.ca/event/cinco-de-mayo-party-2/
CATEGORIES:Maple North
END:VEVENT
END:VCALENDAR