BEGIN:VCALENDAR
VERSION:2.0
PRODID:-//Salem Home - ECPv6.15.20//NONSGML v1.0//EN
CALSCALE:GREGORIAN
METHOD:PUBLISH
X-ORIGINAL-URL:https://www.salemhome.ca
X-WR-CALDESC:Events for Salem Home
REFRESH-INTERVAL;VALUE=DURATION:PT1H
X-Robots-Tag:noindex
X-PUBLISHED-TTL:PT1H
BEGIN:VTIMEZONE
TZID:America/Winnipeg
BEGIN:DAYLIGHT
TZOFFSETFROM:-0600
TZOFFSETTO:-0500
TZNAME:CDT
DTSTART:20230312T080000
END:DAYLIGHT
BEGIN:STANDARD
TZOFFSETFROM:-0500
TZOFFSETTO:-0600
TZNAME:CST
DTSTART:20231105T070000
END:STANDARD
BEGIN:DAYLIGHT
TZOFFSETFROM:-0600
TZOFFSETTO:-0500
TZNAME:CDT
DTSTART:20240310T080000
END:DAYLIGHT
BEGIN:STANDARD
TZOFFSETFROM:-0500
TZOFFSETTO:-0600
TZNAME:CST
DTSTART:20241103T070000
END:STANDARD
BEGIN:DAYLIGHT
TZOFFSETFROM:-0600
TZOFFSETTO:-0500
TZNAME:CDT
DTSTART:20250309T080000
END:DAYLIGHT
BEGIN:STANDARD
TZOFFSETFROM:-0500
TZOFFSETTO:-0600
TZNAME:CST
DTSTART:20251102T070000
END:STANDARD
END:VTIMEZONE
BEGIN:VEVENT
DTSTART;VALUE=DATE:20240510
DTEND;VALUE=DATE:20240511
DTSTAMP:20260425T152934
CREATED:20240104T073030Z
LAST-MODIFIED:20240510T073015Z
UID:34724-1715299200-1715385599@www.salemhome.ca
SUMMARY:Independent Leisure
DESCRIPTION:
URL:https://www.salemhome.ca/event/independent-leisure-11/
CATEGORIES:Maple North
END:VEVENT
BEGIN:VEVENT
DTSTART;TZID=America/Winnipeg:20240510T100000
DTEND;TZID=America/Winnipeg:20240510T110000
DTSTAMP:20260425T152934
CREATED:20240328T053022Z
LAST-MODIFIED:20240510T073015Z
UID:38767-1715335200-1715338800@www.salemhome.ca
SUMMARY:Men's Coffee
DESCRIPTION:
URL:https://www.salemhome.ca/event/mens-coffee-62/
CATEGORIES:Maple North
END:VEVENT
BEGIN:VEVENT
DTSTART;TZID=America/Winnipeg:20240510T130000
DTEND;TZID=America/Winnipeg:20240510T160000
DTSTAMP:20260425T152934
CREATED:20240430T071518Z
LAST-MODIFIED:20240510T073015Z
UID:40146-1715346000-1715356800@www.salemhome.ca
SUMMARY:Clothing Sale
DESCRIPTION:
URL:https://www.salemhome.ca/event/clothing-sale-2/
CATEGORIES:Maple North
END:VEVENT
BEGIN:VEVENT
DTSTART;TZID=America/Winnipeg:20240510T190000
DTEND;TZID=America/Winnipeg:20240510T200000
DTSTAMP:20260425T152934
CREATED:20240104T073030Z
LAST-MODIFIED:20240510T073015Z
UID:34723-1715367600-1715371200@www.salemhome.ca
SUMMARY:Cam Hartley
DESCRIPTION:
URL:https://www.salemhome.ca/event/cam-hartley-11/
CATEGORIES:Maple North
END:VEVENT
END:VCALENDAR