BEGIN:VCALENDAR
VERSION:2.0
PRODID:-//Salem Home - ECPv6.15.20//NONSGML v1.0//EN
CALSCALE:GREGORIAN
METHOD:PUBLISH
X-ORIGINAL-URL:https://www.salemhome.ca
X-WR-CALDESC:Events for Salem Home
REFRESH-INTERVAL;VALUE=DURATION:PT1H
X-Robots-Tag:noindex
X-PUBLISHED-TTL:PT1H
BEGIN:VTIMEZONE
TZID:America/Winnipeg
BEGIN:DAYLIGHT
TZOFFSETFROM:-0600
TZOFFSETTO:-0500
TZNAME:CDT
DTSTART:20230312T080000
END:DAYLIGHT
BEGIN:STANDARD
TZOFFSETFROM:-0500
TZOFFSETTO:-0600
TZNAME:CST
DTSTART:20231105T070000
END:STANDARD
BEGIN:DAYLIGHT
TZOFFSETFROM:-0600
TZOFFSETTO:-0500
TZNAME:CDT
DTSTART:20240310T080000
END:DAYLIGHT
BEGIN:STANDARD
TZOFFSETFROM:-0500
TZOFFSETTO:-0600
TZNAME:CST
DTSTART:20241103T070000
END:STANDARD
BEGIN:DAYLIGHT
TZOFFSETFROM:-0600
TZOFFSETTO:-0500
TZNAME:CDT
DTSTART:20250309T080000
END:DAYLIGHT
BEGIN:STANDARD
TZOFFSETFROM:-0500
TZOFFSETTO:-0600
TZNAME:CST
DTSTART:20251102T070000
END:STANDARD
END:VTIMEZONE
BEGIN:VEVENT
DTSTART;TZID=America/Winnipeg:20240513T100000
DTEND;TZID=America/Winnipeg:20240513T110000
DTSTAMP:20260425T153016
CREATED:20230614T130023Z
LAST-MODIFIED:20230731T150122Z
UID:27229-1715594400-1715598000@www.salemhome.ca
SUMMARY:Men's Group with Kris (Oma's Kitchen)
DESCRIPTION:
URL:https://www.salemhome.ca/event/mens-group-with-kris-omas-kitchen-189/
CATEGORIES:Maple North
END:VEVENT
BEGIN:VEVENT
DTSTART;TZID=America/Winnipeg:20240513T100000
DTEND;TZID=America/Winnipeg:20240513T110000
DTSTAMP:20260425T153016
CREATED:20240328T053022Z
LAST-MODIFIED:20240513T074621Z
UID:38768-1715594400-1715598000@www.salemhome.ca
SUMMARY:Men's Coffee
DESCRIPTION:
URL:https://www.salemhome.ca/event/mens-coffee-63/
CATEGORIES:Maple North
END:VEVENT
BEGIN:VEVENT
DTSTART;TZID=America/Winnipeg:20240513T100000
DTEND;TZID=America/Winnipeg:20240513T110000
DTSTAMP:20260425T153016
CREATED:20240430T071518Z
LAST-MODIFIED:20240513T074621Z
UID:40148-1715594400-1715598000@www.salemhome.ca
SUMMARY:Bingo
DESCRIPTION:
URL:https://www.salemhome.ca/event/bingo-486/
CATEGORIES:Maple North
END:VEVENT
BEGIN:VEVENT
DTSTART;TZID=America/Winnipeg:20240513T143000
DTEND;TZID=America/Winnipeg:20240513T153000
DTSTAMP:20260425T153016
CREATED:20240104T073030Z
LAST-MODIFIED:20240123T084540Z
UID:34728-1715610600-1715614200@www.salemhome.ca
SUMMARY:Men's Group
DESCRIPTION:Located on Evergreen\, residents from all care areas welcome.
URL:https://www.salemhome.ca/event/mens-group-55/
CATEGORIES:Maple North
END:VEVENT
BEGIN:VEVENT
DTSTART;TZID=America/Winnipeg:20240513T144500
DTEND;TZID=America/Winnipeg:20240513T154500
DTSTAMP:20260425T153016
CREATED:20240124T084601Z
LAST-MODIFIED:20240513T074621Z
UID:36414-1715611500-1715615100@www.salemhome.ca
SUMMARY:Men's Group
DESCRIPTION:Located on Evergreen\, residents from all care areas welcome.
URL:https://www.salemhome.ca/event/mens-group-237/
CATEGORIES:Maple North
END:VEVENT
BEGIN:VEVENT
DTSTART;TZID=America/Winnipeg:20240513T150000
DTEND;TZID=America/Winnipeg:20240513T160000
DTSTAMP:20260425T153016
CREATED:20240430T071519Z
LAST-MODIFIED:20240513T074622Z
UID:40149-1715612400-1715616000@www.salemhome.ca
SUMMARY:Mothers Day Tea ft Linda Hiebert
DESCRIPTION:
URL:https://www.salemhome.ca/event/mothers-day-tea-ft-linda-hiebert-2/
CATEGORIES:Maple North
END:VEVENT
END:VCALENDAR