BEGIN:VCALENDAR
VERSION:2.0
PRODID:-//Salem Home - ECPv6.15.20//NONSGML v1.0//EN
CALSCALE:GREGORIAN
METHOD:PUBLISH
X-WR-CALNAME:Salem Home
X-ORIGINAL-URL:https://www.salemhome.ca
X-WR-CALDESC:Events for Salem Home
REFRESH-INTERVAL;VALUE=DURATION:PT1H
X-Robots-Tag:noindex
X-PUBLISHED-TTL:PT1H
BEGIN:VTIMEZONE
TZID:America/Winnipeg
BEGIN:DAYLIGHT
TZOFFSETFROM:-0600
TZOFFSETTO:-0500
TZNAME:CDT
DTSTART:20230312T080000
END:DAYLIGHT
BEGIN:STANDARD
TZOFFSETFROM:-0500
TZOFFSETTO:-0600
TZNAME:CST
DTSTART:20231105T070000
END:STANDARD
BEGIN:DAYLIGHT
TZOFFSETFROM:-0600
TZOFFSETTO:-0500
TZNAME:CDT
DTSTART:20240310T080000
END:DAYLIGHT
BEGIN:STANDARD
TZOFFSETFROM:-0500
TZOFFSETTO:-0600
TZNAME:CST
DTSTART:20241103T070000
END:STANDARD
BEGIN:DAYLIGHT
TZOFFSETFROM:-0600
TZOFFSETTO:-0500
TZNAME:CDT
DTSTART:20250309T080000
END:DAYLIGHT
BEGIN:STANDARD
TZOFFSETFROM:-0500
TZOFFSETTO:-0600
TZNAME:CST
DTSTART:20251102T070000
END:STANDARD
END:VTIMEZONE
BEGIN:VEVENT
DTSTART;TZID=America/Winnipeg:20240522T100000
DTEND;TZID=America/Winnipeg:20240522T110000
DTSTAMP:20260425T203132
CREATED:20240328T053023Z
LAST-MODIFIED:20240522T080012Z
UID:38774-1716372000-1716375600@www.salemhome.ca
SUMMARY:Men's Coffee
DESCRIPTION:
URL:https://www.salemhome.ca/event/mens-coffee-69/
CATEGORIES:Maple North
END:VEVENT
BEGIN:VEVENT
DTSTART;TZID=America/Winnipeg:20240522T143000
DTEND;TZID=America/Winnipeg:20240522T153000
DTSTAMP:20260425T203132
CREATED:20240104T073031Z
LAST-MODIFIED:20240123T084540Z
UID:34733-1716388200-1716391800@www.salemhome.ca
SUMMARY:Men's Group
DESCRIPTION:Located on Maple North. Residents from all care areas are welcome to attend.
URL:https://www.salemhome.ca/event/mens-group-58/
CATEGORIES:Maple North
END:VEVENT
BEGIN:VEVENT
DTSTART;TZID=America/Winnipeg:20240522T144500
DTEND;TZID=America/Winnipeg:20240522T154500
DTSTAMP:20260425T203132
CREATED:20240124T084602Z
LAST-MODIFIED:20240522T080013Z
UID:36418-1716389100-1716392700@www.salemhome.ca
SUMMARY:Men's Group
DESCRIPTION:Located on Maple North. Residents from all care areas are welcome to attend.
URL:https://www.salemhome.ca/event/mens-group-240/
CATEGORIES:Maple North
END:VEVENT
BEGIN:VEVENT
DTSTART;TZID=America/Winnipeg:20240522T150000
DTEND;TZID=America/Winnipeg:20240522T160000
DTSTAMP:20260425T203132
CREATED:20240430T071522Z
LAST-MODIFIED:20240522T080013Z
UID:40161-1716390000-1716393600@www.salemhome.ca
SUMMARY:Sights & Sounds of Paraguay
DESCRIPTION:
URL:https://www.salemhome.ca/event/sights-sounds-of-paraguay/
CATEGORIES:Maple North
END:VEVENT
BEGIN:VEVENT
DTSTART;TZID=America/Winnipeg:20240522T170000
DTEND;TZID=America/Winnipeg:20240522T180000
DTSTAMP:20260425T203132
CREATED:20240430T071523Z
LAST-MODIFIED:20240522T080013Z
UID:40162-1716397200-1716400800@www.salemhome.ca
SUMMARY:Salem Foundation Fundraising BBQ
DESCRIPTION:
URL:https://www.salemhome.ca/event/salem-foundation-fundraising-bbq/
CATEGORIES:Maple North
END:VEVENT
END:VCALENDAR