BEGIN:VCALENDAR
VERSION:2.0
PRODID:-//Salem Home - ECPv6.15.20//NONSGML v1.0//EN
CALSCALE:GREGORIAN
METHOD:PUBLISH
X-WR-CALNAME:Salem Home
X-ORIGINAL-URL:https://www.salemhome.ca
X-WR-CALDESC:Events for Salem Home
REFRESH-INTERVAL;VALUE=DURATION:PT1H
X-Robots-Tag:noindex
X-PUBLISHED-TTL:PT1H
BEGIN:VTIMEZONE
TZID:America/Winnipeg
BEGIN:DAYLIGHT
TZOFFSETFROM:-0600
TZOFFSETTO:-0500
TZNAME:CDT
DTSTART:20230312T080000
END:DAYLIGHT
BEGIN:STANDARD
TZOFFSETFROM:-0500
TZOFFSETTO:-0600
TZNAME:CST
DTSTART:20231105T070000
END:STANDARD
BEGIN:DAYLIGHT
TZOFFSETFROM:-0600
TZOFFSETTO:-0500
TZNAME:CDT
DTSTART:20240310T080000
END:DAYLIGHT
BEGIN:STANDARD
TZOFFSETFROM:-0500
TZOFFSETTO:-0600
TZNAME:CST
DTSTART:20241103T070000
END:STANDARD
BEGIN:DAYLIGHT
TZOFFSETFROM:-0600
TZOFFSETTO:-0500
TZNAME:CDT
DTSTART:20250309T080000
END:DAYLIGHT
BEGIN:STANDARD
TZOFFSETFROM:-0500
TZOFFSETTO:-0600
TZNAME:CST
DTSTART:20251102T070000
END:STANDARD
END:VTIMEZONE
BEGIN:VEVENT
DTSTART;TZID=America/Winnipeg:20240523T094500
DTEND;TZID=America/Winnipeg:20240523T104500
DTSTAMP:20260425T152756
CREATED:20240430T071523Z
LAST-MODIFIED:20240523T081510Z
UID:40163-1716457500-1716461100@www.salemhome.ca
SUMMARY:Chapel: Winkler MB Church
DESCRIPTION:
URL:https://www.salemhome.ca/event/chapel-winkler-mb-church-19/
CATEGORIES:Maple North
END:VEVENT
BEGIN:VEVENT
DTSTART;TZID=America/Winnipeg:20240523T101500
DTEND;TZID=America/Winnipeg:20240523T111500
DTSTAMP:20260425T152756
CREATED:20230625T131529Z
LAST-MODIFIED:20240523T081510Z
UID:28224-1716459300-1716462900@www.salemhome.ca
SUMMARY:Hymn Sing
DESCRIPTION:
URL:https://www.salemhome.ca/event/hymn-sing-345/
CATEGORIES:Maple North
END:VEVENT
BEGIN:VEVENT
DTSTART;TZID=America/Winnipeg:20240523T150000
DTEND;TZID=America/Winnipeg:20240523T160000
DTSTAMP:20260425T152756
CREATED:20240430T071523Z
LAST-MODIFIED:20240523T081510Z
UID:40164-1716476400-1716480000@www.salemhome.ca
SUMMARY:Patio Time
DESCRIPTION:
URL:https://www.salemhome.ca/event/patio-time-26/
CATEGORIES:Maple North
END:VEVENT
BEGIN:VEVENT
DTSTART;TZID=America/Winnipeg:20240523T190000
DTEND;TZID=America/Winnipeg:20240523T200000
DTSTAMP:20260425T152756
CREATED:20240328T053024Z
LAST-MODIFIED:20240523T081510Z
UID:38775-1716490800-1716494400@www.salemhome.ca
SUMMARY:Sommerfeld Choir
DESCRIPTION:
URL:https://www.salemhome.ca/event/sommerfeld-choir-12/
CATEGORIES:Maple North
END:VEVENT
END:VCALENDAR