BEGIN:VCALENDAR
VERSION:2.0
PRODID:-//Salem Home - ECPv6.15.20//NONSGML v1.0//EN
CALSCALE:GREGORIAN
METHOD:PUBLISH
X-ORIGINAL-URL:https://www.salemhome.ca
X-WR-CALDESC:Events for Salem Home
REFRESH-INTERVAL;VALUE=DURATION:PT1H
X-Robots-Tag:noindex
X-PUBLISHED-TTL:PT1H
BEGIN:VTIMEZONE
TZID:America/Winnipeg
BEGIN:DAYLIGHT
TZOFFSETFROM:-0600
TZOFFSETTO:-0500
TZNAME:CDT
DTSTART:20230312T080000
END:DAYLIGHT
BEGIN:STANDARD
TZOFFSETFROM:-0500
TZOFFSETTO:-0600
TZNAME:CST
DTSTART:20231105T070000
END:STANDARD
BEGIN:DAYLIGHT
TZOFFSETFROM:-0600
TZOFFSETTO:-0500
TZNAME:CDT
DTSTART:20240310T080000
END:DAYLIGHT
BEGIN:STANDARD
TZOFFSETFROM:-0500
TZOFFSETTO:-0600
TZNAME:CST
DTSTART:20241103T070000
END:STANDARD
BEGIN:DAYLIGHT
TZOFFSETFROM:-0600
TZOFFSETTO:-0500
TZNAME:CDT
DTSTART:20250309T080000
END:DAYLIGHT
BEGIN:STANDARD
TZOFFSETFROM:-0500
TZOFFSETTO:-0600
TZNAME:CST
DTSTART:20251102T070000
END:STANDARD
END:VTIMEZONE
BEGIN:VEVENT
DTSTART;TZID=America/Winnipeg:20240528T100000
DTEND;TZID=America/Winnipeg:20240528T103000
DTSTAMP:20260425T135304
CREATED:20230205T032651Z
LAST-MODIFIED:20230205T032651Z
UID:23324-1716890400-1716892200@www.salemhome.ca
SUMMARY:Chapel
DESCRIPTION:
URL:https://www.salemhome.ca/event/chapel-256/
CATEGORIES:Maple North
END:VEVENT
BEGIN:VEVENT
DTSTART;TZID=America/Winnipeg:20240528T100000
DTEND;TZID=America/Winnipeg:20240528T103000
DTSTAMP:20260425T135304
CREATED:20230718T143032Z
LAST-MODIFIED:20240528T081512Z
UID:29102-1716890400-1716892200@www.salemhome.ca
SUMMARY:Chapel
DESCRIPTION:
URL:https://www.salemhome.ca/event/chapel-444/
CATEGORIES:Maple North
END:VEVENT
BEGIN:VEVENT
DTSTART;TZID=America/Winnipeg:20240528T100000
DTEND;TZID=America/Winnipeg:20240528T110000
DTSTAMP:20260425T135304
CREATED:20240328T053024Z
LAST-MODIFIED:20240528T081511Z
UID:38778-1716890400-1716894000@www.salemhome.ca
SUMMARY:Men's Coffee
DESCRIPTION:
URL:https://www.salemhome.ca/event/mens-coffee-72/
CATEGORIES:Maple North
END:VEVENT
BEGIN:VEVENT
DTSTART;TZID=America/Winnipeg:20240528T103000
DTEND;TZID=America/Winnipeg:20240528T113000
DTSTAMP:20260425T135304
CREATED:20230205T032651Z
LAST-MODIFIED:20230205T032651Z
UID:23325-1716892200-1716895800@www.salemhome.ca
SUMMARY:One on One Visits
DESCRIPTION:
URL:https://www.salemhome.ca/event/one-on-one-visits-69/
CATEGORIES:Maple North
END:VEVENT
BEGIN:VEVENT
DTSTART;TZID=America/Winnipeg:20240528T150000
DTEND;TZID=America/Winnipeg:20240528T160000
DTSTAMP:20260425T135304
CREATED:20240430T071524Z
LAST-MODIFIED:20240528T081512Z
UID:40168-1716908400-1716912000@www.salemhome.ca
SUMMARY:Taste of Paraguay
DESCRIPTION:
URL:https://www.salemhome.ca/event/taste-of-paraguay-2/
CATEGORIES:Maple North
END:VEVENT
BEGIN:VEVENT
DTSTART;TZID=America/Winnipeg:20240528T190000
DTEND;TZID=America/Winnipeg:20240528T200000
DTSTAMP:20260425T135304
CREATED:20240328T053025Z
LAST-MODIFIED:20240528T081512Z
UID:38779-1716922800-1716926400@www.salemhome.ca
SUMMARY:Melanie & Friends
DESCRIPTION:
URL:https://www.salemhome.ca/event/melanie-friends-29/
CATEGORIES:Maple North
END:VEVENT
END:VCALENDAR