BEGIN:VCALENDAR
VERSION:2.0
PRODID:-//Salem Home - ECPv6.15.20//NONSGML v1.0//EN
CALSCALE:GREGORIAN
METHOD:PUBLISH
X-ORIGINAL-URL:https://www.salemhome.ca
X-WR-CALDESC:Events for Salem Home
REFRESH-INTERVAL;VALUE=DURATION:PT1H
X-Robots-Tag:noindex
X-PUBLISHED-TTL:PT1H
BEGIN:VTIMEZONE
TZID:America/Winnipeg
BEGIN:DAYLIGHT
TZOFFSETFROM:-0600
TZOFFSETTO:-0500
TZNAME:CDT
DTSTART:20230312T080000
END:DAYLIGHT
BEGIN:STANDARD
TZOFFSETFROM:-0500
TZOFFSETTO:-0600
TZNAME:CST
DTSTART:20231105T070000
END:STANDARD
BEGIN:DAYLIGHT
TZOFFSETFROM:-0600
TZOFFSETTO:-0500
TZNAME:CDT
DTSTART:20240310T080000
END:DAYLIGHT
BEGIN:STANDARD
TZOFFSETFROM:-0500
TZOFFSETTO:-0600
TZNAME:CST
DTSTART:20241103T070000
END:STANDARD
BEGIN:DAYLIGHT
TZOFFSETFROM:-0600
TZOFFSETTO:-0500
TZNAME:CDT
DTSTART:20250309T080000
END:DAYLIGHT
BEGIN:STANDARD
TZOFFSETFROM:-0500
TZOFFSETTO:-0600
TZNAME:CST
DTSTART:20251102T070000
END:STANDARD
END:VTIMEZONE
BEGIN:VEVENT
DTSTART;TZID=America/Winnipeg:20240624T100000
DTEND;TZID=America/Winnipeg:20240624T110000
DTSTAMP:20260425T152938
CREATED:20230725T144531Z
LAST-MODIFIED:20230731T150123Z
UID:29299-1719223200-1719226800@www.salemhome.ca
SUMMARY:Men's Group with Kris (Oma's Kitchen)
DESCRIPTION:
URL:https://www.salemhome.ca/event/mens-group-with-kris-omas-kitchen-219/
CATEGORIES:Maple North
END:VEVENT
BEGIN:VEVENT
DTSTART;TZID=America/Winnipeg:20240624T100000
DTEND;TZID=America/Winnipeg:20240624T110000
DTSTAMP:20260425T152938
CREATED:20240328T053032Z
LAST-MODIFIED:20240623T181534Z
UID:38794-1719223200-1719226800@www.salemhome.ca
SUMMARY:Men's Coffee
DESCRIPTION:
URL:https://www.salemhome.ca/event/mens-coffee-87/
CATEGORIES:Maple North
END:VEVENT
BEGIN:VEVENT
DTSTART;TZID=America/Winnipeg:20240624T100000
DTEND;TZID=America/Winnipeg:20240624T110000
DTSTAMP:20260425T152938
CREATED:20240530T081525Z
LAST-MODIFIED:20240623T181534Z
UID:41152-1719223200-1719226800@www.salemhome.ca
SUMMARY:Bingo
DESCRIPTION:
URL:https://www.salemhome.ca/event/bingo-510/
CATEGORIES:Maple North
END:VEVENT
BEGIN:VEVENT
DTSTART;TZID=America/Winnipeg:20240624T143000
DTEND;TZID=America/Winnipeg:20240624T153000
DTSTAMP:20260425T152938
CREATED:20240117T080029Z
LAST-MODIFIED:20240123T084542Z
UID:36195-1719239400-1719243000@www.salemhome.ca
SUMMARY:Men's Group
DESCRIPTION:Located on Evergreen\, residents from all care areas welcome.
URL:https://www.salemhome.ca/event/mens-group-194/
CATEGORIES:Maple North
END:VEVENT
BEGIN:VEVENT
DTSTART;TZID=America/Winnipeg:20240624T144500
DTEND;TZID=America/Winnipeg:20240624T154500
DTSTAMP:20260425T152938
CREATED:20240125T084534Z
LAST-MODIFIED:20240624T183010Z
UID:36729-1719240300-1719243900@www.salemhome.ca
SUMMARY:Men's Group
DESCRIPTION:Located on Evergreen\, residents from all care areas welcome.
URL:https://www.salemhome.ca/event/mens-group-339/
CATEGORIES:Maple North
END:VEVENT
BEGIN:VEVENT
DTSTART;TZID=America/Winnipeg:20240624T150000
DTEND;TZID=America/Winnipeg:20240624T160000
DTSTAMP:20260425T152938
CREATED:20240530T081525Z
LAST-MODIFIED:20240624T183010Z
UID:41153-1719241200-1719244800@www.salemhome.ca
SUMMARY:Patio Time
DESCRIPTION:
URL:https://www.salemhome.ca/event/patio-time-41/
CATEGORIES:Maple North
END:VEVENT
END:VCALENDAR