BEGIN:VCALENDAR
VERSION:2.0
PRODID:-//Salem Home - ECPv6.15.20//NONSGML v1.0//EN
CALSCALE:GREGORIAN
METHOD:PUBLISH
X-ORIGINAL-URL:https://www.salemhome.ca
X-WR-CALDESC:Events for Salem Home
REFRESH-INTERVAL;VALUE=DURATION:PT1H
X-Robots-Tag:noindex
X-PUBLISHED-TTL:PT1H
BEGIN:VTIMEZONE
TZID:America/Winnipeg
BEGIN:DAYLIGHT
TZOFFSETFROM:-0600
TZOFFSETTO:-0500
TZNAME:CDT
DTSTART:20230312T080000
END:DAYLIGHT
BEGIN:STANDARD
TZOFFSETFROM:-0500
TZOFFSETTO:-0600
TZNAME:CST
DTSTART:20231105T070000
END:STANDARD
BEGIN:DAYLIGHT
TZOFFSETFROM:-0600
TZOFFSETTO:-0500
TZNAME:CDT
DTSTART:20240310T080000
END:DAYLIGHT
BEGIN:STANDARD
TZOFFSETFROM:-0500
TZOFFSETTO:-0600
TZNAME:CST
DTSTART:20241103T070000
END:STANDARD
BEGIN:DAYLIGHT
TZOFFSETFROM:-0600
TZOFFSETTO:-0500
TZNAME:CDT
DTSTART:20250309T080000
END:DAYLIGHT
BEGIN:STANDARD
TZOFFSETFROM:-0500
TZOFFSETTO:-0600
TZNAME:CST
DTSTART:20251102T070000
END:STANDARD
END:VTIMEZONE
BEGIN:VEVENT
DTSTART;TZID=America/Winnipeg:20240625T100000
DTEND;TZID=America/Winnipeg:20240625T103000
DTSTAMP:20260425T135151
CREATED:20230205T032652Z
LAST-MODIFIED:20230205T032652Z
UID:23332-1719309600-1719311400@www.salemhome.ca
SUMMARY:Chapel
DESCRIPTION:
URL:https://www.salemhome.ca/event/chapel-260/
CATEGORIES:Maple North
END:VEVENT
BEGIN:VEVENT
DTSTART;TZID=America/Winnipeg:20240625T100000
DTEND;TZID=America/Winnipeg:20240625T103000
DTSTAMP:20260425T135151
CREATED:20230725T144531Z
LAST-MODIFIED:20240624T183010Z
UID:29300-1719309600-1719311400@www.salemhome.ca
SUMMARY:Chapel
DESCRIPTION:
URL:https://www.salemhome.ca/event/chapel-456/
CATEGORIES:Maple North
END:VEVENT
BEGIN:VEVENT
DTSTART;TZID=America/Winnipeg:20240625T100000
DTEND;TZID=America/Winnipeg:20240625T110000
DTSTAMP:20260425T135151
CREATED:20240328T053032Z
LAST-MODIFIED:20240624T183010Z
UID:38795-1719309600-1719313200@www.salemhome.ca
SUMMARY:Men's Coffee
DESCRIPTION:
URL:https://www.salemhome.ca/event/mens-coffee-88/
CATEGORIES:Maple North
END:VEVENT
BEGIN:VEVENT
DTSTART;TZID=America/Winnipeg:20240625T103000
DTEND;TZID=America/Winnipeg:20240625T113000
DTSTAMP:20260425T135151
CREATED:20230205T032652Z
LAST-MODIFIED:20230205T032652Z
UID:23333-1719311400-1719315000@www.salemhome.ca
SUMMARY:One on One Visits
DESCRIPTION:
URL:https://www.salemhome.ca/event/one-on-one-visits-73/
CATEGORIES:Maple North
END:VEVENT
BEGIN:VEVENT
DTSTART;TZID=America/Winnipeg:20240625T150000
DTEND;TZID=America/Winnipeg:20240625T160000
DTSTAMP:20260425T135151
CREATED:20240530T081525Z
LAST-MODIFIED:20240625T183035Z
UID:41154-1719327600-1719331200@www.salemhome.ca
SUMMARY:Crokinole
DESCRIPTION:
URL:https://www.salemhome.ca/event/crokinole-25/
CATEGORIES:Maple North
END:VEVENT
BEGIN:VEVENT
DTSTART;TZID=America/Winnipeg:20240625T190000
DTEND;TZID=America/Winnipeg:20240625T200000
DTSTAMP:20260425T135151
CREATED:20240328T053032Z
LAST-MODIFIED:20240625T183035Z
UID:38796-1719342000-1719345600@www.salemhome.ca
SUMMARY:Melanie & Friends
DESCRIPTION:
URL:https://www.salemhome.ca/event/melanie-friends-30/
CATEGORIES:Maple North
END:VEVENT
END:VCALENDAR