BEGIN:VCALENDAR
VERSION:2.0
PRODID:-//Salem Home - ECPv6.15.20//NONSGML v1.0//EN
CALSCALE:GREGORIAN
METHOD:PUBLISH
X-ORIGINAL-URL:https://www.salemhome.ca
X-WR-CALDESC:Events for Salem Home
REFRESH-INTERVAL;VALUE=DURATION:PT1H
X-Robots-Tag:noindex
X-PUBLISHED-TTL:PT1H
BEGIN:VTIMEZONE
TZID:America/Winnipeg
BEGIN:DAYLIGHT
TZOFFSETFROM:-0600
TZOFFSETTO:-0500
TZNAME:CDT
DTSTART:20230312T080000
END:DAYLIGHT
BEGIN:STANDARD
TZOFFSETFROM:-0500
TZOFFSETTO:-0600
TZNAME:CST
DTSTART:20231105T070000
END:STANDARD
BEGIN:DAYLIGHT
TZOFFSETFROM:-0600
TZOFFSETTO:-0500
TZNAME:CDT
DTSTART:20240310T080000
END:DAYLIGHT
BEGIN:STANDARD
TZOFFSETFROM:-0500
TZOFFSETTO:-0600
TZNAME:CST
DTSTART:20241103T070000
END:STANDARD
BEGIN:DAYLIGHT
TZOFFSETFROM:-0600
TZOFFSETTO:-0500
TZNAME:CDT
DTSTART:20250309T080000
END:DAYLIGHT
BEGIN:STANDARD
TZOFFSETFROM:-0500
TZOFFSETTO:-0600
TZNAME:CST
DTSTART:20251102T070000
END:STANDARD
END:VTIMEZONE
BEGIN:VEVENT
DTSTART;TZID=America/Winnipeg:20240716T100000
DTEND;TZID=America/Winnipeg:20240716T103000
DTSTAMP:20260425T152936
CREATED:20230205T032652Z
LAST-MODIFIED:20230205T032652Z
UID:23339-1721124000-1721125800@www.salemhome.ca
SUMMARY:Chapel
DESCRIPTION:
URL:https://www.salemhome.ca/event/chapel-263/
CATEGORIES:Maple North
END:VEVENT
BEGIN:VEVENT
DTSTART;TZID=America/Winnipeg:20240716T100000
DTEND;TZID=America/Winnipeg:20240716T103000
DTSTAMP:20260425T152936
CREATED:20230801T150232Z
LAST-MODIFIED:20240718T210354Z
UID:29646-1721124000-1721125800@www.salemhome.ca
SUMMARY:Chapel
DESCRIPTION:
URL:https://www.salemhome.ca/event/chapel-467/
CATEGORIES:Maple North
END:VEVENT
BEGIN:VEVENT
DTSTART;TZID=America/Winnipeg:20240716T100000
DTEND;TZID=America/Winnipeg:20240716T110000
DTSTAMP:20260425T152936
CREATED:20240406T060035Z
LAST-MODIFIED:20240718T210354Z
UID:39622-1721124000-1721127600@www.salemhome.ca
SUMMARY:Men's Coffee
DESCRIPTION:
URL:https://www.salemhome.ca/event/mens-coffee-100/
CATEGORIES:Maple North
END:VEVENT
BEGIN:VEVENT
DTSTART;TZID=America/Winnipeg:20240716T103000
DTEND;TZID=America/Winnipeg:20240716T113000
DTSTAMP:20260425T152936
CREATED:20230205T032652Z
LAST-MODIFIED:20230205T032652Z
UID:23338-1721125800-1721129400@www.salemhome.ca
SUMMARY:One on One Visits
DESCRIPTION:
URL:https://www.salemhome.ca/event/one-on-one-visits-76/
CATEGORIES:Maple North
END:VEVENT
BEGIN:VEVENT
DTSTART;TZID=America/Winnipeg:20240716T150000
DTEND;TZID=America/Winnipeg:20240716T160000
DTSTAMP:20260425T152936
CREATED:20240628T183015Z
LAST-MODIFIED:20240718T210354Z
UID:42362-1721142000-1721145600@www.salemhome.ca
SUMMARY:Provincial Birds
DESCRIPTION:
URL:https://www.salemhome.ca/event/provincial-birds/
CATEGORIES:Maple North
END:VEVENT
BEGIN:VEVENT
DTSTART;TZID=America/Winnipeg:20240716T190000
DTEND;TZID=America/Winnipeg:20240716T200000
DTSTAMP:20260425T152936
CREATED:20240619T180018Z
LAST-MODIFIED:20240718T210354Z
UID:41812-1721156400-1721160000@www.salemhome.ca
SUMMARY:Yodeling Joe Wilson
DESCRIPTION:
URL:https://www.salemhome.ca/event/yodeling-joe-wilson-4/
CATEGORIES:Maple North
END:VEVENT
END:VCALENDAR