BEGIN:VCALENDAR
VERSION:2.0
PRODID:-//Salem Home - ECPv6.15.20//NONSGML v1.0//EN
CALSCALE:GREGORIAN
METHOD:PUBLISH
X-WR-CALNAME:Salem Home
X-ORIGINAL-URL:https://www.salemhome.ca
X-WR-CALDESC:Events for Salem Home
REFRESH-INTERVAL;VALUE=DURATION:PT1H
X-Robots-Tag:noindex
X-PUBLISHED-TTL:PT1H
BEGIN:VTIMEZONE
TZID:America/Winnipeg
BEGIN:DAYLIGHT
TZOFFSETFROM:-0600
TZOFFSETTO:-0500
TZNAME:CDT
DTSTART:20230312T080000
END:DAYLIGHT
BEGIN:STANDARD
TZOFFSETFROM:-0500
TZOFFSETTO:-0600
TZNAME:CST
DTSTART:20231105T070000
END:STANDARD
BEGIN:DAYLIGHT
TZOFFSETFROM:-0600
TZOFFSETTO:-0500
TZNAME:CDT
DTSTART:20240310T080000
END:DAYLIGHT
BEGIN:STANDARD
TZOFFSETFROM:-0500
TZOFFSETTO:-0600
TZNAME:CST
DTSTART:20241103T070000
END:STANDARD
BEGIN:DAYLIGHT
TZOFFSETFROM:-0600
TZOFFSETTO:-0500
TZNAME:CDT
DTSTART:20250309T080000
END:DAYLIGHT
BEGIN:STANDARD
TZOFFSETFROM:-0500
TZOFFSETTO:-0600
TZNAME:CST
DTSTART:20251102T070000
END:STANDARD
END:VTIMEZONE
BEGIN:VEVENT
DTSTART;TZID=America/Winnipeg:20240726T100000
DTEND;TZID=America/Winnipeg:20240726T110000
DTSTAMP:20260424T194052
CREATED:20240412T061540Z
LAST-MODIFIED:20240722T220011Z
UID:39731-1721988000-1721991600@www.salemhome.ca
SUMMARY:Men's Coffee
DESCRIPTION:
URL:https://www.salemhome.ca/event/mens-coffee-106/
CATEGORIES:Maple North
END:VEVENT
BEGIN:VEVENT
DTSTART;TZID=America/Winnipeg:20240726T100000
DTEND;TZID=America/Winnipeg:20240726T110000
DTSTAMP:20260424T194052
CREATED:20240628T183018Z
LAST-MODIFIED:20240722T220011Z
UID:42373-1721988000-1721991600@www.salemhome.ca
SUMMARY:Hymn Sing
DESCRIPTION:
URL:https://www.salemhome.ca/event/hymn-sing-477/
CATEGORIES:Maple North
END:VEVENT
BEGIN:VEVENT
DTSTART;TZID=America/Winnipeg:20240726T150000
DTEND;TZID=America/Winnipeg:20240726T160000
DTSTAMP:20260424T194052
CREATED:20230803T151632Z
LAST-MODIFIED:20240627T183021Z
UID:29881-1722006000-1722009600@www.salemhome.ca
SUMMARY:Birthday Party
DESCRIPTION:
URL:https://www.salemhome.ca/event/birthday-party-29/
CATEGORIES:Maple North
END:VEVENT
BEGIN:VEVENT
DTSTART;TZID=America/Winnipeg:20240726T150000
DTEND;TZID=America/Winnipeg:20240726T160000
DTSTAMP:20260424T194052
CREATED:20240619T180020Z
LAST-MODIFIED:20240722T220012Z
UID:41817-1722006000-1722009600@www.salemhome.ca
SUMMARY:Birthday Party with Reinland Mennonite Church
DESCRIPTION:
URL:https://www.salemhome.ca/event/birthday-party-with-reinland-mennonite-church-3/
CATEGORIES:Maple North
END:VEVENT
END:VCALENDAR