BEGIN:VCALENDAR
VERSION:2.0
PRODID:-//Salem Home - ECPv6.15.20//NONSGML v1.0//EN
CALSCALE:GREGORIAN
METHOD:PUBLISH
X-ORIGINAL-URL:https://www.salemhome.ca
X-WR-CALDESC:Events for Salem Home
REFRESH-INTERVAL;VALUE=DURATION:PT1H
X-Robots-Tag:noindex
X-PUBLISHED-TTL:PT1H
BEGIN:VTIMEZONE
TZID:America/Winnipeg
BEGIN:DAYLIGHT
TZOFFSETFROM:-0600
TZOFFSETTO:-0500
TZNAME:CDT
DTSTART:20230312T080000
END:DAYLIGHT
BEGIN:STANDARD
TZOFFSETFROM:-0500
TZOFFSETTO:-0600
TZNAME:CST
DTSTART:20231105T070000
END:STANDARD
BEGIN:DAYLIGHT
TZOFFSETFROM:-0600
TZOFFSETTO:-0500
TZNAME:CDT
DTSTART:20240310T080000
END:DAYLIGHT
BEGIN:STANDARD
TZOFFSETFROM:-0500
TZOFFSETTO:-0600
TZNAME:CST
DTSTART:20241103T070000
END:STANDARD
BEGIN:DAYLIGHT
TZOFFSETFROM:-0600
TZOFFSETTO:-0500
TZNAME:CDT
DTSTART:20250309T080000
END:DAYLIGHT
BEGIN:STANDARD
TZOFFSETFROM:-0500
TZOFFSETTO:-0600
TZNAME:CST
DTSTART:20251102T070000
END:STANDARD
END:VTIMEZONE
BEGIN:VEVENT
DTSTART;TZID=America/Winnipeg:20240731T100000
DTEND;TZID=America/Winnipeg:20240731T110000
DTSTAMP:20260424T055901
CREATED:20240415T061535Z
LAST-MODIFIED:20240722T220012Z
UID:39783-1722420000-1722423600@www.salemhome.ca
SUMMARY:Men's Coffee
DESCRIPTION:
URL:https://www.salemhome.ca/event/mens-coffee-109/
CATEGORIES:Maple North
END:VEVENT
BEGIN:VEVENT
DTSTART;TZID=America/Winnipeg:20240731T144500
DTEND;TZID=America/Winnipeg:20240731T154500
DTSTAMP:20260424T055901
CREATED:20240212T091530Z
LAST-MODIFIED:20240722T220013Z
UID:37236-1722437100-1722440700@www.salemhome.ca
SUMMARY:Men's Group
DESCRIPTION:Located on Maple North. Residents from all care areas are welcome to attend.
URL:https://www.salemhome.ca/event/mens-group-383/
CATEGORIES:Maple North
END:VEVENT
BEGIN:VEVENT
DTSTART;TZID=America/Winnipeg:20240731T150000
DTEND;TZID=America/Winnipeg:20240731T160000
DTSTAMP:20260424T055901
CREATED:20240628T183019Z
LAST-MODIFIED:20240722T220012Z
UID:42377-1722438000-1722441600@www.salemhome.ca
SUMMARY:Walking Wednesday
DESCRIPTION:
URL:https://www.salemhome.ca/event/walking-wednesday-2/
CATEGORIES:Maple North
END:VEVENT
BEGIN:VEVENT
DTSTART;TZID=America/Winnipeg:20240731T150000
DTEND;TZID=America/Winnipeg:20240731T160000
DTSTAMP:20260424T055901
CREATED:20240628T183019Z
LAST-MODIFIED:20240722T220012Z
UID:42378-1722438000-1722441600@www.salemhome.ca
SUMMARY:Brain Games
DESCRIPTION:
URL:https://www.salemhome.ca/event/brain-games-2/
CATEGORIES:Maple North
END:VEVENT
END:VCALENDAR