BEGIN:VCALENDAR
VERSION:2.0
PRODID:-//Salem Home - ECPv6.15.20//NONSGML v1.0//EN
CALSCALE:GREGORIAN
METHOD:PUBLISH
X-WR-CALNAME:Salem Home
X-ORIGINAL-URL:https://www.salemhome.ca
X-WR-CALDESC:Events for Salem Home
REFRESH-INTERVAL;VALUE=DURATION:PT1H
X-Robots-Tag:noindex
X-PUBLISHED-TTL:PT1H
BEGIN:VTIMEZONE
TZID:America/Winnipeg
BEGIN:DAYLIGHT
TZOFFSETFROM:-0600
TZOFFSETTO:-0500
TZNAME:CDT
DTSTART:20230312T080000
END:DAYLIGHT
BEGIN:STANDARD
TZOFFSETFROM:-0500
TZOFFSETTO:-0600
TZNAME:CST
DTSTART:20231105T070000
END:STANDARD
BEGIN:DAYLIGHT
TZOFFSETFROM:-0600
TZOFFSETTO:-0500
TZNAME:CDT
DTSTART:20240310T080000
END:DAYLIGHT
BEGIN:STANDARD
TZOFFSETFROM:-0500
TZOFFSETTO:-0600
TZNAME:CST
DTSTART:20241103T070000
END:STANDARD
BEGIN:DAYLIGHT
TZOFFSETFROM:-0600
TZOFFSETTO:-0500
TZNAME:CDT
DTSTART:20250309T080000
END:DAYLIGHT
BEGIN:STANDARD
TZOFFSETFROM:-0500
TZOFFSETTO:-0600
TZNAME:CST
DTSTART:20251102T070000
END:STANDARD
END:VTIMEZONE
BEGIN:VEVENT
DTSTART;TZID=America/Winnipeg:20240815T094500
DTEND;TZID=America/Winnipeg:20240815T104500
DTSTAMP:20260424T042916
CREATED:20240718T213018Z
LAST-MODIFIED:20240814T231514Z
UID:42797-1723715100-1723718700@www.salemhome.ca
SUMMARY:Chapel: Reinland Mennonite
DESCRIPTION:
URL:https://www.salemhome.ca/event/chapel-reinland-mennonite-76/
CATEGORIES:Maple North
END:VEVENT
BEGIN:VEVENT
DTSTART;TZID=America/Winnipeg:20240815T101500
DTEND;TZID=America/Winnipeg:20240815T111500
DTSTAMP:20260424T042916
CREATED:20230807T154708Z
LAST-MODIFIED:20240814T231514Z
UID:29967-1723716900-1723720500@www.salemhome.ca
SUMMARY:Hymn Sing
DESCRIPTION:
URL:https://www.salemhome.ca/event/hymn-sing-382/
CATEGORIES:Maple North
END:VEVENT
BEGIN:VEVENT
DTSTART;TZID=America/Winnipeg:20240815T150000
DTEND;TZID=America/Winnipeg:20240815T160000
DTSTAMP:20260424T042916
CREATED:20240731T221516Z
LAST-MODIFIED:20240814T231514Z
UID:43300-1723734000-1723737600@www.salemhome.ca
SUMMARY:Bible Study
DESCRIPTION:
URL:https://www.salemhome.ca/event/bible-study/
CATEGORIES:Maple North
END:VEVENT
BEGIN:VEVENT
DTSTART;TZID=America/Winnipeg:20240815T180000
DTEND;TZID=America/Winnipeg:20240815T190000
DTSTAMP:20260424T042916
CREATED:20240718T213018Z
LAST-MODIFIED:20240815T231535Z
UID:42798-1723744800-1723748400@www.salemhome.ca
SUMMARY:Dave Nickel
DESCRIPTION:
URL:https://www.salemhome.ca/event/dave-nickel-15/
CATEGORIES:Maple North
END:VEVENT
END:VCALENDAR