BEGIN:VCALENDAR
VERSION:2.0
PRODID:-//Salem Home - ECPv6.15.20//NONSGML v1.0//EN
CALSCALE:GREGORIAN
METHOD:PUBLISH
X-ORIGINAL-URL:https://www.salemhome.ca
X-WR-CALDESC:Events for Salem Home
REFRESH-INTERVAL;VALUE=DURATION:PT1H
X-Robots-Tag:noindex
X-PUBLISHED-TTL:PT1H
BEGIN:VTIMEZONE
TZID:America/Winnipeg
BEGIN:DAYLIGHT
TZOFFSETFROM:-0600
TZOFFSETTO:-0500
TZNAME:CDT
DTSTART:20230312T080000
END:DAYLIGHT
BEGIN:STANDARD
TZOFFSETFROM:-0500
TZOFFSETTO:-0600
TZNAME:CST
DTSTART:20231105T070000
END:STANDARD
BEGIN:DAYLIGHT
TZOFFSETFROM:-0600
TZOFFSETTO:-0500
TZNAME:CDT
DTSTART:20240310T080000
END:DAYLIGHT
BEGIN:STANDARD
TZOFFSETFROM:-0500
TZOFFSETTO:-0600
TZNAME:CST
DTSTART:20241103T070000
END:STANDARD
BEGIN:DAYLIGHT
TZOFFSETFROM:-0600
TZOFFSETTO:-0500
TZNAME:CDT
DTSTART:20250309T080000
END:DAYLIGHT
BEGIN:STANDARD
TZOFFSETFROM:-0500
TZOFFSETTO:-0600
TZNAME:CST
DTSTART:20251102T070000
END:STANDARD
END:VTIMEZONE
BEGIN:VEVENT
DTSTART;TZID=America/Winnipeg:20240819T100000
DTEND;TZID=America/Winnipeg:20240819T110000
DTSTAMP:20260424T090638
CREATED:20240425T064531Z
LAST-MODIFIED:20240818T233018Z
UID:39980-1724061600-1724065200@www.salemhome.ca
SUMMARY:Men's Coffee
DESCRIPTION:
URL:https://www.salemhome.ca/event/mens-coffee-119/
CATEGORIES:Maple North
END:VEVENT
BEGIN:VEVENT
DTSTART;TZID=America/Winnipeg:20240819T100000
DTEND;TZID=America/Winnipeg:20240819T110000
DTSTAMP:20260424T090638
CREATED:20240731T221517Z
LAST-MODIFIED:20240818T233018Z
UID:43302-1724061600-1724065200@www.salemhome.ca
SUMMARY:Bingo
DESCRIPTION:
URL:https://www.salemhome.ca/event/bingo-564/
CATEGORIES:Maple North
END:VEVENT
BEGIN:VEVENT
DTSTART;TZID=America/Winnipeg:20240819T144500
DTEND;TZID=America/Winnipeg:20240819T154500
DTSTAMP:20260424T090638
CREATED:20240308T234528Z
LAST-MODIFIED:20240818T233018Z
UID:38277-1724078700-1724082300@www.salemhome.ca
SUMMARY:Men's Group
DESCRIPTION:Located on Evergreen\, residents from all care areas welcome.
URL:https://www.salemhome.ca/event/mens-group-407/
CATEGORIES:Maple North
END:VEVENT
BEGIN:VEVENT
DTSTART;TZID=America/Winnipeg:20240819T150000
DTEND;TZID=America/Winnipeg:20240819T160000
DTSTAMP:20260424T090638
CREATED:20240731T221517Z
LAST-MODIFIED:20240818T233018Z
UID:43303-1724079600-1724083200@www.salemhome.ca
SUMMARY:Patio Hymn Sing
DESCRIPTION:
URL:https://www.salemhome.ca/event/patio-hymn-sing-7/
CATEGORIES:Maple North
END:VEVENT
END:VCALENDAR