BEGIN:VCALENDAR
VERSION:2.0
PRODID:-//Salem Home - ECPv6.15.20//NONSGML v1.0//EN
CALSCALE:GREGORIAN
METHOD:PUBLISH
X-WR-CALNAME:Salem Home
X-ORIGINAL-URL:https://www.salemhome.ca
X-WR-CALDESC:Events for Salem Home
REFRESH-INTERVAL;VALUE=DURATION:PT1H
X-Robots-Tag:noindex
X-PUBLISHED-TTL:PT1H
BEGIN:VTIMEZONE
TZID:America/Winnipeg
BEGIN:DAYLIGHT
TZOFFSETFROM:-0600
TZOFFSETTO:-0500
TZNAME:CDT
DTSTART:20230312T080000
END:DAYLIGHT
BEGIN:STANDARD
TZOFFSETFROM:-0500
TZOFFSETTO:-0600
TZNAME:CST
DTSTART:20231105T070000
END:STANDARD
BEGIN:DAYLIGHT
TZOFFSETFROM:-0600
TZOFFSETTO:-0500
TZNAME:CDT
DTSTART:20240310T080000
END:DAYLIGHT
BEGIN:STANDARD
TZOFFSETFROM:-0500
TZOFFSETTO:-0600
TZNAME:CST
DTSTART:20241103T070000
END:STANDARD
BEGIN:DAYLIGHT
TZOFFSETFROM:-0600
TZOFFSETTO:-0500
TZNAME:CDT
DTSTART:20250309T080000
END:DAYLIGHT
BEGIN:STANDARD
TZOFFSETFROM:-0500
TZOFFSETTO:-0600
TZNAME:CST
DTSTART:20251102T070000
END:STANDARD
END:VTIMEZONE
BEGIN:VEVENT
DTSTART;TZID=America/Winnipeg:20240820T100000
DTEND;TZID=America/Winnipeg:20240820T103000
DTSTAMP:20260424T042801
CREATED:20230205T032653Z
LAST-MODIFIED:20230205T032653Z
UID:23349-1724148000-1724149800@www.salemhome.ca
SUMMARY:Chapel
DESCRIPTION:
URL:https://www.salemhome.ca/event/chapel-268/
CATEGORIES:Maple North
END:VEVENT
BEGIN:VEVENT
DTSTART;TZID=America/Winnipeg:20240820T100000
DTEND;TZID=America/Winnipeg:20240820T103000
DTSTAMP:20260424T042801
CREATED:20230809T154544Z
LAST-MODIFIED:20240819T233015Z
UID:30006-1724148000-1724149800@www.salemhome.ca
SUMMARY:Chapel
DESCRIPTION:
URL:https://www.salemhome.ca/event/chapel-480/
CATEGORIES:Maple North
END:VEVENT
BEGIN:VEVENT
DTSTART;TZID=America/Winnipeg:20240820T100000
DTEND;TZID=America/Winnipeg:20240820T110000
DTSTAMP:20260424T042801
CREATED:20240425T064532Z
LAST-MODIFIED:20240819T233015Z
UID:39981-1724148000-1724151600@www.salemhome.ca
SUMMARY:Men's Coffee
DESCRIPTION:
URL:https://www.salemhome.ca/event/mens-coffee-120/
CATEGORIES:Maple North
END:VEVENT
BEGIN:VEVENT
DTSTART;TZID=America/Winnipeg:20240820T103000
DTEND;TZID=America/Winnipeg:20240820T113000
DTSTAMP:20260424T042801
CREATED:20230205T032653Z
LAST-MODIFIED:20230205T032653Z
UID:23348-1724149800-1724153400@www.salemhome.ca
SUMMARY:One on One Visits
DESCRIPTION:
URL:https://www.salemhome.ca/event/one-on-one-visits-81/
CATEGORIES:Maple North
END:VEVENT
BEGIN:VEVENT
DTSTART;TZID=America/Winnipeg:20240820T150000
DTEND;TZID=America/Winnipeg:20240820T160000
DTSTAMP:20260424T042801
CREATED:20240731T221518Z
LAST-MODIFIED:20240819T233015Z
UID:43304-1724166000-1724169600@www.salemhome.ca
SUMMARY:Taste of Summer
DESCRIPTION:
URL:https://www.salemhome.ca/event/taste-of-summer-17/
CATEGORIES:Maple North
END:VEVENT
BEGIN:VEVENT
DTSTART;TZID=America/Winnipeg:20240820T190000
DTEND;TZID=America/Winnipeg:20240820T200000
DTSTAMP:20260424T042801
CREATED:20240718T213019Z
LAST-MODIFIED:20240820T233056Z
UID:42800-1724180400-1724184000@www.salemhome.ca
SUMMARY:The Sanderson's
DESCRIPTION:
URL:https://www.salemhome.ca/event/the-sandersons-20/
CATEGORIES:Maple North
END:VEVENT
END:VCALENDAR