BEGIN:VCALENDAR
VERSION:2.0
PRODID:-//Salem Home - ECPv6.15.20//NONSGML v1.0//EN
CALSCALE:GREGORIAN
METHOD:PUBLISH
X-ORIGINAL-URL:https://www.salemhome.ca
X-WR-CALDESC:Events for Salem Home
REFRESH-INTERVAL;VALUE=DURATION:PT1H
X-Robots-Tag:noindex
X-PUBLISHED-TTL:PT1H
BEGIN:VTIMEZONE
TZID:America/Winnipeg
BEGIN:DAYLIGHT
TZOFFSETFROM:-0600
TZOFFSETTO:-0500
TZNAME:CDT
DTSTART:20230312T080000
END:DAYLIGHT
BEGIN:STANDARD
TZOFFSETFROM:-0500
TZOFFSETTO:-0600
TZNAME:CST
DTSTART:20231105T070000
END:STANDARD
BEGIN:DAYLIGHT
TZOFFSETFROM:-0600
TZOFFSETTO:-0500
TZNAME:CDT
DTSTART:20240310T080000
END:DAYLIGHT
BEGIN:STANDARD
TZOFFSETFROM:-0500
TZOFFSETTO:-0600
TZNAME:CST
DTSTART:20241103T070000
END:STANDARD
BEGIN:DAYLIGHT
TZOFFSETFROM:-0600
TZOFFSETTO:-0500
TZNAME:CDT
DTSTART:20250309T080000
END:DAYLIGHT
BEGIN:STANDARD
TZOFFSETFROM:-0500
TZOFFSETTO:-0600
TZNAME:CST
DTSTART:20251102T070000
END:STANDARD
END:VTIMEZONE
BEGIN:VEVENT
DTSTART;TZID=America/Winnipeg:20240826T100000
DTEND;TZID=America/Winnipeg:20240826T110000
DTSTAMP:20260424T055958
CREATED:20240428T070123Z
LAST-MODIFIED:20240825T234510Z
UID:40034-1724666400-1724670000@www.salemhome.ca
SUMMARY:Men's Coffee
DESCRIPTION:
URL:https://www.salemhome.ca/event/mens-coffee-123/
CATEGORIES:Maple North
END:VEVENT
BEGIN:VEVENT
DTSTART;TZID=America/Winnipeg:20240826T100000
DTEND;TZID=America/Winnipeg:20240826T110000
DTSTAMP:20260424T055958
CREATED:20240731T221519Z
LAST-MODIFIED:20240825T234510Z
UID:43310-1724666400-1724670000@www.salemhome.ca
SUMMARY:Bingo
DESCRIPTION:
URL:https://www.salemhome.ca/event/bingo-565/
CATEGORIES:Maple North
END:VEVENT
BEGIN:VEVENT
DTSTART;TZID=America/Winnipeg:20240826T144500
DTEND;TZID=America/Winnipeg:20240826T154500
DTSTAMP:20260424T055958
CREATED:20240311T234528Z
LAST-MODIFIED:20240825T234510Z
UID:38330-1724683500-1724687100@www.salemhome.ca
SUMMARY:Men's Group
DESCRIPTION:Located on Evergreen\, residents from all care areas welcome.
URL:https://www.salemhome.ca/event/mens-group-413/
CATEGORIES:Maple North
END:VEVENT
BEGIN:VEVENT
DTSTART;TZID=America/Winnipeg:20240826T150000
DTEND;TZID=America/Winnipeg:20240826T160000
DTSTAMP:20260424T055958
CREATED:20240731T221519Z
LAST-MODIFIED:20240825T234510Z
UID:43311-1724684400-1724688000@www.salemhome.ca
SUMMARY:Patio Hymn Sing
DESCRIPTION:
URL:https://www.salemhome.ca/event/patio-hymn-sing-8/
CATEGORIES:Maple North
END:VEVENT
END:VCALENDAR