BEGIN:VCALENDAR
VERSION:2.0
PRODID:-//Salem Home - ECPv6.15.20//NONSGML v1.0//EN
CALSCALE:GREGORIAN
METHOD:PUBLISH
X-WR-CALNAME:Salem Home
X-ORIGINAL-URL:https://www.salemhome.ca
X-WR-CALDESC:Events for Salem Home
REFRESH-INTERVAL;VALUE=DURATION:PT1H
X-Robots-Tag:noindex
X-PUBLISHED-TTL:PT1H
BEGIN:VTIMEZONE
TZID:America/Winnipeg
BEGIN:DAYLIGHT
TZOFFSETFROM:-0600
TZOFFSETTO:-0500
TZNAME:CDT
DTSTART:20230312T080000
END:DAYLIGHT
BEGIN:STANDARD
TZOFFSETFROM:-0500
TZOFFSETTO:-0600
TZNAME:CST
DTSTART:20231105T070000
END:STANDARD
BEGIN:DAYLIGHT
TZOFFSETFROM:-0600
TZOFFSETTO:-0500
TZNAME:CDT
DTSTART:20240310T080000
END:DAYLIGHT
BEGIN:STANDARD
TZOFFSETFROM:-0500
TZOFFSETTO:-0600
TZNAME:CST
DTSTART:20241103T070000
END:STANDARD
BEGIN:DAYLIGHT
TZOFFSETFROM:-0600
TZOFFSETTO:-0500
TZNAME:CDT
DTSTART:20250309T080000
END:DAYLIGHT
BEGIN:STANDARD
TZOFFSETFROM:-0500
TZOFFSETTO:-0600
TZNAME:CST
DTSTART:20251102T070000
END:STANDARD
END:VTIMEZONE
BEGIN:VEVENT
DTSTART;VALUE=DATE:20240830
DTEND;VALUE=DATE:20240831
DTSTAMP:20260421T234446
CREATED:20240313T234528Z
LAST-MODIFIED:20240830T043032Z
UID:38379-1724976000-1725062399@www.salemhome.ca
SUMMARY:Independent Leisure
DESCRIPTION:
URL:https://www.salemhome.ca/event/independent-leisure-36/
CATEGORIES:Maple North
END:VEVENT
BEGIN:VEVENT
DTSTART;TZID=America/Winnipeg:20240830T100000
DTEND;TZID=America/Winnipeg:20240830T110000
DTSTAMP:20260421T234446
CREATED:20240515T074528Z
LAST-MODIFIED:20240830T043032Z
UID:40574-1725012000-1725015600@www.salemhome.ca
SUMMARY:Men's Coffee
DESCRIPTION:
URL:https://www.salemhome.ca/event/mens-coffee-126/
CATEGORIES:Maple North
END:VEVENT
BEGIN:VEVENT
DTSTART;TZID=America/Winnipeg:20240830T150000
DTEND;TZID=America/Winnipeg:20240830T160000
DTSTAMP:20260421T234446
CREATED:20230810T154700Z
LAST-MODIFIED:20240627T183027Z
UID:30048-1725030000-1725033600@www.salemhome.ca
SUMMARY:Birthday Party
DESCRIPTION:
URL:https://www.salemhome.ca/event/birthday-party-30/
CATEGORIES:Maple North
END:VEVENT
BEGIN:VEVENT
DTSTART;TZID=America/Winnipeg:20240830T150000
DTEND;TZID=America/Winnipeg:20240830T160000
DTSTAMP:20260421T234446
CREATED:20240718T213020Z
LAST-MODIFIED:20240830T043032Z
UID:42805-1725030000-1725033600@www.salemhome.ca
SUMMARY:Birthday Party with Bethel Bergthaler Church
DESCRIPTION:
URL:https://www.salemhome.ca/event/birthday-party-with-bethel-bergthaler-church-3/
CATEGORIES:Maple North
END:VEVENT
END:VCALENDAR