BEGIN:VCALENDAR
VERSION:2.0
PRODID:-//Salem Home - ECPv6.15.20//NONSGML v1.0//EN
CALSCALE:GREGORIAN
METHOD:PUBLISH
X-WR-CALNAME:Salem Home
X-ORIGINAL-URL:https://www.salemhome.ca
X-WR-CALDESC:Events for Salem Home
REFRESH-INTERVAL;VALUE=DURATION:PT1H
X-Robots-Tag:noindex
X-PUBLISHED-TTL:PT1H
BEGIN:VTIMEZONE
TZID:America/Winnipeg
BEGIN:DAYLIGHT
TZOFFSETFROM:-0600
TZOFFSETTO:-0500
TZNAME:CDT
DTSTART:20230312T080000
END:DAYLIGHT
BEGIN:STANDARD
TZOFFSETFROM:-0500
TZOFFSETTO:-0600
TZNAME:CST
DTSTART:20231105T070000
END:STANDARD
BEGIN:DAYLIGHT
TZOFFSETFROM:-0600
TZOFFSETTO:-0500
TZNAME:CDT
DTSTART:20240310T080000
END:DAYLIGHT
BEGIN:STANDARD
TZOFFSETFROM:-0500
TZOFFSETTO:-0600
TZNAME:CST
DTSTART:20241103T070000
END:STANDARD
BEGIN:DAYLIGHT
TZOFFSETFROM:-0600
TZOFFSETTO:-0500
TZNAME:CDT
DTSTART:20250309T080000
END:DAYLIGHT
BEGIN:STANDARD
TZOFFSETFROM:-0500
TZOFFSETTO:-0600
TZNAME:CST
DTSTART:20251102T070000
END:STANDARD
END:VTIMEZONE
BEGIN:VEVENT
DTSTART;TZID=America/Winnipeg:20241106T100000
DTEND;TZID=America/Winnipeg:20241106T110000
DTSTAMP:20260424T194051
CREATED:20240722T220023Z
LAST-MODIFIED:20241106T080026Z
UID:42970-1730887200-1730890800@www.salemhome.ca
SUMMARY:Men's Coffee
DESCRIPTION:
URL:https://www.salemhome.ca/event/mens-coffee-165/
CATEGORIES:Maple North
END:VEVENT
BEGIN:VEVENT
DTSTART;TZID=America/Winnipeg:20241106T143000
DTEND;TZID=America/Winnipeg:20241106T153000
DTSTAMP:20260424T194051
CREATED:20241030T073013Z
LAST-MODIFIED:20241106T080026Z
UID:46348-1730903400-1730907000@www.salemhome.ca
SUMMARY:Visit With Flyers
DESCRIPTION:
URL:https://www.salemhome.ca/event/visit-with-flyers/
CATEGORIES:Maple North
END:VEVENT
BEGIN:VEVENT
DTSTART;TZID=America/Winnipeg:20241106T144500
DTEND;TZID=America/Winnipeg:20241106T154500
DTSTAMP:20260424T194051
CREATED:20240801T223024Z
LAST-MODIFIED:20241106T080026Z
UID:43421-1730904300-1730907900@www.salemhome.ca
SUMMARY:Men's Group
DESCRIPTION:Located on Maple North. Residents from all care areas are welcome to attend.
URL:https://www.salemhome.ca/event/mens-group-527/
CATEGORIES:Maple North
END:VEVENT
BEGIN:VEVENT
DTSTART;TZID=America/Winnipeg:20241106T183000
DTEND;TZID=America/Winnipeg:20241106T193000
DTSTAMP:20260424T194051
CREATED:20241030T073013Z
LAST-MODIFIED:20241106T080026Z
UID:46349-1730917800-1730921400@www.salemhome.ca
SUMMARY:K & Friends
DESCRIPTION:
URL:https://www.salemhome.ca/event/k-friends-41/
CATEGORIES:Maple North
END:VEVENT
END:VCALENDAR