BEGIN:VCALENDAR
VERSION:2.0
PRODID:-//Salem Home - ECPv6.15.20//NONSGML v1.0//EN
CALSCALE:GREGORIAN
METHOD:PUBLISH
X-ORIGINAL-URL:https://www.salemhome.ca
X-WR-CALDESC:Events for Salem Home
REFRESH-INTERVAL;VALUE=DURATION:PT1H
X-Robots-Tag:noindex
X-PUBLISHED-TTL:PT1H
BEGIN:VTIMEZONE
TZID:America/Winnipeg
BEGIN:DAYLIGHT
TZOFFSETFROM:-0600
TZOFFSETTO:-0500
TZNAME:CDT
DTSTART:20230312T080000
END:DAYLIGHT
BEGIN:STANDARD
TZOFFSETFROM:-0500
TZOFFSETTO:-0600
TZNAME:CST
DTSTART:20231105T070000
END:STANDARD
BEGIN:DAYLIGHT
TZOFFSETFROM:-0600
TZOFFSETTO:-0500
TZNAME:CDT
DTSTART:20240310T080000
END:DAYLIGHT
BEGIN:STANDARD
TZOFFSETFROM:-0500
TZOFFSETTO:-0600
TZNAME:CST
DTSTART:20241103T070000
END:STANDARD
BEGIN:DAYLIGHT
TZOFFSETFROM:-0600
TZOFFSETTO:-0500
TZNAME:CDT
DTSTART:20250309T080000
END:DAYLIGHT
BEGIN:STANDARD
TZOFFSETFROM:-0500
TZOFFSETTO:-0600
TZNAME:CST
DTSTART:20251102T070000
END:STANDARD
END:VTIMEZONE
BEGIN:VEVENT
DTSTART;VALUE=DATE:20241117
DTEND;VALUE=DATE:20241118
DTSTAMP:20260425T055808
CREATED:20240807T231533Z
LAST-MODIFIED:20241117T083012Z
UID:43485-1731801600-1731887999@www.salemhome.ca
SUMMARY:Day of Rest
DESCRIPTION:
URL:https://www.salemhome.ca/event/day-of-rest-179/
CATEGORIES:Maple North
END:VEVENT
BEGIN:VEVENT
DTSTART;TZID=America/Winnipeg:20241117T094500
DTEND;TZID=America/Winnipeg:20241117T104500
DTSTAMP:20260425T055808
CREATED:20241030T073016Z
LAST-MODIFIED:20241117T083012Z
UID:46360-1731836700-1731840300@www.salemhome.ca
SUMMARY:Chapel: Bethel Bergthaler
DESCRIPTION:
URL:https://www.salemhome.ca/event/chapel-bethel-bergthaler-8/
CATEGORIES:Maple North
END:VEVENT
BEGIN:VEVENT
DTSTART;TZID=America/Winnipeg:20241117T103000
DTEND;TZID=America/Winnipeg:20241117T113000
DTSTAMP:20260425T055808
CREATED:20241030T073016Z
LAST-MODIFIED:20241117T083012Z
UID:46361-1731839400-1731843000@www.salemhome.ca
SUMMARY:Hymn Sing with Dorothy Plett
DESCRIPTION:
URL:https://www.salemhome.ca/event/hymn-sing-with-dorothy-plett-8/
CATEGORIES:Maple North
END:VEVENT
END:VCALENDAR