BEGIN:VCALENDAR
VERSION:2.0
PRODID:-//Salem Home - ECPv6.15.20//NONSGML v1.0//EN
CALSCALE:GREGORIAN
METHOD:PUBLISH
X-ORIGINAL-URL:https://www.salemhome.ca
X-WR-CALDESC:Events for Salem Home
REFRESH-INTERVAL;VALUE=DURATION:PT1H
X-Robots-Tag:noindex
X-PUBLISHED-TTL:PT1H
BEGIN:VTIMEZONE
TZID:America/Winnipeg
BEGIN:DAYLIGHT
TZOFFSETFROM:-0600
TZOFFSETTO:-0500
TZNAME:CDT
DTSTART:20230312T080000
END:DAYLIGHT
BEGIN:STANDARD
TZOFFSETFROM:-0500
TZOFFSETTO:-0600
TZNAME:CST
DTSTART:20231105T070000
END:STANDARD
BEGIN:DAYLIGHT
TZOFFSETFROM:-0600
TZOFFSETTO:-0500
TZNAME:CDT
DTSTART:20240310T080000
END:DAYLIGHT
BEGIN:STANDARD
TZOFFSETFROM:-0500
TZOFFSETTO:-0600
TZNAME:CST
DTSTART:20241103T070000
END:STANDARD
BEGIN:DAYLIGHT
TZOFFSETFROM:-0600
TZOFFSETTO:-0500
TZNAME:CDT
DTSTART:20250309T080000
END:DAYLIGHT
BEGIN:STANDARD
TZOFFSETFROM:-0500
TZOFFSETTO:-0600
TZNAME:CST
DTSTART:20251102T070000
END:STANDARD
END:VTIMEZONE
BEGIN:VEVENT
DTSTART;TZID=America/Winnipeg:20241202T100000
DTEND;TZID=America/Winnipeg:20241202T110000
DTSTAMP:20260425T222414
CREATED:20240815T231534Z
LAST-MODIFIED:20241202T091528Z
UID:43669-1733133600-1733137200@www.salemhome.ca
SUMMARY:Men's Coffee
DESCRIPTION:
URL:https://www.salemhome.ca/event/mens-coffee-179/
CATEGORIES:Maple North
END:VEVENT
BEGIN:VEVENT
DTSTART;TZID=America/Winnipeg:20241202T100000
DTEND;TZID=America/Winnipeg:20241202T110000
DTSTAMP:20260425T222414
CREATED:20241129T090015Z
LAST-MODIFIED:20241202T091527Z
UID:47273-1733133600-1733137200@www.salemhome.ca
SUMMARY:Mental Aerobics
DESCRIPTION:
URL:https://www.salemhome.ca/event/mental-aerobics-41/
CATEGORIES:Maple North
END:VEVENT
BEGIN:VEVENT
DTSTART;TZID=America/Winnipeg:20241202T144500
DTEND;TZID=America/Winnipeg:20241202T154500
DTSTAMP:20260425T222414
CREATED:20240815T231535Z
LAST-MODIFIED:20241202T091528Z
UID:43670-1733150700-1733154300@www.salemhome.ca
SUMMARY:Men's Group
DESCRIPTION:Located on Evergreen\, residents from all care areas welcome.
URL:https://www.salemhome.ca/event/mens-group-541/
CATEGORIES:Maple North
END:VEVENT
BEGIN:VEVENT
DTSTART;TZID=America/Winnipeg:20241202T150000
DTEND;TZID=America/Winnipeg:20241202T160000
DTSTAMP:20260425T222414
CREATED:20241129T090015Z
LAST-MODIFIED:20241202T091528Z
UID:47274-1733151600-1733155200@www.salemhome.ca
SUMMARY:Crokinole
DESCRIPTION:
URL:https://www.salemhome.ca/event/crokinole-34/
CATEGORIES:Maple North
END:VEVENT
BEGIN:VEVENT
DTSTART;TZID=America/Winnipeg:20241202T183000
DTEND;TZID=America/Winnipeg:20241202T193000
DTSTAMP:20260425T222414
CREATED:20241129T090015Z
LAST-MODIFIED:20241202T091528Z
UID:47275-1733164200-1733167800@www.salemhome.ca
SUMMARY:MB Jr. Youth
DESCRIPTION:
URL:https://www.salemhome.ca/event/mb-jr-youth-2/
CATEGORIES:Maple North
END:VEVENT
END:VCALENDAR