BEGIN:VCALENDAR
VERSION:2.0
PRODID:-//Salem Home - ECPv6.15.20//NONSGML v1.0//EN
CALSCALE:GREGORIAN
METHOD:PUBLISH
X-ORIGINAL-URL:https://www.salemhome.ca
X-WR-CALDESC:Events for Salem Home
REFRESH-INTERVAL;VALUE=DURATION:PT1H
X-Robots-Tag:noindex
X-PUBLISHED-TTL:PT1H
BEGIN:VTIMEZONE
TZID:America/Winnipeg
BEGIN:DAYLIGHT
TZOFFSETFROM:-0600
TZOFFSETTO:-0500
TZNAME:CDT
DTSTART:20230312T080000
END:DAYLIGHT
BEGIN:STANDARD
TZOFFSETFROM:-0500
TZOFFSETTO:-0600
TZNAME:CST
DTSTART:20231105T070000
END:STANDARD
BEGIN:DAYLIGHT
TZOFFSETFROM:-0600
TZOFFSETTO:-0500
TZNAME:CDT
DTSTART:20240310T080000
END:DAYLIGHT
BEGIN:STANDARD
TZOFFSETFROM:-0500
TZOFFSETTO:-0600
TZNAME:CST
DTSTART:20241103T070000
END:STANDARD
BEGIN:DAYLIGHT
TZOFFSETFROM:-0600
TZOFFSETTO:-0500
TZNAME:CDT
DTSTART:20250309T080000
END:DAYLIGHT
BEGIN:STANDARD
TZOFFSETFROM:-0500
TZOFFSETTO:-0600
TZNAME:CST
DTSTART:20251102T070000
END:STANDARD
END:VTIMEZONE
BEGIN:VEVENT
DTSTART;TZID=America/Winnipeg:20241231T100000
DTEND;TZID=America/Winnipeg:20241231T103000
DTSTAMP:20260421T234604
CREATED:20230205T032657Z
LAST-MODIFIED:20230205T032657Z
UID:23387-1735639200-1735641000@www.salemhome.ca
SUMMARY:Chapel
DESCRIPTION:
URL:https://www.salemhome.ca/event/chapel-287/
CATEGORIES:Maple North
END:VEVENT
BEGIN:VEVENT
DTSTART;TZID=America/Winnipeg:20241231T100000
DTEND;TZID=America/Winnipeg:20241231T103000
DTSTAMP:20260421T234604
CREATED:20230927T230042Z
LAST-MODIFIED:20241231T101510Z
UID:31319-1735639200-1735641000@www.salemhome.ca
SUMMARY:Chapel
DESCRIPTION:
URL:https://www.salemhome.ca/event/chapel-540/
CATEGORIES:Maple North
END:VEVENT
BEGIN:VEVENT
DTSTART;TZID=America/Winnipeg:20241231T100000
DTEND;TZID=America/Winnipeg:20241231T110000
DTSTAMP:20260421T234604
CREATED:20240914T053021Z
LAST-MODIFIED:20241231T101510Z
UID:44661-1735639200-1735642800@www.salemhome.ca
SUMMARY:Men's Coffee
DESCRIPTION:
URL:https://www.salemhome.ca/event/mens-coffee-196/
CATEGORIES:Maple North
END:VEVENT
BEGIN:VEVENT
DTSTART;TZID=America/Winnipeg:20241231T103000
DTEND;TZID=America/Winnipeg:20241231T113000
DTSTAMP:20260421T234604
CREATED:20230205T032657Z
LAST-MODIFIED:20230205T032657Z
UID:23386-1735641000-1735644600@www.salemhome.ca
SUMMARY:One on One Visits
DESCRIPTION:
URL:https://www.salemhome.ca/event/one-on-one-visits-100/
CATEGORIES:Maple North
END:VEVENT
BEGIN:VEVENT
DTSTART;TZID=America/Winnipeg:20241231T150000
DTEND;TZID=America/Winnipeg:20241231T160000
DTSTAMP:20260421T234604
CREATED:20241129T090023Z
LAST-MODIFIED:20241231T101510Z
UID:47321-1735657200-1735660800@www.salemhome.ca
SUMMARY:Bingo
DESCRIPTION:
URL:https://www.salemhome.ca/event/bingo-676/
CATEGORIES:Maple North
END:VEVENT
END:VCALENDAR