BEGIN:VCALENDAR
VERSION:2.0
PRODID:-//Salem Home - ECPv6.15.20//NONSGML v1.0//EN
CALSCALE:GREGORIAN
METHOD:PUBLISH
X-ORIGINAL-URL:https://www.salemhome.ca
X-WR-CALDESC:Events for Salem Home
REFRESH-INTERVAL;VALUE=DURATION:PT1H
X-Robots-Tag:noindex
X-PUBLISHED-TTL:PT1H
BEGIN:VTIMEZONE
TZID:America/Winnipeg
BEGIN:DAYLIGHT
TZOFFSETFROM:-0600
TZOFFSETTO:-0500
TZNAME:CDT
DTSTART:20240310T080000
END:DAYLIGHT
BEGIN:STANDARD
TZOFFSETFROM:-0500
TZOFFSETTO:-0600
TZNAME:CST
DTSTART:20241103T070000
END:STANDARD
BEGIN:DAYLIGHT
TZOFFSETFROM:-0600
TZOFFSETTO:-0500
TZNAME:CDT
DTSTART:20250309T080000
END:DAYLIGHT
BEGIN:STANDARD
TZOFFSETFROM:-0500
TZOFFSETTO:-0600
TZNAME:CST
DTSTART:20251102T070000
END:STANDARD
BEGIN:DAYLIGHT
TZOFFSETFROM:-0600
TZOFFSETTO:-0500
TZNAME:CDT
DTSTART:20260308T080000
END:DAYLIGHT
BEGIN:STANDARD
TZOFFSETFROM:-0500
TZOFFSETTO:-0600
TZNAME:CST
DTSTART:20261101T070000
END:STANDARD
END:VTIMEZONE
BEGIN:VEVENT
DTSTART;TZID=America/Winnipeg:20250108T100000
DTEND;TZID=America/Winnipeg:20250108T110000
DTSTAMP:20260421T234535
CREATED:20240919T053023Z
LAST-MODIFIED:20250108T101526Z
UID:44823-1736330400-1736334000@www.salemhome.ca
SUMMARY:Men's Coffee
DESCRIPTION:
URL:https://www.salemhome.ca/event/mens-coffee-201/
CATEGORIES:Maple North
END:VEVENT
BEGIN:VEVENT
DTSTART;TZID=America/Winnipeg:20250108T100000
DTEND;TZID=America/Winnipeg:20250108T113000
DTSTAMP:20260421T234535
CREATED:20231117T051524Z
LAST-MODIFIED:20250108T101526Z
UID:33639-1736330400-1736335800@www.salemhome.ca
SUMMARY:Stroke Recovery Support Group (Oma's)
DESCRIPTION:This is for residents only.
URL:https://www.salemhome.ca/event/stroke-recovery-support-group-omas-36/
CATEGORIES:Maple North
END:VEVENT
BEGIN:VEVENT
DTSTART;TZID=America/Winnipeg:20250108T144500
DTEND;TZID=America/Winnipeg:20250108T154500
DTSTAMP:20260421T234535
CREATED:20240919T053023Z
LAST-MODIFIED:20250108T101526Z
UID:44824-1736347500-1736351100@www.salemhome.ca
SUMMARY:Men's Group
DESCRIPTION:Located on Maple North. Residents from all care areas are welcome to attend.
URL:https://www.salemhome.ca/event/mens-group-588/
CATEGORIES:Maple North
END:VEVENT
BEGIN:VEVENT
DTSTART;TZID=America/Winnipeg:20250108T150000
DTEND;TZID=America/Winnipeg:20250108T160000
DTSTAMP:20260421T234535
CREATED:20250103T101514Z
LAST-MODIFIED:20250108T101526Z
UID:48438-1736348400-1736352000@www.salemhome.ca
SUMMARY:Sewing
DESCRIPTION:
URL:https://www.salemhome.ca/event/sewing-4/
CATEGORIES:Maple North
END:VEVENT
END:VCALENDAR