BEGIN:VCALENDAR
VERSION:2.0
PRODID:-//Salem Home - ECPv6.15.20//NONSGML v1.0//EN
CALSCALE:GREGORIAN
METHOD:PUBLISH
X-WR-CALNAME:Salem Home
X-ORIGINAL-URL:https://www.salemhome.ca
X-WR-CALDESC:Events for Salem Home
REFRESH-INTERVAL;VALUE=DURATION:PT1H
X-Robots-Tag:noindex
X-PUBLISHED-TTL:PT1H
BEGIN:VTIMEZONE
TZID:America/Winnipeg
BEGIN:DAYLIGHT
TZOFFSETFROM:-0600
TZOFFSETTO:-0500
TZNAME:CDT
DTSTART:20240310T080000
END:DAYLIGHT
BEGIN:STANDARD
TZOFFSETFROM:-0500
TZOFFSETTO:-0600
TZNAME:CST
DTSTART:20241103T070000
END:STANDARD
BEGIN:DAYLIGHT
TZOFFSETFROM:-0600
TZOFFSETTO:-0500
TZNAME:CDT
DTSTART:20250309T080000
END:DAYLIGHT
BEGIN:STANDARD
TZOFFSETFROM:-0500
TZOFFSETTO:-0600
TZNAME:CST
DTSTART:20251102T070000
END:STANDARD
BEGIN:DAYLIGHT
TZOFFSETFROM:-0600
TZOFFSETTO:-0500
TZNAME:CDT
DTSTART:20260308T080000
END:DAYLIGHT
BEGIN:STANDARD
TZOFFSETFROM:-0500
TZOFFSETTO:-0600
TZNAME:CST
DTSTART:20261101T070000
END:STANDARD
END:VTIMEZONE
BEGIN:VEVENT
DTSTART;TZID=America/Winnipeg:20250109T094500
DTEND;TZID=America/Winnipeg:20250109T104500
DTSTAMP:20260424T071742
CREATED:20250103T101514Z
LAST-MODIFIED:20250109T101510Z
UID:48439-1736415900-1736419500@www.salemhome.ca
SUMMARY:Chapel: Old Colony
DESCRIPTION:
URL:https://www.salemhome.ca/event/chapel-old-colony-27/
CATEGORIES:Maple North
END:VEVENT
BEGIN:VEVENT
DTSTART;TZID=America/Winnipeg:20250109T101500
DTEND;TZID=America/Winnipeg:20250109T111500
DTSTAMP:20260424T071742
CREATED:20230929T230123Z
LAST-MODIFIED:20250109T101510Z
UID:31549-1736417700-1736421300@www.salemhome.ca
SUMMARY:Hymn Sing
DESCRIPTION:
URL:https://www.salemhome.ca/event/hymn-sing-443/
CATEGORIES:Maple North
END:VEVENT
BEGIN:VEVENT
DTSTART;TZID=America/Winnipeg:20250109T150000
DTEND;TZID=America/Winnipeg:20250109T160000
DTSTAMP:20260424T071742
CREATED:20250103T101514Z
LAST-MODIFIED:20250109T101510Z
UID:48440-1736434800-1736438400@www.salemhome.ca
SUMMARY:HR Games
DESCRIPTION:
URL:https://www.salemhome.ca/event/hr-games/
CATEGORIES:Maple North
END:VEVENT
BEGIN:VEVENT
DTSTART;TZID=America/Winnipeg:20250109T190000
DTEND;TZID=America/Winnipeg:20250109T200000
DTSTAMP:20260424T071742
CREATED:20250103T101514Z
LAST-MODIFIED:20250109T101510Z
UID:48441-1736449200-1736452800@www.salemhome.ca
SUMMARY:Horndean Youth Choir
DESCRIPTION:
URL:https://www.salemhome.ca/event/horndean-youth-choir-5/
CATEGORIES:Maple North
END:VEVENT
END:VCALENDAR