BEGIN:VCALENDAR
VERSION:2.0
PRODID:-//Salem Home - ECPv6.15.20//NONSGML v1.0//EN
CALSCALE:GREGORIAN
METHOD:PUBLISH
X-WR-CALNAME:Salem Home
X-ORIGINAL-URL:https://www.salemhome.ca
X-WR-CALDESC:Events for Salem Home
REFRESH-INTERVAL;VALUE=DURATION:PT1H
X-Robots-Tag:noindex
X-PUBLISHED-TTL:PT1H
BEGIN:VTIMEZONE
TZID:America/Winnipeg
BEGIN:DAYLIGHT
TZOFFSETFROM:-0600
TZOFFSETTO:-0500
TZNAME:CDT
DTSTART:20240310T080000
END:DAYLIGHT
BEGIN:STANDARD
TZOFFSETFROM:-0500
TZOFFSETTO:-0600
TZNAME:CST
DTSTART:20241103T070000
END:STANDARD
BEGIN:DAYLIGHT
TZOFFSETFROM:-0600
TZOFFSETTO:-0500
TZNAME:CDT
DTSTART:20250309T080000
END:DAYLIGHT
BEGIN:STANDARD
TZOFFSETFROM:-0500
TZOFFSETTO:-0600
TZNAME:CST
DTSTART:20251102T070000
END:STANDARD
BEGIN:DAYLIGHT
TZOFFSETFROM:-0600
TZOFFSETTO:-0500
TZNAME:CDT
DTSTART:20260308T080000
END:DAYLIGHT
BEGIN:STANDARD
TZOFFSETFROM:-0500
TZOFFSETTO:-0600
TZNAME:CST
DTSTART:20261101T070000
END:STANDARD
END:VTIMEZONE
BEGIN:VEVENT
DTSTART;TZID=America/Winnipeg:20250123T094500
DTEND;TZID=America/Winnipeg:20250123T104500
DTSTAMP:20260424T042801
CREATED:20250103T101517Z
LAST-MODIFIED:20250123T101508Z
UID:48461-1737625500-1737629100@www.salemhome.ca
SUMMARY:Chapel: Winkler MB Church
DESCRIPTION:
URL:https://www.salemhome.ca/event/chapel-winkler-mb-church-39/
CATEGORIES:Maple North
END:VEVENT
BEGIN:VEVENT
DTSTART;TZID=America/Winnipeg:20250123T101500
DTEND;TZID=America/Winnipeg:20250123T111500
DTSTAMP:20260424T042801
CREATED:20231005T231621Z
LAST-MODIFIED:20250123T101509Z
UID:31646-1737627300-1737630900@www.salemhome.ca
SUMMARY:Hymn Sing
DESCRIPTION:
URL:https://www.salemhome.ca/event/hymn-sing-446/
CATEGORIES:Maple North
END:VEVENT
BEGIN:VEVENT
DTSTART;TZID=America/Winnipeg:20250123T150000
DTEND;TZID=America/Winnipeg:20250123T160000
DTSTAMP:20260424T042801
CREATED:20250103T101517Z
LAST-MODIFIED:20250123T101509Z
UID:48462-1737644400-1737648000@www.salemhome.ca
SUMMARY:HR Games
DESCRIPTION:
URL:https://www.salemhome.ca/event/hr-games-3/
CATEGORIES:Maple North
END:VEVENT
BEGIN:VEVENT
DTSTART;TZID=America/Winnipeg:20250123T183000
DTEND;TZID=America/Winnipeg:20250123T193000
DTSTAMP:20260424T042801
CREATED:20240926T054528Z
LAST-MODIFIED:20250123T101509Z
UID:45220-1737657000-1737660600@www.salemhome.ca
SUMMARY:Sommerfeld Choir
DESCRIPTION:
URL:https://www.salemhome.ca/event/sommerfeld-choir-49/
CATEGORIES:Maple North
END:VEVENT
END:VCALENDAR