BEGIN:VCALENDAR
VERSION:2.0
PRODID:-//Salem Home - ECPv6.15.20//NONSGML v1.0//EN
CALSCALE:GREGORIAN
METHOD:PUBLISH
X-ORIGINAL-URL:https://www.salemhome.ca
X-WR-CALDESC:Events for Salem Home
REFRESH-INTERVAL;VALUE=DURATION:PT1H
X-Robots-Tag:noindex
X-PUBLISHED-TTL:PT1H
BEGIN:VTIMEZONE
TZID:America/Winnipeg
BEGIN:DAYLIGHT
TZOFFSETFROM:-0600
TZOFFSETTO:-0500
TZNAME:CDT
DTSTART:20240310T080000
END:DAYLIGHT
BEGIN:STANDARD
TZOFFSETFROM:-0500
TZOFFSETTO:-0600
TZNAME:CST
DTSTART:20241103T070000
END:STANDARD
BEGIN:DAYLIGHT
TZOFFSETFROM:-0600
TZOFFSETTO:-0500
TZNAME:CDT
DTSTART:20250309T080000
END:DAYLIGHT
BEGIN:STANDARD
TZOFFSETFROM:-0500
TZOFFSETTO:-0600
TZNAME:CST
DTSTART:20251102T070000
END:STANDARD
BEGIN:DAYLIGHT
TZOFFSETFROM:-0600
TZOFFSETTO:-0500
TZNAME:CDT
DTSTART:20260308T080000
END:DAYLIGHT
BEGIN:STANDARD
TZOFFSETFROM:-0500
TZOFFSETTO:-0600
TZNAME:CST
DTSTART:20261101T070000
END:STANDARD
END:VTIMEZONE
BEGIN:VEVENT
DTSTART;TZID=America/Winnipeg:20250128T100000
DTEND;TZID=America/Winnipeg:20250128T103000
DTSTAMP:20260423T115036
CREATED:20231010T231529Z
LAST-MODIFIED:20250128T103013Z
UID:31696-1738058400-1738060200@www.salemhome.ca
SUMMARY:Chapel
DESCRIPTION:
URL:https://www.salemhome.ca/event/chapel-548/
CATEGORIES:Maple North
END:VEVENT
BEGIN:VEVENT
DTSTART;TZID=America/Winnipeg:20250128T100000
DTEND;TZID=America/Winnipeg:20250128T110000
DTSTAMP:20260423T115036
CREATED:20241012T064526Z
LAST-MODIFIED:20250128T103013Z
UID:45663-1738058400-1738062000@www.salemhome.ca
SUMMARY:Men's Coffee
DESCRIPTION:
URL:https://www.salemhome.ca/event/mens-coffee-212/
CATEGORIES:Maple North
END:VEVENT
BEGIN:VEVENT
DTSTART;TZID=America/Winnipeg:20250128T150000
DTEND;TZID=America/Winnipeg:20250128T160000
DTSTAMP:20260423T115036
CREATED:20250103T101519Z
LAST-MODIFIED:20250128T103013Z
UID:48468-1738076400-1738080000@www.salemhome.ca
SUMMARY:Manicures
DESCRIPTION:
URL:https://www.salemhome.ca/event/manicures-42/
CATEGORIES:Maple North
END:VEVENT
BEGIN:VEVENT
DTSTART;TZID=America/Winnipeg:20250128T190000
DTEND;TZID=America/Winnipeg:20250128T200000
DTSTAMP:20260423T115036
CREATED:20241012T064526Z
LAST-MODIFIED:20250102T101530Z
UID:45664-1738090800-1738094400@www.salemhome.ca
SUMMARY:Melanie & Friends
DESCRIPTION:
URL:https://www.salemhome.ca/event/melanie-friends-72/
CATEGORIES:Maple North
END:VEVENT
END:VCALENDAR