BEGIN:VCALENDAR
VERSION:2.0
PRODID:-//Salem Home - ECPv6.15.20//NONSGML v1.0//EN
CALSCALE:GREGORIAN
METHOD:PUBLISH
X-ORIGINAL-URL:https://www.salemhome.ca
X-WR-CALDESC:Events for Salem Home
REFRESH-INTERVAL;VALUE=DURATION:PT1H
X-Robots-Tag:noindex
X-PUBLISHED-TTL:PT1H
BEGIN:VTIMEZONE
TZID:America/Winnipeg
BEGIN:DAYLIGHT
TZOFFSETFROM:-0600
TZOFFSETTO:-0500
TZNAME:CDT
DTSTART:20240310T080000
END:DAYLIGHT
BEGIN:STANDARD
TZOFFSETFROM:-0500
TZOFFSETTO:-0600
TZNAME:CST
DTSTART:20241103T070000
END:STANDARD
BEGIN:DAYLIGHT
TZOFFSETFROM:-0600
TZOFFSETTO:-0500
TZNAME:CDT
DTSTART:20250309T080000
END:DAYLIGHT
BEGIN:STANDARD
TZOFFSETFROM:-0500
TZOFFSETTO:-0600
TZNAME:CST
DTSTART:20251102T070000
END:STANDARD
BEGIN:DAYLIGHT
TZOFFSETFROM:-0600
TZOFFSETTO:-0500
TZNAME:CDT
DTSTART:20260308T080000
END:DAYLIGHT
BEGIN:STANDARD
TZOFFSETFROM:-0500
TZOFFSETTO:-0600
TZNAME:CST
DTSTART:20261101T070000
END:STANDARD
BEGIN:DAYLIGHT
TZOFFSETFROM:-0600
TZOFFSETTO:-0500
TZNAME:CDT
DTSTART:20270314T080000
END:DAYLIGHT
BEGIN:STANDARD
TZOFFSETFROM:-0500
TZOFFSETTO:-0600
TZNAME:CST
DTSTART:20271107T070000
END:STANDARD
END:VTIMEZONE
BEGIN:VEVENT
DTSTART;TZID=America/Winnipeg:20260106T150000
DTEND;TZID=America/Winnipeg:20260106T160000
DTSTAMP:20260424T100525
CREATED:20251230T210056Z
LAST-MODIFIED:20260104T214539Z
UID:61134-1767711600-1767715200@www.salemhome.ca
SUMMARY:Craft
DESCRIPTION:
URL:https://www.salemhome.ca/event/craft-13/
CATEGORIES:Maple North
END:VEVENT
BEGIN:VEVENT
DTSTART;TZID=America/Winnipeg:20260106T100000
DTEND;TZID=America/Winnipeg:20260106T110000
DTSTAMP:20260424T100525
CREATED:20250919T235929Z
LAST-MODIFIED:20260104T214539Z
UID:57873-1767693600-1767697200@www.salemhome.ca
SUMMARY:Men's Coffee
DESCRIPTION:
URL:https://www.salemhome.ca/event/mens-coffee-572/
CATEGORIES:Maple North
END:VEVENT
BEGIN:VEVENT
DTSTART;TZID=America/Winnipeg:20260106T100000
DTEND;TZID=America/Winnipeg:20260106T103000
DTSTAMP:20260424T100525
CREATED:20250919T235929Z
LAST-MODIFIED:20260104T214539Z
UID:57874-1767693600-1767695400@www.salemhome.ca
SUMMARY:Chapel in Grove
DESCRIPTION:
URL:https://www.salemhome.ca/event/chapel-in-grove-82/
CATEGORIES:Maple North
END:VEVENT
BEGIN:VEVENT
DTSTART;TZID=America/Winnipeg:20260105T180000
DTEND;TZID=America/Winnipeg:20260105T190000
DTSTAMP:20260424T100525
CREATED:20250918T235926Z
LAST-MODIFIED:20260104T214539Z
UID:57848-1767636000-1767639600@www.salemhome.ca
SUMMARY:Bingo
DESCRIPTION:
URL:https://www.salemhome.ca/event/bingo-1005/
CATEGORIES:Maple North
END:VEVENT
BEGIN:VEVENT
DTSTART;TZID=America/Winnipeg:20260105T150000
DTEND;TZID=America/Winnipeg:20260105T160000
DTSTAMP:20260424T100525
CREATED:20251230T210056Z
LAST-MODIFIED:20260104T214539Z
UID:61133-1767625200-1767628800@www.salemhome.ca
SUMMARY:Ladies Bible group
DESCRIPTION:
URL:https://www.salemhome.ca/event/ladies-bible-group/
CATEGORIES:Maple North
END:VEVENT
BEGIN:VEVENT
DTSTART;TZID=America/Winnipeg:20260105T144500
DTEND;TZID=America/Winnipeg:20260105T154500
DTSTAMP:20260424T100525
CREATED:20250918T235926Z
LAST-MODIFIED:20260104T214538Z
UID:57847-1767624300-1767627900@www.salemhome.ca
SUMMARY:Men's Group
DESCRIPTION:Located on Evergreen\, residents from all care areas welcome.
URL:https://www.salemhome.ca/event/mens-group-961/
CATEGORIES:Maple North
END:VEVENT
BEGIN:VEVENT
DTSTART;TZID=America/Winnipeg:20260105T100000
DTEND;TZID=America/Winnipeg:20260105T110000
DTSTAMP:20260424T100525
CREATED:20251230T210056Z
LAST-MODIFIED:20260104T214538Z
UID:61132-1767607200-1767610800@www.salemhome.ca
SUMMARY:Baking
DESCRIPTION:
URL:https://www.salemhome.ca/event/baking-181/
CATEGORIES:Maple North
END:VEVENT
BEGIN:VEVENT
DTSTART;TZID=America/Winnipeg:20260105T100000
DTEND;TZID=America/Winnipeg:20260105T110000
DTSTAMP:20260424T100525
CREATED:20250917T235930Z
LAST-MODIFIED:20260104T214538Z
UID:57826-1767607200-1767610800@www.salemhome.ca
SUMMARY:Men's Coffee
DESCRIPTION:
URL:https://www.salemhome.ca/event/mens-coffee-570/
CATEGORIES:Maple North
END:VEVENT
BEGIN:VEVENT
DTSTART;TZID=America/Winnipeg:20260104T180000
DTEND;TZID=America/Winnipeg:20260104T190000
DTSTAMP:20260424T100525
CREATED:20250917T235930Z
LAST-MODIFIED:20260104T214538Z
UID:57824-1767549600-1767553200@www.salemhome.ca
SUMMARY:Church of God in Christ Youth Group
DESCRIPTION:
URL:https://www.salemhome.ca/event/church-of-god-in-christ-youth-group-52/
CATEGORIES:Maple North
END:VEVENT
BEGIN:VEVENT
DTSTART;TZID=America/Winnipeg:20260104T094500
DTEND;TZID=America/Winnipeg:20260104T104500
DTSTAMP:20260424T100525
CREATED:20251212T062905Z
LAST-MODIFIED:20260103T214458Z
UID:60536-1767519900-1767523500@www.salemhome.ca
SUMMARY:Sommerfeld Mennonite Church
DESCRIPTION:
URL:https://www.salemhome.ca/event/sommerfeld-mennonite-church-5/
CATEGORIES:Maple North
END:VEVENT
BEGIN:VEVENT
DTSTART;VALUE=DATE:20260104
DTEND;VALUE=DATE:20260105
DTSTAMP:20260424T100525
CREATED:20250917T235930Z
LAST-MODIFIED:20260104T214538Z
UID:57825-1767484800-1767571199@www.salemhome.ca
SUMMARY:Day of Rest
DESCRIPTION:
URL:https://www.salemhome.ca/event/day-of-rest-409/
CATEGORIES:Maple North
END:VEVENT
BEGIN:VEVENT
DTSTART;TZID=America/Winnipeg:20260103T104500
DTEND;TZID=America/Winnipeg:20260103T114500
DTSTAMP:20260424T100525
CREATED:20251230T210055Z
LAST-MODIFIED:20260102T212956Z
UID:61131-1767437100-1767440700@www.salemhome.ca
SUMMARY:Giesbrecht Cousins C
DESCRIPTION:
URL:https://www.salemhome.ca/event/giesbrecht-cousins-c-2/
CATEGORIES:Maple North
END:VEVENT
BEGIN:VEVENT
DTSTART;TZID=America/Winnipeg:20260103T100000
DTEND;TZID=America/Winnipeg:20260103T110000
DTSTAMP:20260424T100525
CREATED:20250917T235929Z
LAST-MODIFIED:20260102T212956Z
UID:57823-1767434400-1767438000@www.salemhome.ca
SUMMARY:Bingo
DESCRIPTION:
URL:https://www.salemhome.ca/event/bingo-1004/
CATEGORIES:Maple North
END:VEVENT
BEGIN:VEVENT
DTSTART;TZID=America/Winnipeg:20260102T150000
DTEND;TZID=America/Winnipeg:20260102T160000
DTSTAMP:20260424T100525
CREATED:20251230T210055Z
LAST-MODIFIED:20260102T212956Z
UID:61130-1767366000-1767369600@www.salemhome.ca
SUMMARY:Stand and get Fit
DESCRIPTION:
URL:https://www.salemhome.ca/event/stand-and-get-fit/
CATEGORIES:Maple North
END:VEVENT
BEGIN:VEVENT
DTSTART;TZID=America/Winnipeg:20260102T150000
DTEND;TZID=America/Winnipeg:20260102T160000
DTSTAMP:20260424T100525
CREATED:20251128T062909Z
LAST-MODIFIED:20260102T212956Z
UID:60058-1767366000-1767369600@www.salemhome.ca
SUMMARY:Men's Coffee
DESCRIPTION:
URL:https://www.salemhome.ca/event/mens-coffee-650/
CATEGORIES:Maple North
END:VEVENT
BEGIN:VEVENT
DTSTART;TZID=America/Winnipeg:20260102T101500
DTEND;TZID=America/Winnipeg:20260102T111500
DTSTAMP:20260424T100525
CREATED:20251230T210054Z
LAST-MODIFIED:20260101T211458Z
UID:61129-1767348900-1767352500@www.salemhome.ca
SUMMARY:What's for Lunch
DESCRIPTION:
URL:https://www.salemhome.ca/event/whats-for-lunch-4/
CATEGORIES:Maple North
END:VEVENT
BEGIN:VEVENT
DTSTART;TZID=America/Winnipeg:20260102T100000
DTEND;TZID=America/Winnipeg:20260102T110000
DTSTAMP:20260424T100525
CREATED:20250917T235929Z
LAST-MODIFIED:20260101T211459Z
UID:57822-1767348000-1767351600@www.salemhome.ca
SUMMARY:Men's Coffee
DESCRIPTION:
URL:https://www.salemhome.ca/event/mens-coffee-569/
CATEGORIES:Maple North
END:VEVENT
BEGIN:VEVENT
DTSTART;TZID=America/Winnipeg:20260101T103000
DTEND;TZID=America/Winnipeg:20260101T113000
DTSTAMP:20260424T100525
CREATED:20251029T055928Z
LAST-MODIFIED:20251211T062905Z
UID:59225-1767263400-1767267000@www.salemhome.ca
SUMMARY:Hymn Sing
DESCRIPTION:
URL:https://www.salemhome.ca/event/hymn-sing-668/
CATEGORIES:Maple North
END:VEVENT
BEGIN:VEVENT
DTSTART;TZID=America/Winnipeg:20251231T144500
DTEND;TZID=America/Winnipeg:20251231T154500
DTSTAMP:20260424T100525
CREATED:20250916T235926Z
LAST-MODIFIED:20251231T205955Z
UID:57797-1767192300-1767195900@www.salemhome.ca
SUMMARY:Men's Coffee Shop
DESCRIPTION:
URL:https://www.salemhome.ca/event/mens-coffee-shop-1105/
CATEGORIES:Maple North
END:VEVENT
BEGIN:VEVENT
DTSTART;TZID=America/Winnipeg:20251231T100000
DTEND;TZID=America/Winnipeg:20251231T110000
DTSTAMP:20260424T100525
CREATED:20250916T235926Z
LAST-MODIFIED:20251230T210054Z
UID:57795-1767175200-1767178800@www.salemhome.ca
SUMMARY:Chapel in Garden
DESCRIPTION:
URL:https://www.salemhome.ca/event/chapel-in-garden-52/
CATEGORIES:Maple North
END:VEVENT
BEGIN:VEVENT
DTSTART;TZID=America/Winnipeg:20251231T100000
DTEND;TZID=America/Winnipeg:20251231T110000
DTSTAMP:20260424T100525
CREATED:20250916T235926Z
LAST-MODIFIED:20251230T210054Z
UID:57796-1767175200-1767178800@www.salemhome.ca
SUMMARY:Men's Coffee
DESCRIPTION:
URL:https://www.salemhome.ca/event/mens-coffee-567/
CATEGORIES:Maple North
END:VEVENT
BEGIN:VEVENT
DTSTART;TZID=America/Winnipeg:20251230T100000
DTEND;TZID=America/Winnipeg:20251230T110000
DTSTAMP:20260424T100525
CREATED:20250915T234428Z
LAST-MODIFIED:20251228T204456Z
UID:57772-1767088800-1767092400@www.salemhome.ca
SUMMARY:Men's Coffee
DESCRIPTION:
URL:https://www.salemhome.ca/event/mens-coffee-565/
CATEGORIES:Maple North
END:VEVENT
BEGIN:VEVENT
DTSTART;TZID=America/Winnipeg:20251230T100000
DTEND;TZID=America/Winnipeg:20251230T103000
DTSTAMP:20260424T100525
CREATED:20250916T235925Z
LAST-MODIFIED:20251228T204456Z
UID:57794-1767088800-1767090600@www.salemhome.ca
SUMMARY:Chapel in Grove
DESCRIPTION:
URL:https://www.salemhome.ca/event/chapel-in-grove-80/
CATEGORIES:Maple North
END:VEVENT
BEGIN:VEVENT
DTSTART;TZID=America/Winnipeg:20251229T180000
DTEND;TZID=America/Winnipeg:20251229T190000
DTSTAMP:20260424T100525
CREATED:20250915T234428Z
LAST-MODIFIED:20251228T204456Z
UID:57771-1767031200-1767034800@www.salemhome.ca
SUMMARY:Bingo
DESCRIPTION:
URL:https://www.salemhome.ca/event/bingo-1001/
CATEGORIES:Maple North
END:VEVENT
BEGIN:VEVENT
DTSTART;TZID=America/Winnipeg:20251229T144500
DTEND;TZID=America/Winnipeg:20251229T154500
DTSTAMP:20260424T100525
CREATED:20250915T234427Z
LAST-MODIFIED:20251228T204456Z
UID:57770-1767019500-1767023100@www.salemhome.ca
SUMMARY:Men's Group
DESCRIPTION:Located on Evergreen\, residents from all care areas welcome.
URL:https://www.salemhome.ca/event/mens-group-958/
CATEGORIES:Maple North
END:VEVENT
BEGIN:VEVENT
DTSTART;TZID=America/Winnipeg:20251229T100000
DTEND;TZID=America/Winnipeg:20251229T110000
DTSTAMP:20260424T100525
CREATED:20250915T234427Z
LAST-MODIFIED:20251228T204456Z
UID:57769-1767002400-1767006000@www.salemhome.ca
SUMMARY:Men's Coffee
DESCRIPTION:
URL:https://www.salemhome.ca/event/mens-coffee-564/
CATEGORIES:Maple North
END:VEVENT
BEGIN:VEVENT
DTSTART;VALUE=DATE:20251228
DTEND;VALUE=DATE:20251229
DTSTAMP:20260424T100525
CREATED:20250915T234427Z
LAST-MODIFIED:20251228T204456Z
UID:57768-1766880000-1766966399@www.salemhome.ca
SUMMARY:Day of Rest
DESCRIPTION:
URL:https://www.salemhome.ca/event/day-of-rest-406/
CATEGORIES:Maple North
END:VEVENT
BEGIN:VEVENT
DTSTART;TZID=America/Winnipeg:20251227T100000
DTEND;TZID=America/Winnipeg:20251227T110000
DTSTAMP:20260424T100525
CREATED:20250915T234427Z
LAST-MODIFIED:20251226T201618Z
UID:57767-1766829600-1766833200@www.salemhome.ca
SUMMARY:Bingo
DESCRIPTION:
URL:https://www.salemhome.ca/event/bingo-1000/
CATEGORIES:Maple North
END:VEVENT
BEGIN:VEVENT
DTSTART;TZID=America/Winnipeg:20251226T100000
DTEND;TZID=America/Winnipeg:20251226T110000
DTSTAMP:20260424T100525
CREATED:20250913T234427Z
LAST-MODIFIED:20251127T062909Z
UID:57743-1766743200-1766746800@www.salemhome.ca
SUMMARY:Men's Coffee
DESCRIPTION:
URL:https://www.salemhome.ca/event/mens-coffee-563/
CATEGORIES:Maple North
END:VEVENT
BEGIN:VEVENT
DTSTART;TZID=America/Winnipeg:20251225T183000
DTEND;TZID=America/Winnipeg:20251225T193000
DTSTAMP:20260424T100525
CREATED:20250912T234425Z
LAST-MODIFIED:20251127T062909Z
UID:57727-1766687400-1766691000@www.salemhome.ca
SUMMARY:Sommerfeld Choir
DESCRIPTION:
URL:https://www.salemhome.ca/event/sommerfeld-choir-83/
CATEGORIES:Maple North
END:VEVENT
END:VCALENDAR