BEGIN:VCALENDAR
VERSION:2.0
PRODID:-//Salem Home - ECPv6.15.20//NONSGML v1.0//EN
CALSCALE:GREGORIAN
METHOD:PUBLISH
X-WR-CALNAME:Salem Home
X-ORIGINAL-URL:https://www.salemhome.ca
X-WR-CALDESC:Events for Salem Home
REFRESH-INTERVAL;VALUE=DURATION:PT1H
X-Robots-Tag:noindex
X-PUBLISHED-TTL:PT1H
BEGIN:VTIMEZONE
TZID:America/Winnipeg
BEGIN:DAYLIGHT
TZOFFSETFROM:-0600
TZOFFSETTO:-0500
TZNAME:CDT
DTSTART:20220313T080000
END:DAYLIGHT
BEGIN:STANDARD
TZOFFSETFROM:-0500
TZOFFSETTO:-0600
TZNAME:CST
DTSTART:20221106T070000
END:STANDARD
BEGIN:DAYLIGHT
TZOFFSETFROM:-0600
TZOFFSETTO:-0500
TZNAME:CDT
DTSTART:20230312T080000
END:DAYLIGHT
BEGIN:STANDARD
TZOFFSETFROM:-0500
TZOFFSETTO:-0600
TZNAME:CST
DTSTART:20231105T070000
END:STANDARD
BEGIN:DAYLIGHT
TZOFFSETFROM:-0600
TZOFFSETTO:-0500
TZNAME:CDT
DTSTART:20240310T080000
END:DAYLIGHT
BEGIN:STANDARD
TZOFFSETFROM:-0500
TZOFFSETTO:-0600
TZNAME:CST
DTSTART:20241103T070000
END:STANDARD
END:VTIMEZONE
BEGIN:VEVENT
DTSTART;TZID=America/Winnipeg:20230518T094500
DTEND;TZID=America/Winnipeg:20230518T104500
DTSTAMP:20260421T160308
CREATED:20230428T224626Z
LAST-MODIFIED:20230517T234542Z
UID:26032-1684403100-1684406700@www.salemhome.ca
SUMMARY:Chapel: Reinland Mennonite
DESCRIPTION:
URL:https://www.salemhome.ca/event/chapel-reinland-mennonite-5/
CATEGORIES:Maple South
END:VEVENT
BEGIN:VEVENT
DTSTART;TZID=America/Winnipeg:20230518T100000
DTEND;TZID=America/Winnipeg:20230518T110000
DTSTAMP:20260421T160308
CREATED:20230131T220832Z
LAST-MODIFIED:20230327T221559Z
UID:22451-1684404000-1684407600@www.salemhome.ca
SUMMARY:Hymn Sing
DESCRIPTION:
URL:https://www.salemhome.ca/event/hymn-sing-128/
CATEGORIES:Maple South
END:VEVENT
BEGIN:VEVENT
DTSTART;TZID=America/Winnipeg:20230518T101500
DTEND;TZID=America/Winnipeg:20230518T111500
DTSTAMP:20260421T160308
CREATED:20230328T221531Z
LAST-MODIFIED:20230517T234542Z
UID:25109-1684404900-1684408500@www.salemhome.ca
SUMMARY:Hymn Sing
DESCRIPTION:
URL:https://www.salemhome.ca/event/hymn-sing-189/
CATEGORIES:Maple South
END:VEVENT
BEGIN:VEVENT
DTSTART;TZID=America/Winnipeg:20230518T150000
DTEND;TZID=America/Winnipeg:20230518T160000
DTSTAMP:20260421T160308
CREATED:20230428T224626Z
LAST-MODIFIED:20230517T234542Z
UID:26033-1684422000-1684425600@www.salemhome.ca
SUMMARY:Paint With Me
DESCRIPTION:
URL:https://www.salemhome.ca/event/paint-with-me-2/
CATEGORIES:Maple South
END:VEVENT
END:VCALENDAR