BEGIN:VCALENDAR
VERSION:2.0
PRODID:-//Salem Home - ECPv6.15.20//NONSGML v1.0//EN
CALSCALE:GREGORIAN
METHOD:PUBLISH
X-WR-CALNAME:Salem Home
X-ORIGINAL-URL:https://www.salemhome.ca
X-WR-CALDESC:Events for Salem Home
REFRESH-INTERVAL;VALUE=DURATION:PT1H
X-Robots-Tag:noindex
X-PUBLISHED-TTL:PT1H
BEGIN:VTIMEZONE
TZID:America/Winnipeg
BEGIN:DAYLIGHT
TZOFFSETFROM:-0600
TZOFFSETTO:-0500
TZNAME:CDT
DTSTART:20220313T080000
END:DAYLIGHT
BEGIN:STANDARD
TZOFFSETFROM:-0500
TZOFFSETTO:-0600
TZNAME:CST
DTSTART:20221106T070000
END:STANDARD
BEGIN:DAYLIGHT
TZOFFSETFROM:-0600
TZOFFSETTO:-0500
TZNAME:CDT
DTSTART:20230312T080000
END:DAYLIGHT
BEGIN:STANDARD
TZOFFSETFROM:-0500
TZOFFSETTO:-0600
TZNAME:CST
DTSTART:20231105T070000
END:STANDARD
BEGIN:DAYLIGHT
TZOFFSETFROM:-0600
TZOFFSETTO:-0500
TZNAME:CDT
DTSTART:20240310T080000
END:DAYLIGHT
BEGIN:STANDARD
TZOFFSETFROM:-0500
TZOFFSETTO:-0600
TZNAME:CST
DTSTART:20241103T070000
END:STANDARD
END:VTIMEZONE
BEGIN:VEVENT
DTSTART;TZID=America/Winnipeg:20230614T100000
DTEND;TZID=America/Winnipeg:20230614T103000
DTSTAMP:20260420T215340
CREATED:20230131T220833Z
LAST-MODIFIED:20230614T034520Z
UID:22464-1686736800-1686738600@www.salemhome.ca
SUMMARY:Chapel
DESCRIPTION:
URL:https://www.salemhome.ca/event/chapel-156/
CATEGORIES:Maple South
END:VEVENT
BEGIN:VEVENT
DTSTART;TZID=America/Winnipeg:20230614T103000
DTEND;TZID=America/Winnipeg:20230614T113000
DTSTAMP:20260420T215340
CREATED:20230131T220833Z
LAST-MODIFIED:20230614T034520Z
UID:22463-1686738600-1686742200@www.salemhome.ca
SUMMARY:1 on 1 Visits
DESCRIPTION:
URL:https://www.salemhome.ca/event/1-on-1-visits-25/
CATEGORIES:Maple South
END:VEVENT
BEGIN:VEVENT
DTSTART;TZID=America/Winnipeg:20230614T150000
DTEND;TZID=America/Winnipeg:20230614T160000
DTSTAMP:20260420T215340
CREATED:20230531T030016Z
LAST-MODIFIED:20230614T034520Z
UID:26893-1686754800-1686758400@www.salemhome.ca
SUMMARY:Sneaker Club
DESCRIPTION:
URL:https://www.salemhome.ca/event/sneaker-club-5/
CATEGORIES:Maple South
END:VEVENT
END:VCALENDAR