BEGIN:VCALENDAR
VERSION:2.0
PRODID:-//Salem Home - ECPv6.15.20//NONSGML v1.0//EN
CALSCALE:GREGORIAN
METHOD:PUBLISH
X-WR-CALNAME:Salem Home
X-ORIGINAL-URL:https://www.salemhome.ca
X-WR-CALDESC:Events for Salem Home
REFRESH-INTERVAL;VALUE=DURATION:PT1H
X-Robots-Tag:noindex
X-PUBLISHED-TTL:PT1H
BEGIN:VTIMEZONE
TZID:America/Winnipeg
BEGIN:DAYLIGHT
TZOFFSETFROM:-0600
TZOFFSETTO:-0500
TZNAME:CDT
DTSTART:20220313T080000
END:DAYLIGHT
BEGIN:STANDARD
TZOFFSETFROM:-0500
TZOFFSETTO:-0600
TZNAME:CST
DTSTART:20221106T070000
END:STANDARD
BEGIN:DAYLIGHT
TZOFFSETFROM:-0600
TZOFFSETTO:-0500
TZNAME:CDT
DTSTART:20230312T080000
END:DAYLIGHT
BEGIN:STANDARD
TZOFFSETFROM:-0500
TZOFFSETTO:-0600
TZNAME:CST
DTSTART:20231105T070000
END:STANDARD
BEGIN:DAYLIGHT
TZOFFSETFROM:-0600
TZOFFSETTO:-0500
TZNAME:CDT
DTSTART:20240310T080000
END:DAYLIGHT
BEGIN:STANDARD
TZOFFSETFROM:-0500
TZOFFSETTO:-0600
TZNAME:CST
DTSTART:20241103T070000
END:STANDARD
END:VTIMEZONE
BEGIN:VEVENT
DTSTART;TZID=America/Winnipeg:20230616T103000
DTEND;TZID=America/Winnipeg:20230616T113000
DTSTAMP:20260421T160310
CREATED:20230531T030016Z
LAST-MODIFIED:20230616T040011Z
UID:26896-1686911400-1686915000@www.salemhome.ca
SUMMARY:Mens BBQ Lunch
DESCRIPTION:
URL:https://www.salemhome.ca/event/mens-bbq-lunch-2/
CATEGORIES:Maple South
END:VEVENT
BEGIN:VEVENT
DTSTART;TZID=America/Winnipeg:20230616T150000
DTEND;TZID=America/Winnipeg:20230616T160000
DTSTAMP:20260421T160310
CREATED:20230531T030016Z
LAST-MODIFIED:20230616T040011Z
UID:26897-1686927600-1686931200@www.salemhome.ca
SUMMARY:Read With Me
DESCRIPTION:
URL:https://www.salemhome.ca/event/read-with-me/
CATEGORIES:Maple South
END:VEVENT
END:VCALENDAR